BEGIN:VCALENDAR
PRODID:-//WikiCFP//FedCSISExecutiveOfficer 1.0//EN
VERSION:2.0
CALSCALE:GREGORIAN
BEGIN:VEVENT
DTSTAMP:20260423T111745Z
DTSTART;VALUE=DATE:20190901
DTEND;VALUE=DATE:20190905
SUMMARY:FedCSIS 2019
DESCRIPTION:Federated Conference on Computer Science and Information Syst
 ems
URL:http://www.wikicfp.com/cfp/servlet/event.showcfp?eventid=86043&copyow
 nerid=142770
UID:cfp771899-E@wikicfp.com
END:VEVENT
BEGIN:VEVENT
DTSTAMP:20260423T111745Z
DTSTART;VALUE=DATE:20190514
SUMMARY:FedCSIS 2019 Deadline
DESCRIPTION:Federated Conference on Computer Science and Information Syst
 ems
URL:http://www.wikicfp.com/cfp/servlet/event.showcfp?eventid=86043&copyow
 nerid=142770
UID:cfp771899-D@wikicfp.com
END:VEVENT
BEGIN:VEVENT
DTSTAMP:20260423T111745Z
DTSTART;VALUE=DATE:20190626
SUMMARY:FedCSIS 2019 Notification Due
DESCRIPTION:Federated Conference on Computer Science and Information Syst
 ems
URL:http://www.wikicfp.com/cfp/servlet/event.showcfp?eventid=86043&copyow
 nerid=142770
UID:cfp771899-N@wikicfp.com
END:VEVENT
BEGIN:VEVENT
DTSTAMP:20260423T111745Z
DTSTART;VALUE=DATE:20190710
SUMMARY:FedCSIS 2019 Final Version Due
DESCRIPTION:Federated Conference on Computer Science and Information Syst
 ems
URL:http://www.wikicfp.com/cfp/servlet/event.showcfp?eventid=86043&copyow
 nerid=142770
UID:cfp771899-N@wikicfp.com
END:VEVENT
BEGIN:VEVENT
DTSTAMP:20260423T111745Z
DTSTART;VALUE=DATE:20200906
DTEND;VALUE=DATE:20200910
SUMMARY:FedCSIS 2020
DESCRIPTION:15th Conference on Computer Science and Information Systems
URL:http://www.wikicfp.com/cfp/servlet/event.showcfp?eventid=100939&copyo
 wnerid=142770
UID:cfp830478-E@wikicfp.com
END:VEVENT
BEGIN:VEVENT
DTSTAMP:20260423T111745Z
DTSTART;VALUE=DATE:20200515
SUMMARY:FedCSIS 2020 Deadline
DESCRIPTION:15th Conference on Computer Science and Information Systems
URL:http://www.wikicfp.com/cfp/servlet/event.showcfp?eventid=100939&copyo
 wnerid=142770
UID:cfp830478-D@wikicfp.com
END:VEVENT
BEGIN:VEVENT
DTSTAMP:20260423T111745Z
DTSTART;VALUE=DATE:20200630
SUMMARY:FedCSIS 2020 Notification Due
DESCRIPTION:15th Conference on Computer Science and Information Systems
URL:http://www.wikicfp.com/cfp/servlet/event.showcfp?eventid=100939&copyo
 wnerid=142770
UID:cfp830478-N@wikicfp.com
END:VEVENT
BEGIN:VEVENT
DTSTAMP:20260423T111745Z
DTSTART;VALUE=DATE:20200715
SUMMARY:FedCSIS 2020 Final Version Due
DESCRIPTION:15th Conference on Computer Science and Information Systems
URL:http://www.wikicfp.com/cfp/servlet/event.showcfp?eventid=100939&copyo
 wnerid=142770
UID:cfp830478-N@wikicfp.com
END:VEVENT
BEGIN:VEVENT
DTSTAMP:20260423T111745Z
DTSTART;VALUE=DATE:20200906
DTEND;VALUE=DATE:20200910
SUMMARY:FedCSIS - AI 2020
DESCRIPTION:FedCSIS 2020 Track 1: Artificial Intelligence (AI)
URL:http://www.wikicfp.com/cfp/servlet/event.showcfp?eventid=100940&copyo
 wnerid=142770
UID:cfp830479-E@wikicfp.com
END:VEVENT
BEGIN:VEVENT
DTSTAMP:20260423T111745Z
DTSTART;VALUE=DATE:20200515
SUMMARY:FedCSIS - AI 2020 Deadline
DESCRIPTION:FedCSIS 2020 Track 1: Artificial Intelligence (AI)
URL:http://www.wikicfp.com/cfp/servlet/event.showcfp?eventid=100940&copyo
 wnerid=142770
UID:cfp830479-D@wikicfp.com
END:VEVENT
BEGIN:VEVENT
DTSTAMP:20260423T111745Z
DTSTART;VALUE=DATE:20190630
SUMMARY:FedCSIS - AI 2020 Notification Due
DESCRIPTION:FedCSIS 2020 Track 1: Artificial Intelligence (AI)
URL:http://www.wikicfp.com/cfp/servlet/event.showcfp?eventid=100940&copyo
 wnerid=142770
UID:cfp830479-N@wikicfp.com
END:VEVENT
BEGIN:VEVENT
DTSTAMP:20260423T111745Z
DTSTART;VALUE=DATE:20200715
SUMMARY:FedCSIS - AI 2020 Final Version Due
DESCRIPTION:FedCSIS 2020 Track 1: Artificial Intelligence (AI)
URL:http://www.wikicfp.com/cfp/servlet/event.showcfp?eventid=100940&copyo
 wnerid=142770
UID:cfp830479-N@wikicfp.com
END:VEVENT
BEGIN:VEVENT
DTSTAMP:20260423T111745Z
DTSTART;VALUE=DATE:20200906
DTEND;VALUE=DATE:20200910
SUMMARY:FedCSIS - CSS 2020
DESCRIPTION:FedCSIS 2020 Track 2: Computer Science and Systems (CSS)
URL:http://www.wikicfp.com/cfp/servlet/event.showcfp?eventid=100942&copyo
 wnerid=142770
UID:cfp830481-E@wikicfp.com
END:VEVENT
BEGIN:VEVENT
DTSTAMP:20260423T111745Z
DTSTART;VALUE=DATE:20200515
SUMMARY:FedCSIS - CSS 2020 Deadline
DESCRIPTION:FedCSIS 2020 Track 2: Computer Science and Systems (CSS)
URL:http://www.wikicfp.com/cfp/servlet/event.showcfp?eventid=100942&copyo
 wnerid=142770
UID:cfp830481-D@wikicfp.com
END:VEVENT
BEGIN:VEVENT
DTSTAMP:20260423T111745Z
DTSTART;VALUE=DATE:20200630
SUMMARY:FedCSIS - CSS 2020 Notification Due
DESCRIPTION:FedCSIS 2020 Track 2: Computer Science and Systems (CSS)
URL:http://www.wikicfp.com/cfp/servlet/event.showcfp?eventid=100942&copyo
 wnerid=142770
UID:cfp830481-N@wikicfp.com
END:VEVENT
BEGIN:VEVENT
DTSTAMP:20260423T111745Z
DTSTART;VALUE=DATE:20200715
SUMMARY:FedCSIS - CSS 2020 Final Version Due
DESCRIPTION:FedCSIS 2020 Track 2: Computer Science and Systems (CSS)
URL:http://www.wikicfp.com/cfp/servlet/event.showcfp?eventid=100942&copyo
 wnerid=142770
UID:cfp830481-N@wikicfp.com
END:VEVENT
BEGIN:VEVENT
DTSTAMP:20260423T111745Z
DTSTART;VALUE=DATE:20200906
DTEND;VALUE=DATE:20200910
SUMMARY:FedCSIS - NSA 2020
DESCRIPTION:FedCSIS 2020 Track 3: Network Systems and Applications (NSA)
URL:http://www.wikicfp.com/cfp/servlet/event.showcfp?eventid=101862&copyo
 wnerid=142770
UID:cfp832273-E@wikicfp.com
END:VEVENT
BEGIN:VEVENT
DTSTAMP:20260423T111745Z
DTSTART;VALUE=DATE:20200515
SUMMARY:FedCSIS - NSA 2020 Deadline
DESCRIPTION:FedCSIS 2020 Track 3: Network Systems and Applications (NSA)
URL:http://www.wikicfp.com/cfp/servlet/event.showcfp?eventid=101862&copyo
 wnerid=142770
UID:cfp832273-D@wikicfp.com
END:VEVENT
BEGIN:VEVENT
DTSTAMP:20260423T111745Z
DTSTART;VALUE=DATE:20200630
SUMMARY:FedCSIS - NSA 2020 Notification Due
DESCRIPTION:FedCSIS 2020 Track 3: Network Systems and Applications (NSA)
URL:http://www.wikicfp.com/cfp/servlet/event.showcfp?eventid=101862&copyo
 wnerid=142770
UID:cfp832273-N@wikicfp.com
END:VEVENT
BEGIN:VEVENT
DTSTAMP:20260423T111745Z
DTSTART;VALUE=DATE:20200715
SUMMARY:FedCSIS - NSA 2020 Final Version Due
DESCRIPTION:FedCSIS 2020 Track 3: Network Systems and Applications (NSA)
URL:http://www.wikicfp.com/cfp/servlet/event.showcfp?eventid=101862&copyo
 wnerid=142770
UID:cfp832273-N@wikicfp.com
END:VEVENT
BEGIN:VEVENT
DTSTAMP:20260423T111745Z
DTSTART;VALUE=DATE:20200906
DTEND;VALUE=DATE:20200910
SUMMARY:FedCSIS - IST 2020
DESCRIPTION:FedCSIS 2020 Track 4: Information Systems and Technologies (I
 ST)
URL:http://www.wikicfp.com/cfp/servlet/event.showcfp?eventid=101863&copyo
 wnerid=142770
UID:cfp832274-E@wikicfp.com
END:VEVENT
BEGIN:VEVENT
DTSTAMP:20260423T111745Z
DTSTART;VALUE=DATE:20200515
SUMMARY:FedCSIS - IST 2020 Deadline
DESCRIPTION:FedCSIS 2020 Track 4: Information Systems and Technologies (I
 ST)
URL:http://www.wikicfp.com/cfp/servlet/event.showcfp?eventid=101863&copyo
 wnerid=142770
UID:cfp832274-D@wikicfp.com
END:VEVENT
BEGIN:VEVENT
DTSTAMP:20260423T111745Z
DTSTART;VALUE=DATE:20200630
SUMMARY:FedCSIS - IST 2020 Notification Due
DESCRIPTION:FedCSIS 2020 Track 4: Information Systems and Technologies (I
 ST)
URL:http://www.wikicfp.com/cfp/servlet/event.showcfp?eventid=101863&copyo
 wnerid=142770
UID:cfp832274-N@wikicfp.com
END:VEVENT
BEGIN:VEVENT
DTSTAMP:20260423T111745Z
DTSTART;VALUE=DATE:20200715
SUMMARY:FedCSIS - IST 2020 Final Version Due
DESCRIPTION:FedCSIS 2020 Track 4: Information Systems and Technologies (I
 ST)
URL:http://www.wikicfp.com/cfp/servlet/event.showcfp?eventid=101863&copyo
 wnerid=142770
UID:cfp832274-N@wikicfp.com
END:VEVENT
END:VCALENDAR
