BEGIN:VCALENDAR
PRODID:-//WikiCFP//suganya 1.0//EN
VERSION:2.0
CALSCALE:GREGORIAN
BEGIN:VEVENT
DTSTAMP:20260424T095518Z
DTSTART;VALUE=DATE:20110522
DTEND;VALUE=DATE:20110528
SUMMARY:BIOTECHNO 2011
DESCRIPTION:The Third International Conference on Bioinformatics\, Biocom
 putational Systems and Biotechnologies
URL:http://www.wikicfp.com/cfp/servlet/event.showcfp?eventid=10817&copyow
 nerid=14200
UID:cfp99248-E@wikicfp.com
END:VEVENT
BEGIN:VEVENT
DTSTAMP:20260424T095518Z
DTSTART;VALUE=DATE:20110125
SUMMARY:BIOTECHNO 2011 Deadline
DESCRIPTION:The Third International Conference on Bioinformatics\, Biocom
 putational Systems and Biotechnologies
URL:http://www.wikicfp.com/cfp/servlet/event.showcfp?eventid=10817&copyow
 nerid=14200
UID:cfp99248-D@wikicfp.com
END:VEVENT
BEGIN:VEVENT
DTSTAMP:20260424T095518Z
DTSTART;VALUE=DATE:20110220
SUMMARY:BIOTECHNO 2011 Notification Due
DESCRIPTION:The Third International Conference on Bioinformatics\, Biocom
 putational Systems and Biotechnologies
URL:http://www.wikicfp.com/cfp/servlet/event.showcfp?eventid=10817&copyow
 nerid=14200
UID:cfp99248-N@wikicfp.com
END:VEVENT
BEGIN:VEVENT
DTSTAMP:20260424T095518Z
DTSTART;VALUE=DATE:20110320
SUMMARY:BIOTECHNO 2011 Final Version Due
DESCRIPTION:The Third International Conference on Bioinformatics\, Biocom
 putational Systems and Biotechnologies
URL:http://www.wikicfp.com/cfp/servlet/event.showcfp?eventid=10817&copyow
 nerid=14200
UID:cfp99248-N@wikicfp.com
END:VEVENT
END:VCALENDAR
