BEGIN:VCALENDAR
PRODID:-//WikiCFP//lovelyegg 1.0//EN
VERSION:2.0
CALSCALE:GREGORIAN
BEGIN:VEVENT
DTSTAMP:20260424T101401Z
DTSTART;VALUE=DATE:20110605
DTEND;VALUE=DATE:20110610
SUMMARY:IV 2011
DESCRIPTION:IEEE Intelligent Vehicles Symposium
URL:http://www.wikicfp.com/cfp/servlet/event.showcfp?eventid=10383&copyow
 nerid=13984
UID:cfp98055-E@wikicfp.com
END:VEVENT
BEGIN:VEVENT
DTSTAMP:20260424T101401Z
DTSTART;VALUE=DATE:20110130
SUMMARY:IV 2011 Deadline
DESCRIPTION:IEEE Intelligent Vehicles Symposium
URL:http://www.wikicfp.com/cfp/servlet/event.showcfp?eventid=10383&copyow
 nerid=13984
UID:cfp98055-D@wikicfp.com
END:VEVENT
BEGIN:VEVENT
DTSTAMP:20260424T101401Z
DTSTART;VALUE=DATE:20110326
SUMMARY:IV 2011 Notification Due
DESCRIPTION:IEEE Intelligent Vehicles Symposium
URL:http://www.wikicfp.com/cfp/servlet/event.showcfp?eventid=10383&copyow
 nerid=13984
UID:cfp98055-N@wikicfp.com
END:VEVENT
BEGIN:VEVENT
DTSTAMP:20260424T101401Z
DTSTART;VALUE=DATE:20110425
SUMMARY:IV 2011 Final Version Due
DESCRIPTION:IEEE Intelligent Vehicles Symposium
URL:http://www.wikicfp.com/cfp/servlet/event.showcfp?eventid=10383&copyow
 nerid=13984
UID:cfp98055-N@wikicfp.com
END:VEVENT
BEGIN:VEVENT
DTSTAMP:20260424T101401Z
DTSTART;VALUE=DATE:20111211
DTEND;VALUE=DATE:20111216
SUMMARY:ASRU 2011
DESCRIPTION:IEEE Workshop on Automatic Speech Recognition & Understanding
 
URL:http://www.wikicfp.com/cfp/servlet/event.showcfp?eventid=10379&copyow
 nerid=13984
UID:cfp98056-E@wikicfp.com
END:VEVENT
BEGIN:VEVENT
DTSTAMP:20260424T101401Z
DTSTART;VALUE=DATE:20110701
SUMMARY:ASRU 2011 Deadline
DESCRIPTION:IEEE Workshop on Automatic Speech Recognition & Understanding
 
URL:http://www.wikicfp.com/cfp/servlet/event.showcfp?eventid=10379&copyow
 nerid=13984
UID:cfp98056-D@wikicfp.com
END:VEVENT
BEGIN:VEVENT
DTSTAMP:20260424T101401Z
DTSTART;VALUE=DATE:20110801
SUMMARY:ASRU 2011 Notification Due
DESCRIPTION:IEEE Workshop on Automatic Speech Recognition & Understanding
 
URL:http://www.wikicfp.com/cfp/servlet/event.showcfp?eventid=10379&copyow
 nerid=13984
UID:cfp98056-N@wikicfp.com
END:VEVENT
BEGIN:VEVENT
DTSTAMP:20260424T101401Z
DTSTART;VALUE=DATE:20110901
SUMMARY:ASRU 2011 Final Version Due
DESCRIPTION:IEEE Workshop on Automatic Speech Recognition & Understanding
 
URL:http://www.wikicfp.com/cfp/servlet/event.showcfp?eventid=10379&copyow
 nerid=13984
UID:cfp98056-N@wikicfp.com
END:VEVENT
END:VCALENDAR
