BEGIN:VCALENDAR
PRODID:-//WikiCFP//pbour 1.0//EN
VERSION:2.0
CALSCALE:GREGORIAN
BEGIN:VEVENT
DTSTAMP:20260421T030022Z
DTSTART;VALUE=DATE:20190819
DTEND;VALUE=DATE:20190822
SUMMARY:SSTD 2019
DESCRIPTION:16th International Symposium on Spatial and Temporal Database
 s
URL:http://www.wikicfp.com/cfp/servlet/event.showcfp?eventid=84379&copyow
 nerid=138562
UID:cfp763316-E@wikicfp.com
END:VEVENT
BEGIN:VEVENT
DTSTAMP:20260421T030022Z
DTSTART;VALUE=DATE:20190405
SUMMARY:SSTD 2019 Deadline
DESCRIPTION:16th International Symposium on Spatial and Temporal Database
 s
URL:http://www.wikicfp.com/cfp/servlet/event.showcfp?eventid=84379&copyow
 nerid=138562
UID:cfp763316-D@wikicfp.com
END:VEVENT
BEGIN:VEVENT
DTSTAMP:20260421T030022Z
DTSTART;VALUE=DATE:20190610
SUMMARY:SSTD 2019 Notification Due
DESCRIPTION:16th International Symposium on Spatial and Temporal Database
 s
URL:http://www.wikicfp.com/cfp/servlet/event.showcfp?eventid=84379&copyow
 nerid=138562
UID:cfp763316-N@wikicfp.com
END:VEVENT
BEGIN:VEVENT
DTSTAMP:20260421T030022Z
DTSTART;VALUE=DATE:20190701
SUMMARY:SSTD 2019 Final Version Due
DESCRIPTION:16th International Symposium on Spatial and Temporal Database
 s
URL:http://www.wikicfp.com/cfp/servlet/event.showcfp?eventid=84379&copyow
 nerid=138562
UID:cfp763316-N@wikicfp.com
END:VEVENT
BEGIN:VEVENT
DTSTAMP:20260421T030022Z
DTSTART;VALUE=DATE:20191126
DTEND;VALUE=DATE:20191201
SUMMARY:WISE 2019
DESCRIPTION:The 20th International Conference on Web Information Systems 
 Engineering
URL:http://www.wikicfp.com/cfp/servlet/event.showcfp?eventid=88181&copyow
 nerid=138562
UID:cfp780548-E@wikicfp.com
END:VEVENT
BEGIN:VEVENT
DTSTAMP:20260421T030022Z
DTSTART;VALUE=DATE:20190615
SUMMARY:WISE 2019 Deadline
DESCRIPTION:The 20th International Conference on Web Information Systems 
 Engineering
URL:http://www.wikicfp.com/cfp/servlet/event.showcfp?eventid=88181&copyow
 nerid=138562
UID:cfp780548-D@wikicfp.com
END:VEVENT
END:VCALENDAR
