BEGIN:VCALENDAR
PRODID:-//WikiCFP//klopfent 1.0//EN
VERSION:2.0
CALSCALE:GREGORIAN
BEGIN:VEVENT
DTSTAMP:20260423T051535Z
DTSTART;VALUE=DATE:20190714
DTEND;VALUE=DATE:20190718
SUMMARY:CPSComECSS 2019
DESCRIPTION:12th IEEE International Conference on Cyber\, Physical and So
 cial Computing\, special session of Edge Computing and Storage Systems
URL:http://www.wikicfp.com/cfp/servlet/event.showcfp?eventid=82534&copyow
 nerid=138414
UID:cfp763052-E@wikicfp.com
END:VEVENT
BEGIN:VEVENT
DTSTAMP:20260423T051535Z
DTSTART;VALUE=DATE:20190201
SUMMARY:CPSComECSS 2019 Deadline
DESCRIPTION:12th IEEE International Conference on Cyber\, Physical and So
 cial Computing\, special session of Edge Computing and Storage Systems
URL:http://www.wikicfp.com/cfp/servlet/event.showcfp?eventid=82534&copyow
 nerid=138414
UID:cfp763052-D@wikicfp.com
END:VEVENT
BEGIN:VEVENT
DTSTAMP:20260423T051535Z
DTSTART;VALUE=DATE:20190401
SUMMARY:CPSComECSS 2019 Notification Due
DESCRIPTION:12th IEEE International Conference on Cyber\, Physical and So
 cial Computing\, special session of Edge Computing and Storage Systems
URL:http://www.wikicfp.com/cfp/servlet/event.showcfp?eventid=82534&copyow
 nerid=138414
UID:cfp763052-N@wikicfp.com
END:VEVENT
BEGIN:VEVENT
DTSTAMP:20260423T051535Z
DTSTART;VALUE=DATE:20190601
SUMMARY:CPSComECSS 2019 Final Version Due
DESCRIPTION:12th IEEE International Conference on Cyber\, Physical and So
 cial Computing\, special session of Edge Computing and Storage Systems
URL:http://www.wikicfp.com/cfp/servlet/event.showcfp?eventid=82534&copyow
 nerid=138414
UID:cfp763052-N@wikicfp.com
END:VEVENT
BEGIN:VEVENT
DTSTAMP:20260423T051535Z
DTSTART;VALUE=DATE:20190524
DTEND;VALUE=DATE:20190525
SUMMARY:MPP 2019
DESCRIPTION:8th Workshop on Parallel Programming Models - Special Edition
  on IoT and Machine Learning
URL:http://www.wikicfp.com/cfp/servlet/event.showcfp?eventid=82809&copyow
 nerid=138414
UID:cfp763050-E@wikicfp.com
END:VEVENT
BEGIN:VEVENT
DTSTAMP:20260423T051535Z
DTSTART;VALUE=DATE:20190204
SUMMARY:MPP 2019 Deadline
DESCRIPTION:8th Workshop on Parallel Programming Models - Special Edition
  on IoT and Machine Learning
URL:http://www.wikicfp.com/cfp/servlet/event.showcfp?eventid=82809&copyow
 nerid=138414
UID:cfp763050-D@wikicfp.com
END:VEVENT
BEGIN:VEVENT
DTSTAMP:20260423T051535Z
DTSTART;VALUE=DATE:20190225
SUMMARY:MPP 2019 Notification Due
DESCRIPTION:8th Workshop on Parallel Programming Models - Special Edition
  on IoT and Machine Learning
URL:http://www.wikicfp.com/cfp/servlet/event.showcfp?eventid=82809&copyow
 nerid=138414
UID:cfp763050-N@wikicfp.com
END:VEVENT
BEGIN:VEVENT
DTSTAMP:20260423T051535Z
DTSTART;VALUE=DATE:20190315
SUMMARY:MPP 2019 Final Version Due
DESCRIPTION:8th Workshop on Parallel Programming Models - Special Edition
  on IoT and Machine Learning
URL:http://www.wikicfp.com/cfp/servlet/event.showcfp?eventid=82809&copyow
 nerid=138414
UID:cfp763050-N@wikicfp.com
END:VEVENT
BEGIN:VEVENT
DTSTAMP:20260423T051535Z
DTSTART;VALUE=DATE:20190621
DTEND;VALUE=DATE:20190624
SUMMARY:IEEE EdgeCom 2019
DESCRIPTION:The 5th IEEE International Conference on Edge Computing and S
 calable Cloud
URL:http://www.wikicfp.com/cfp/servlet/event.showcfp?eventid=83732&copyow
 nerid=138414
UID:cfp763051-E@wikicfp.com
END:VEVENT
BEGIN:VEVENT
DTSTAMP:20260423T051535Z
DTSTART;VALUE=DATE:20190215
SUMMARY:IEEE EdgeCom 2019 Deadline
DESCRIPTION:The 5th IEEE International Conference on Edge Computing and S
 calable Cloud
URL:http://www.wikicfp.com/cfp/servlet/event.showcfp?eventid=83732&copyow
 nerid=138414
UID:cfp763051-D@wikicfp.com
END:VEVENT
BEGIN:VEVENT
DTSTAMP:20260423T051535Z
DTSTART;VALUE=DATE:20190415
SUMMARY:IEEE EdgeCom 2019 Notification Due
DESCRIPTION:The 5th IEEE International Conference on Edge Computing and S
 calable Cloud
URL:http://www.wikicfp.com/cfp/servlet/event.showcfp?eventid=83732&copyow
 nerid=138414
UID:cfp763051-N@wikicfp.com
END:VEVENT
BEGIN:VEVENT
DTSTAMP:20260423T051535Z
DTSTART;VALUE=DATE:20190515
SUMMARY:IEEE EdgeCom 2019 Final Version Due
DESCRIPTION:The 5th IEEE International Conference on Edge Computing and S
 calable Cloud
URL:http://www.wikicfp.com/cfp/servlet/event.showcfp?eventid=83732&copyow
 nerid=138414
UID:cfp763051-N@wikicfp.com
END:VEVENT
BEGIN:VEVENT
DTSTAMP:20260423T051535Z
DTSTART;VALUE=DATE:20190826
DTEND;VALUE=DATE:20190829
SUMMARY:FiCloud  2019
DESCRIPTION:The 7th International Conference on Future Internet of Things
  and Cloud
URL:http://www.wikicfp.com/cfp/servlet/event.showcfp?eventid=83207&copyow
 nerid=138414
UID:cfp763047-E@wikicfp.com
END:VEVENT
BEGIN:VEVENT
DTSTAMP:20260423T051535Z
DTSTART;VALUE=DATE:20190311
SUMMARY:FiCloud  2019 Deadline
DESCRIPTION:The 7th International Conference on Future Internet of Things
  and Cloud
URL:http://www.wikicfp.com/cfp/servlet/event.showcfp?eventid=83207&copyow
 nerid=138414
UID:cfp763047-D@wikicfp.com
END:VEVENT
BEGIN:VEVENT
DTSTAMP:20260423T051535Z
DTSTART;VALUE=DATE:20190520
SUMMARY:FiCloud  2019 Notification Due
DESCRIPTION:The 7th International Conference on Future Internet of Things
  and Cloud
URL:http://www.wikicfp.com/cfp/servlet/event.showcfp?eventid=83207&copyow
 nerid=138414
UID:cfp763047-N@wikicfp.com
END:VEVENT
BEGIN:VEVENT
DTSTAMP:20260423T051535Z
DTSTART;VALUE=DATE:20190614
SUMMARY:FiCloud  2019 Final Version Due
DESCRIPTION:The 7th International Conference on Future Internet of Things
  and Cloud
URL:http://www.wikicfp.com/cfp/servlet/event.showcfp?eventid=83207&copyow
 nerid=138414
UID:cfp763047-N@wikicfp.com
END:VEVENT
BEGIN:VEVENT
DTSTAMP:20260423T051535Z
DTSTART;VALUE=DATE:20190709
DTEND;VALUE=DATE:20190710
SUMMARY:HotEdge 2019
DESCRIPTION:The 2nd USENIX Workshop on Hot Topics in Edge Computing
URL:http://www.wikicfp.com/cfp/servlet/event.showcfp?eventid=83374&copyow
 nerid=138414
UID:cfp763054-E@wikicfp.com
END:VEVENT
BEGIN:VEVENT
DTSTAMP:20260423T051535Z
DTSTART;VALUE=DATE:20190314
SUMMARY:HotEdge 2019 Deadline
DESCRIPTION:The 2nd USENIX Workshop on Hot Topics in Edge Computing
URL:http://www.wikicfp.com/cfp/servlet/event.showcfp?eventid=83374&copyow
 nerid=138414
UID:cfp763054-D@wikicfp.com
END:VEVENT
BEGIN:VEVENT
DTSTAMP:20260423T051535Z
DTSTART;VALUE=DATE:20190417
SUMMARY:HotEdge 2019 Notification Due
DESCRIPTION:The 2nd USENIX Workshop on Hot Topics in Edge Computing
URL:http://www.wikicfp.com/cfp/servlet/event.showcfp?eventid=83374&copyow
 nerid=138414
UID:cfp763054-N@wikicfp.com
END:VEVENT
BEGIN:VEVENT
DTSTAMP:20260423T051535Z
DTSTART;VALUE=DATE:20190522
SUMMARY:HotEdge 2019 Final Version Due
DESCRIPTION:The 2nd USENIX Workshop on Hot Topics in Edge Computing
URL:http://www.wikicfp.com/cfp/servlet/event.showcfp?eventid=83374&copyow
 nerid=138414
UID:cfp763054-N@wikicfp.com
END:VEVENT
BEGIN:VEVENT
DTSTAMP:20260423T051535Z
DTSTART;VALUE=DATE:20190714
DTEND;VALUE=DATE:20190718
SUMMARY:iThings 2019
DESCRIPTION:2019 IEEE International Conference on Internet of Things
URL:http://www.wikicfp.com/cfp/servlet/event.showcfp?eventid=82649&copyow
 nerid=138414
UID:cfp763049-E@wikicfp.com
END:VEVENT
BEGIN:VEVENT
DTSTAMP:20260423T051535Z
DTSTART;VALUE=DATE:20190315
SUMMARY:iThings 2019 Deadline
DESCRIPTION:2019 IEEE International Conference on Internet of Things
URL:http://www.wikicfp.com/cfp/servlet/event.showcfp?eventid=82649&copyow
 nerid=138414
UID:cfp763049-D@wikicfp.com
END:VEVENT
BEGIN:VEVENT
DTSTAMP:20260423T051535Z
DTSTART;VALUE=DATE:20190415
SUMMARY:iThings 2019 Notification Due
DESCRIPTION:2019 IEEE International Conference on Internet of Things
URL:http://www.wikicfp.com/cfp/servlet/event.showcfp?eventid=82649&copyow
 nerid=138414
UID:cfp763049-N@wikicfp.com
END:VEVENT
BEGIN:VEVENT
DTSTAMP:20260423T051535Z
DTSTART;VALUE=DATE:20190515
SUMMARY:iThings 2019 Final Version Due
DESCRIPTION:2019 IEEE International Conference on Internet of Things
URL:http://www.wikicfp.com/cfp/servlet/event.showcfp?eventid=82649&copyow
 nerid=138414
UID:cfp763049-N@wikicfp.com
END:VEVENT
BEGIN:VEVENT
DTSTAMP:20260423T051535Z
DTSTART;VALUE=DATE:20190801
DTEND;VALUE=DATE:20190802
SUMMARY:ECN 2019
DESCRIPTION:The 2nd Workshop on Edge Computing and Networking 
URL:http://www.wikicfp.com/cfp/servlet/event.showcfp?eventid=85050&copyow
 nerid=138414
UID:cfp768518-E@wikicfp.com
END:VEVENT
BEGIN:VEVENT
DTSTAMP:20260423T051535Z
DTSTART;VALUE=DATE:20190331
SUMMARY:ECN 2019 Deadline
DESCRIPTION:The 2nd Workshop on Edge Computing and Networking 
URL:http://www.wikicfp.com/cfp/servlet/event.showcfp?eventid=85050&copyow
 nerid=138414
UID:cfp768518-D@wikicfp.com
END:VEVENT
BEGIN:VEVENT
DTSTAMP:20260423T051535Z
DTSTART;VALUE=DATE:20190428
SUMMARY:ECN 2019 Notification Due
DESCRIPTION:The 2nd Workshop on Edge Computing and Networking 
URL:http://www.wikicfp.com/cfp/servlet/event.showcfp?eventid=85050&copyow
 nerid=138414
UID:cfp768518-N@wikicfp.com
END:VEVENT
BEGIN:VEVENT
DTSTAMP:20260423T051535Z
DTSTART;VALUE=DATE:20190510
SUMMARY:ECN 2019 Final Version Due
DESCRIPTION:The 2nd Workshop on Edge Computing and Networking 
URL:http://www.wikicfp.com/cfp/servlet/event.showcfp?eventid=85050&copyow
 nerid=138414
UID:cfp768518-N@wikicfp.com
END:VEVENT
BEGIN:VEVENT
DTSTAMP:20260423T051535Z
DTSTART;VALUE=DATE:20190515
SUMMARY:RaFEC_IoT 2019 Deadline
DESCRIPTION:Special Issue: Recent Advances in Fog/Edge Computing in Inter
 net of Things (MDPI Sensors)
URL:http://www.wikicfp.com/cfp/servlet/event.showcfp?eventid=79060&copyow
 nerid=138414
UID:cfp763053-D@wikicfp.com
END:VEVENT
BEGIN:VEVENT
DTSTAMP:20260423T051535Z
DTSTART;VALUE=DATE:20200417
DTEND;VALUE=DATE:20200420
SUMMARY:IWUAS 2020 2020
DESCRIPTION:2020 International Workshop on Unmanned Aircraft Systems (IWU
 AS 2020)
URL:http://www.wikicfp.com/cfp/servlet/event.showcfp?eventid=70040&copyow
 nerid=138414
UID:cfp763048-E@wikicfp.com
END:VEVENT
BEGIN:VEVENT
DTSTAMP:20260423T051535Z
DTSTART;VALUE=DATE:20191231
SUMMARY:IWUAS 2020 2020 Deadline
DESCRIPTION:2020 International Workshop on Unmanned Aircraft Systems (IWU
 AS 2020)
URL:http://www.wikicfp.com/cfp/servlet/event.showcfp?eventid=70040&copyow
 nerid=138414
UID:cfp763048-D@wikicfp.com
END:VEVENT
BEGIN:VEVENT
DTSTAMP:20260423T051535Z
DTSTART;VALUE=DATE:20200220
SUMMARY:IWUAS 2020 2020 Notification Due
DESCRIPTION:2020 International Workshop on Unmanned Aircraft Systems (IWU
 AS 2020)
URL:http://www.wikicfp.com/cfp/servlet/event.showcfp?eventid=70040&copyow
 nerid=138414
UID:cfp763048-N@wikicfp.com
END:VEVENT
BEGIN:VEVENT
DTSTAMP:20260423T051535Z
DTSTART;VALUE=DATE:20200220
SUMMARY:IWUAS 2020 2020 Final Version Due
DESCRIPTION:2020 International Workshop on Unmanned Aircraft Systems (IWU
 AS 2020)
URL:http://www.wikicfp.com/cfp/servlet/event.showcfp?eventid=70040&copyow
 nerid=138414
UID:cfp763048-N@wikicfp.com
END:VEVENT
END:VCALENDAR
