BEGIN:VCALENDAR
PRODID:-//WikiCFP//jyothirmaye 1.0//EN
VERSION:2.0
CALSCALE:GREGORIAN
BEGIN:VEVENT
DTSTAMP:20260424T021627Z
DTSTART;VALUE=DATE:20110811
DTEND;VALUE=DATE:20110815
SUMMARY:ICIP 2011
DESCRIPTION:Sharpness Enhancement and Noise Removal using Adaptive Bilate
 ral Filter
URL:http://www.wikicfp.com/cfp/servlet/event.showcfp?eventid=12635&copyow
 nerid=13792
UID:cfp127025-E@wikicfp.com
END:VEVENT
BEGIN:VEVENT
DTSTAMP:20260424T021627Z
DTSTART;VALUE=DATE:20110114
SUMMARY:ICIP 2011 Deadline
DESCRIPTION:Sharpness Enhancement and Noise Removal using Adaptive Bilate
 ral Filter
URL:http://www.wikicfp.com/cfp/servlet/event.showcfp?eventid=12635&copyow
 nerid=13792
UID:cfp127025-D@wikicfp.com
END:VEVENT
BEGIN:VEVENT
DTSTAMP:20260424T021627Z
DTSTART;VALUE=DATE:20110415
SUMMARY:ICIP 2011 Notification Due
DESCRIPTION:Sharpness Enhancement and Noise Removal using Adaptive Bilate
 ral Filter
URL:http://www.wikicfp.com/cfp/servlet/event.showcfp?eventid=12635&copyow
 nerid=13792
UID:cfp127025-N@wikicfp.com
END:VEVENT
BEGIN:VEVENT
DTSTAMP:20260424T021627Z
DTSTART;VALUE=DATE:20110506
SUMMARY:ICIP 2011 Final Version Due
DESCRIPTION:Sharpness Enhancement and Noise Removal using Adaptive Bilate
 ral Filter
URL:http://www.wikicfp.com/cfp/servlet/event.showcfp?eventid=12635&copyow
 nerid=13792
UID:cfp127025-N@wikicfp.com
END:VEVENT
BEGIN:VEVENT
DTSTAMP:20260424T021627Z
DTSTART;VALUE=DATE:20110616
DTEND;VALUE=DATE:20110619
SUMMARY:IWSSIP 2011
DESCRIPTION:International Conference on Systems\, Signals and Image Proce
 ssing
URL:http://www.wikicfp.com/cfp/servlet/event.showcfp?eventid=12649&copyow
 nerid=13792
UID:cfp127132-E@wikicfp.com
END:VEVENT
BEGIN:VEVENT
DTSTAMP:20260424T021627Z
DTSTART;VALUE=DATE:20110207
SUMMARY:IWSSIP 2011 Deadline
DESCRIPTION:International Conference on Systems\, Signals and Image Proce
 ssing
URL:http://www.wikicfp.com/cfp/servlet/event.showcfp?eventid=12649&copyow
 nerid=13792
UID:cfp127132-D@wikicfp.com
END:VEVENT
BEGIN:VEVENT
DTSTAMP:20260424T021627Z
DTSTART;VALUE=DATE:20110314
SUMMARY:IWSSIP 2011 Notification Due
DESCRIPTION:International Conference on Systems\, Signals and Image Proce
 ssing
URL:http://www.wikicfp.com/cfp/servlet/event.showcfp?eventid=12649&copyow
 nerid=13792
UID:cfp127132-N@wikicfp.com
END:VEVENT
BEGIN:VEVENT
DTSTAMP:20260424T021627Z
DTSTART;VALUE=DATE:20110405
SUMMARY:IWSSIP 2011 Final Version Due
DESCRIPTION:International Conference on Systems\, Signals and Image Proce
 ssing
URL:http://www.wikicfp.com/cfp/servlet/event.showcfp?eventid=12649&copyow
 nerid=13792
UID:cfp127132-N@wikicfp.com
END:VEVENT
BEGIN:VEVENT
DTSTAMP:20260424T021627Z
DTSTART;VALUE=DATE:20110718
DTEND;VALUE=DATE:20110721
SUMMARY:ADHOC-NOW 2011
DESCRIPTION:International Conference on Ad Hoc Networks and Wireless
URL:http://www.wikicfp.com/cfp/servlet/event.showcfp?eventid=11005&copyow
 nerid=13792
UID:cfp101736-E@wikicfp.com
END:VEVENT
BEGIN:VEVENT
DTSTAMP:20260424T021627Z
DTSTART;VALUE=DATE:20110331
SUMMARY:ADHOC-NOW 2011 Deadline
DESCRIPTION:International Conference on Ad Hoc Networks and Wireless
URL:http://www.wikicfp.com/cfp/servlet/event.showcfp?eventid=11005&copyow
 nerid=13792
UID:cfp101736-D@wikicfp.com
END:VEVENT
BEGIN:VEVENT
DTSTAMP:20260424T021627Z
DTSTART;VALUE=DATE:20110429
SUMMARY:ADHOC-NOW 2011 Notification Due
DESCRIPTION:International Conference on Ad Hoc Networks and Wireless
URL:http://www.wikicfp.com/cfp/servlet/event.showcfp?eventid=11005&copyow
 nerid=13792
UID:cfp101736-N@wikicfp.com
END:VEVENT
BEGIN:VEVENT
DTSTAMP:20260424T021627Z
DTSTART;VALUE=DATE:20110513
SUMMARY:ADHOC-NOW 2011 Final Version Due
DESCRIPTION:International Conference on Ad Hoc Networks and Wireless
URL:http://www.wikicfp.com/cfp/servlet/event.showcfp?eventid=11005&copyow
 nerid=13792
UID:cfp101736-N@wikicfp.com
END:VEVENT
END:VCALENDAR
