BEGIN:VCALENDAR
PRODID:-//WikiCFP//AyhanMehmed 1.0//EN
VERSION:2.0
CALSCALE:GREGORIAN
BEGIN:VEVENT
DTSTAMP:20260422T232013Z
DTSTART;VALUE=DATE:20181204
DTEND;VALUE=DATE:20181209
SUMMARY:PRDC 2018
DESCRIPTION:The 23rd IEEE Pacific Rim International Symposium on Dependab
 le Computing
URL:http://www.wikicfp.com/cfp/servlet/event.showcfp?eventid=72004&copyow
 nerid=137775
UID:cfp762438-E@wikicfp.com
END:VEVENT
BEGIN:VEVENT
DTSTAMP:20260422T232013Z
DTSTART;VALUE=DATE:20180715
SUMMARY:PRDC 2018 Deadline
DESCRIPTION:The 23rd IEEE Pacific Rim International Symposium on Dependab
 le Computing
URL:http://www.wikicfp.com/cfp/servlet/event.showcfp?eventid=72004&copyow
 nerid=137775
UID:cfp762438-D@wikicfp.com
END:VEVENT
BEGIN:VEVENT
DTSTAMP:20260422T232013Z
DTSTART;VALUE=DATE:20180831
SUMMARY:PRDC 2018 Notification Due
DESCRIPTION:The 23rd IEEE Pacific Rim International Symposium on Dependab
 le Computing
URL:http://www.wikicfp.com/cfp/servlet/event.showcfp?eventid=72004&copyow
 nerid=137775
UID:cfp762438-N@wikicfp.com
END:VEVENT
BEGIN:VEVENT
DTSTAMP:20260422T232013Z
DTSTART;VALUE=DATE:20181015
SUMMARY:PRDC 2018 Final Version Due
DESCRIPTION:The 23rd IEEE Pacific Rim International Symposium on Dependab
 le Computing
URL:http://www.wikicfp.com/cfp/servlet/event.showcfp?eventid=72004&copyow
 nerid=137775
UID:cfp762438-N@wikicfp.com
END:VEVENT
BEGIN:VEVENT
DTSTAMP:20260422T232013Z
DTSTART;VALUE=DATE:20190624
DTEND;VALUE=DATE:20190628
SUMMARY:DSN 2019
DESCRIPTION:Dependable Systems and Networks
URL:http://www.wikicfp.com/cfp/servlet/event.showcfp?eventid=79396&copyow
 nerid=137775
UID:cfp762427-E@wikicfp.com
END:VEVENT
BEGIN:VEVENT
DTSTAMP:20260422T232013Z
DTSTART;VALUE=DATE:20181130
SUMMARY:DSN 2019 Abstract Due
DESCRIPTION:Dependable Systems and Networks
URL:http://www.wikicfp.com/cfp/servlet/event.showcfp?eventid=79396&copyow
 nerid=137775
UID:cfp762427-A@wikicfp.com
END:VEVENT
BEGIN:VEVENT
DTSTAMP:20260422T232013Z
DTSTART;VALUE=DATE:20181207
SUMMARY:DSN 2019 Deadline
DESCRIPTION:Dependable Systems and Networks
URL:http://www.wikicfp.com/cfp/servlet/event.showcfp?eventid=79396&copyow
 nerid=137775
UID:cfp762427-D@wikicfp.com
END:VEVENT
BEGIN:VEVENT
DTSTAMP:20260422T232013Z
DTSTART;VALUE=DATE:20190304
SUMMARY:DSN 2019 Notification Due
DESCRIPTION:Dependable Systems and Networks
URL:http://www.wikicfp.com/cfp/servlet/event.showcfp?eventid=79396&copyow
 nerid=137775
UID:cfp762427-N@wikicfp.com
END:VEVENT
BEGIN:VEVENT
DTSTAMP:20260422T232013Z
DTSTART;VALUE=DATE:20190609
DTEND;VALUE=DATE:20190613
SUMMARY:IV 2019
DESCRIPTION:Intelligent Vehicles Symposium
URL:http://www.wikicfp.com/cfp/servlet/event.showcfp?eventid=81433&copyow
 nerid=137775
UID:cfp762428-E@wikicfp.com
END:VEVENT
BEGIN:VEVENT
DTSTAMP:20260422T232013Z
DTSTART;VALUE=DATE:20190121
SUMMARY:IV 2019 Deadline
DESCRIPTION:Intelligent Vehicles Symposium
URL:http://www.wikicfp.com/cfp/servlet/event.showcfp?eventid=81433&copyow
 nerid=137775
UID:cfp762428-D@wikicfp.com
END:VEVENT
BEGIN:VEVENT
DTSTAMP:20260422T232013Z
DTSTART;VALUE=DATE:20190329
SUMMARY:IV 2019 Notification Due
DESCRIPTION:Intelligent Vehicles Symposium
URL:http://www.wikicfp.com/cfp/servlet/event.showcfp?eventid=81433&copyow
 nerid=137775
UID:cfp762428-N@wikicfp.com
END:VEVENT
BEGIN:VEVENT
DTSTAMP:20260422T232013Z
DTSTART;VALUE=DATE:20190422
SUMMARY:IV 2019 Final Version Due
DESCRIPTION:Intelligent Vehicles Symposium
URL:http://www.wikicfp.com/cfp/servlet/event.showcfp?eventid=81433&copyow
 nerid=137775
UID:cfp762428-N@wikicfp.com
END:VEVENT
END:VCALENDAR
