BEGIN:VCALENDAR
PRODID:-//WikiCFP//websoa 1.0//EN
VERSION:2.0
CALSCALE:GREGORIAN
BEGIN:VEVENT
DTSTAMP:20260424T215713Z
DTSTART;VALUE=DATE:20091207
DTEND;VALUE=DATE:20091211
SUMMARY:APMC 2009
DESCRIPTION:Asia Pacific Microwave Conference
URL:http://www.wikicfp.com/cfp/servlet/event.showcfp?eventid=3396&copyown
 erid=1376
UID:cfp11035-E@wikicfp.com
END:VEVENT
BEGIN:VEVENT
DTSTAMP:20260424T215713Z
DTSTART;VALUE=DATE:20081113
DTEND;VALUE=DATE:20081117
SUMMARY:UCSS  2008
DESCRIPTION:Ubiquitous Computing Security Systems 
URL:http://www.wikicfp.com/cfp/servlet/event.showcfp?eventid=3386&copyown
 erid=1376
UID:cfp11025-E@wikicfp.com
END:VEVENT
BEGIN:VEVENT
DTSTAMP:20260424T215713Z
DTSTART;VALUE=DATE:20080725
SUMMARY:UCSS  2008 Deadline
DESCRIPTION:Ubiquitous Computing Security Systems 
URL:http://www.wikicfp.com/cfp/servlet/event.showcfp?eventid=3386&copyown
 erid=1376
UID:cfp11025-D@wikicfp.com
END:VEVENT
BEGIN:VEVENT
DTSTAMP:20260424T215713Z
DTSTART;VALUE=DATE:20080810
SUMMARY:UCSS  2008 Notification Due
DESCRIPTION:Ubiquitous Computing Security Systems 
URL:http://www.wikicfp.com/cfp/servlet/event.showcfp?eventid=3386&copyown
 erid=1376
UID:cfp11025-N@wikicfp.com
END:VEVENT
BEGIN:VEVENT
DTSTAMP:20260424T215713Z
DTSTART;VALUE=DATE:20081203
DTEND;VALUE=DATE:20081207
SUMMARY:ICBME 2008
DESCRIPTION:13th International Congress on Biological and Medical Enginee
 ring
URL:http://www.wikicfp.com/cfp/servlet/event.showcfp?eventid=3382&copyown
 erid=1376
UID:cfp11021-E@wikicfp.com
END:VEVENT
BEGIN:VEVENT
DTSTAMP:20260424T215713Z
DTSTART;VALUE=DATE:20080730
SUMMARY:ICBME 2008 Deadline
DESCRIPTION:13th International Congress on Biological and Medical Enginee
 ring
URL:http://www.wikicfp.com/cfp/servlet/event.showcfp?eventid=3382&copyown
 erid=1376
UID:cfp11021-D@wikicfp.com
END:VEVENT
BEGIN:VEVENT
DTSTAMP:20260424T215713Z
DTSTART;VALUE=DATE:20080830
SUMMARY:ICBME 2008 Notification Due
DESCRIPTION:13th International Congress on Biological and Medical Enginee
 ring
URL:http://www.wikicfp.com/cfp/servlet/event.showcfp?eventid=3382&copyown
 erid=1376
UID:cfp11021-N@wikicfp.com
END:VEVENT
BEGIN:VEVENT
DTSTAMP:20260424T215713Z
DTSTART;VALUE=DATE:20090308
DTEND;VALUE=DATE:20090313
SUMMARY:DADS 2009
DESCRIPTION:Track on Dependable and Adaptive Distributed Systems at SAC
URL:http://www.wikicfp.com/cfp/servlet/event.showcfp?eventid=3385&copyown
 erid=1376
UID:cfp11024-E@wikicfp.com
END:VEVENT
BEGIN:VEVENT
DTSTAMP:20260424T215713Z
DTSTART;VALUE=DATE:20080816
SUMMARY:DADS 2009 Deadline
DESCRIPTION:Track on Dependable and Adaptive Distributed Systems at SAC
URL:http://www.wikicfp.com/cfp/servlet/event.showcfp?eventid=3385&copyown
 erid=1376
UID:cfp11024-D@wikicfp.com
END:VEVENT
BEGIN:VEVENT
DTSTAMP:20260424T215713Z
DTSTART;VALUE=DATE:20081011
SUMMARY:DADS 2009 Notification Due
DESCRIPTION:Track on Dependable and Adaptive Distributed Systems at SAC
URL:http://www.wikicfp.com/cfp/servlet/event.showcfp?eventid=3385&copyown
 erid=1376
UID:cfp11024-N@wikicfp.com
END:VEVENT
BEGIN:VEVENT
DTSTAMP:20260424T215713Z
DTSTART;VALUE=DATE:20090308
DTEND;VALUE=DATE:20090313
SUMMARY:ACM SAC 2009
DESCRIPTION:The 24th ACM Symposium on Applied Computing
URL:http://www.wikicfp.com/cfp/servlet/event.showcfp?eventid=3389&copyown
 erid=1376
UID:cfp11028-E@wikicfp.com
END:VEVENT
BEGIN:VEVENT
DTSTAMP:20260424T215713Z
DTSTART;VALUE=DATE:20080816
SUMMARY:ACM SAC 2009 Deadline
DESCRIPTION:The 24th ACM Symposium on Applied Computing
URL:http://www.wikicfp.com/cfp/servlet/event.showcfp?eventid=3389&copyown
 erid=1376
UID:cfp11028-D@wikicfp.com
END:VEVENT
BEGIN:VEVENT
DTSTAMP:20260424T215713Z
DTSTART;VALUE=DATE:20081109
DTEND;VALUE=DATE:20081115
SUMMARY:CANEUS 2008
DESCRIPTION:CANEUS Conference on Micro- Nano- Technologies International 
 Collaborative Aerospace Development : From Concept to Systems
URL:http://www.wikicfp.com/cfp/servlet/event.showcfp?eventid=3383&copyown
 erid=1376
UID:cfp11022-E@wikicfp.com
END:VEVENT
BEGIN:VEVENT
DTSTAMP:20260424T215713Z
DTSTART;VALUE=DATE:20080822
SUMMARY:CANEUS 2008 Deadline
DESCRIPTION:CANEUS Conference on Micro- Nano- Technologies International 
 Collaborative Aerospace Development : From Concept to Systems
URL:http://www.wikicfp.com/cfp/servlet/event.showcfp?eventid=3383&copyown
 erid=1376
UID:cfp11022-D@wikicfp.com
END:VEVENT
BEGIN:VEVENT
DTSTAMP:20260424T215713Z
DTSTART;VALUE=DATE:20080905
SUMMARY:CANEUS 2008 Notification Due
DESCRIPTION:CANEUS Conference on Micro- Nano- Technologies International 
 Collaborative Aerospace Development : From Concept to Systems
URL:http://www.wikicfp.com/cfp/servlet/event.showcfp?eventid=3383&copyown
 erid=1376
UID:cfp11022-N@wikicfp.com
END:VEVENT
BEGIN:VEVENT
DTSTAMP:20260424T215713Z
DTSTART;VALUE=DATE:20090124
DTEND;VALUE=DATE:20090131
SUMMARY:SOFSEM 2009
DESCRIPTION:Current Trends in Theory and Practice of Computer Science
URL:http://www.wikicfp.com/cfp/servlet/event.showcfp?eventid=3390&copyown
 erid=1376
UID:cfp11029-E@wikicfp.com
END:VEVENT
BEGIN:VEVENT
DTSTAMP:20260424T215713Z
DTSTART;VALUE=DATE:20080817
SUMMARY:SOFSEM 2009 Abstract Due
DESCRIPTION:Current Trends in Theory and Practice of Computer Science
URL:http://www.wikicfp.com/cfp/servlet/event.showcfp?eventid=3390&copyown
 erid=1376
UID:cfp11029-A@wikicfp.com
END:VEVENT
BEGIN:VEVENT
DTSTAMP:20260424T215713Z
DTSTART;VALUE=DATE:20080824
SUMMARY:SOFSEM 2009 Deadline
DESCRIPTION:Current Trends in Theory and Practice of Computer Science
URL:http://www.wikicfp.com/cfp/servlet/event.showcfp?eventid=3390&copyown
 erid=1376
UID:cfp11029-D@wikicfp.com
END:VEVENT
BEGIN:VEVENT
DTSTAMP:20260424T215713Z
DTSTART;VALUE=DATE:20081006
SUMMARY:SOFSEM 2009 Notification Due
DESCRIPTION:Current Trends in Theory and Practice of Computer Science
URL:http://www.wikicfp.com/cfp/servlet/event.showcfp?eventid=3390&copyown
 erid=1376
UID:cfp11029-N@wikicfp.com
END:VEVENT
BEGIN:VEVENT
DTSTAMP:20260424T215713Z
DTSTART;VALUE=DATE:20081020
SUMMARY:SOFSEM 2009 Final Version Due
DESCRIPTION:Current Trends in Theory and Practice of Computer Science
URL:http://www.wikicfp.com/cfp/servlet/event.showcfp?eventid=3390&copyown
 erid=1376
UID:cfp11029-N@wikicfp.com
END:VEVENT
BEGIN:VEVENT
DTSTAMP:20260424T215713Z
DTSTART;VALUE=DATE:20081209
DTEND;VALUE=DATE:20081210
SUMMARY:ALPSWS 2008
DESCRIPTION:Third International Workshop on Applications of Logic Program
 ming to the (Semantic) Web and Web Services
URL:http://www.wikicfp.com/cfp/servlet/event.showcfp?eventid=3381&copyown
 erid=1376
UID:cfp11020-E@wikicfp.com
END:VEVENT
BEGIN:VEVENT
DTSTAMP:20260424T215713Z
DTSTART;VALUE=DATE:20080826
SUMMARY:ALPSWS 2008 Deadline
DESCRIPTION:Third International Workshop on Applications of Logic Program
 ming to the (Semantic) Web and Web Services
URL:http://www.wikicfp.com/cfp/servlet/event.showcfp?eventid=3381&copyown
 erid=1376
UID:cfp11020-D@wikicfp.com
END:VEVENT
BEGIN:VEVENT
DTSTAMP:20260424T215713Z
DTSTART;VALUE=DATE:20080926
SUMMARY:ALPSWS 2008 Notification Due
DESCRIPTION:Third International Workshop on Applications of Logic Program
 ming to the (Semantic) Web and Web Services
URL:http://www.wikicfp.com/cfp/servlet/event.showcfp?eventid=3381&copyown
 erid=1376
UID:cfp11020-N@wikicfp.com
END:VEVENT
BEGIN:VEVENT
DTSTAMP:20260424T215713Z
DTSTART;VALUE=DATE:20081026
DTEND;VALUE=DATE:20081028
SUMMARY:OAEI 2008
DESCRIPTION:Ontology Alignment Evaluation Initiative
URL:http://www.wikicfp.com/cfp/servlet/event.showcfp?eventid=3399&copyown
 erid=1376
UID:cfp11038-E@wikicfp.com
END:VEVENT
BEGIN:VEVENT
DTSTAMP:20260424T215713Z
DTSTART;VALUE=DATE:20080901
SUMMARY:OAEI 2008 Deadline
DESCRIPTION:Ontology Alignment Evaluation Initiative
URL:http://www.wikicfp.com/cfp/servlet/event.showcfp?eventid=3399&copyown
 erid=1376
UID:cfp11038-D@wikicfp.com
END:VEVENT
BEGIN:VEVENT
DTSTAMP:20260424T215713Z
DTSTART;VALUE=DATE:20080926
SUMMARY:OAEI 2008 Final Version Due
DESCRIPTION:Ontology Alignment Evaluation Initiative
URL:http://www.wikicfp.com/cfp/servlet/event.showcfp?eventid=3399&copyown
 erid=1376
UID:cfp11038-N@wikicfp.com
END:VEVENT
BEGIN:VEVENT
DTSTAMP:20260424T215713Z
DTSTART;VALUE=DATE:20090120
DTEND;VALUE=DATE:20090124
SUMMARY:ADC 2009
DESCRIPTION:20th Australasian Database Conference
URL:http://www.wikicfp.com/cfp/servlet/event.showcfp?eventid=3380&copyown
 erid=1376
UID:cfp11019-E@wikicfp.com
END:VEVENT
BEGIN:VEVENT
DTSTAMP:20260424T215713Z
DTSTART;VALUE=DATE:20080907
SUMMARY:ADC 2009 Deadline
DESCRIPTION:20th Australasian Database Conference
URL:http://www.wikicfp.com/cfp/servlet/event.showcfp?eventid=3380&copyown
 erid=1376
UID:cfp11019-D@wikicfp.com
END:VEVENT
BEGIN:VEVENT
DTSTAMP:20260424T215713Z
DTSTART;VALUE=DATE:20081103
SUMMARY:ADC 2009 Notification Due
DESCRIPTION:20th Australasian Database Conference
URL:http://www.wikicfp.com/cfp/servlet/event.showcfp?eventid=3380&copyown
 erid=1376
UID:cfp11019-N@wikicfp.com
END:VEVENT
BEGIN:VEVENT
DTSTAMP:20260424T215713Z
DTSTART;VALUE=DATE:20090426
DTEND;VALUE=DATE:20090430
SUMMARY:VTC 2009
DESCRIPTION:IEEE 69th Vehicular Technology Conference
URL:http://www.wikicfp.com/cfp/servlet/event.showcfp?eventid=3391&copyown
 erid=1376
UID:cfp11030-E@wikicfp.com
END:VEVENT
BEGIN:VEVENT
DTSTAMP:20260424T215713Z
DTSTART;VALUE=DATE:20080915
SUMMARY:VTC 2009 Deadline
DESCRIPTION:IEEE 69th Vehicular Technology Conference
URL:http://www.wikicfp.com/cfp/servlet/event.showcfp?eventid=3391&copyown
 erid=1376
UID:cfp11030-D@wikicfp.com
END:VEVENT
BEGIN:VEVENT
DTSTAMP:20260424T215713Z
DTSTART;VALUE=DATE:20081215
SUMMARY:VTC 2009 Notification Due
DESCRIPTION:IEEE 69th Vehicular Technology Conference
URL:http://www.wikicfp.com/cfp/servlet/event.showcfp?eventid=3391&copyown
 erid=1376
UID:cfp11030-N@wikicfp.com
END:VEVENT
BEGIN:VEVENT
DTSTAMP:20260424T215713Z
DTSTART;VALUE=DATE:20090205
DTEND;VALUE=DATE:20090209
SUMMARY:VISAPP 2009 2009
DESCRIPTION:4th International Conference on Computer Vision Theory and Ap
 plications (VISAPP)
URL:http://www.wikicfp.com/cfp/servlet/event.showcfp?eventid=3394&copyown
 erid=1376
UID:cfp11033-E@wikicfp.com
END:VEVENT
BEGIN:VEVENT
DTSTAMP:20260424T215713Z
DTSTART;VALUE=DATE:20080915
SUMMARY:VISAPP 2009 2009 Deadline
DESCRIPTION:4th International Conference on Computer Vision Theory and Ap
 plications (VISAPP)
URL:http://www.wikicfp.com/cfp/servlet/event.showcfp?eventid=3394&copyown
 erid=1376
UID:cfp11033-D@wikicfp.com
END:VEVENT
BEGIN:VEVENT
DTSTAMP:20260424T215713Z
DTSTART;VALUE=DATE:20090217
DTEND;VALUE=DATE:20090220
SUMMARY:SAS 2009
DESCRIPTION:IEEE Sensors Applications Symposium
URL:http://www.wikicfp.com/cfp/servlet/event.showcfp?eventid=3397&copyown
 erid=1376
UID:cfp11036-E@wikicfp.com
END:VEVENT
BEGIN:VEVENT
DTSTAMP:20260424T215713Z
DTSTART;VALUE=DATE:20080915
SUMMARY:SAS 2009 Deadline
DESCRIPTION:IEEE Sensors Applications Symposium
URL:http://www.wikicfp.com/cfp/servlet/event.showcfp?eventid=3397&copyown
 erid=1376
UID:cfp11036-D@wikicfp.com
END:VEVENT
BEGIN:VEVENT
DTSTAMP:20260424T215713Z
DTSTART;VALUE=DATE:20081115
SUMMARY:SAS 2009 Notification Due
DESCRIPTION:IEEE Sensors Applications Symposium
URL:http://www.wikicfp.com/cfp/servlet/event.showcfp?eventid=3397&copyown
 erid=1376
UID:cfp11036-N@wikicfp.com
END:VEVENT
BEGIN:VEVENT
DTSTAMP:20260424T215713Z
DTSTART;VALUE=DATE:20080101
SUMMARY:SAS 2009 Final Version Due
DESCRIPTION:IEEE Sensors Applications Symposium
URL:http://www.wikicfp.com/cfp/servlet/event.showcfp?eventid=3397&copyown
 erid=1376
UID:cfp11036-N@wikicfp.com
END:VEVENT
BEGIN:VEVENT
DTSTAMP:20260424T215713Z
DTSTART;VALUE=DATE:20080930
SUMMARY:ACM (TECS) 2009 Deadline
DESCRIPTION:ACM Transactions on Embedded Computing Systems\, Special Issu
 e on Model-driven Embedded System Design
URL:http://www.wikicfp.com/cfp/servlet/event.showcfp?eventid=3387&copyown
 erid=1376
UID:cfp11026-D@wikicfp.com
END:VEVENT
BEGIN:VEVENT
DTSTAMP:20260424T215713Z
DTSTART;VALUE=DATE:20081215
SUMMARY:ACM (TECS) 2009 Notification Due
DESCRIPTION:ACM Transactions on Embedded Computing Systems\, Special Issu
 e on Model-driven Embedded System Design
URL:http://www.wikicfp.com/cfp/servlet/event.showcfp?eventid=3387&copyown
 erid=1376
UID:cfp11026-N@wikicfp.com
END:VEVENT
BEGIN:VEVENT
DTSTAMP:20260424T215713Z
DTSTART;VALUE=DATE:20090520
DTEND;VALUE=DATE:20090522
SUMMARY:SWEiP 2009
DESCRIPTION:Software Engineering in Practice (at ICSE 2009)
URL:http://www.wikicfp.com/cfp/servlet/event.showcfp?eventid=3393&copyown
 erid=1376
UID:cfp11032-E@wikicfp.com
END:VEVENT
BEGIN:VEVENT
DTSTAMP:20260424T215713Z
DTSTART;VALUE=DATE:20081010
SUMMARY:SWEiP 2009 Deadline
DESCRIPTION:Software Engineering in Practice (at ICSE 2009)
URL:http://www.wikicfp.com/cfp/servlet/event.showcfp?eventid=3393&copyown
 erid=1376
UID:cfp11032-D@wikicfp.com
END:VEVENT
BEGIN:VEVENT
DTSTAMP:20260424T215713Z
DTSTART;VALUE=DATE:20090511
DTEND;VALUE=DATE:20090512
SUMMARY:Networking  2009
DESCRIPTION:IFIP Networking 2009
URL:http://www.wikicfp.com/cfp/servlet/event.showcfp?eventid=3392&copyown
 erid=1376
UID:cfp11031-E@wikicfp.com
END:VEVENT
BEGIN:VEVENT
DTSTAMP:20260424T215713Z
DTSTART;VALUE=DATE:20081201
SUMMARY:Networking  2009 Deadline
DESCRIPTION:IFIP Networking 2009
URL:http://www.wikicfp.com/cfp/servlet/event.showcfp?eventid=3392&copyown
 erid=1376
UID:cfp11031-D@wikicfp.com
END:VEVENT
BEGIN:VEVENT
DTSTAMP:20260424T215713Z
DTSTART;VALUE=DATE:20090131
SUMMARY:Networking  2009 Notification Due
DESCRIPTION:IFIP Networking 2009
URL:http://www.wikicfp.com/cfp/servlet/event.showcfp?eventid=3392&copyown
 erid=1376
UID:cfp11031-N@wikicfp.com
END:VEVENT
BEGIN:VEVENT
DTSTAMP:20260424T215713Z
DTSTART;VALUE=DATE:20090527
DTEND;VALUE=DATE:20090530
SUMMARY:IWCE 2009
DESCRIPTION:13th International Workshop on Computational Electronics
URL:http://www.wikicfp.com/cfp/servlet/event.showcfp?eventid=3388&copyown
 erid=1376
UID:cfp11027-E@wikicfp.com
END:VEVENT
BEGIN:VEVENT
DTSTAMP:20260424T215713Z
DTSTART;VALUE=DATE:20090115
SUMMARY:IWCE 2009 Deadline
DESCRIPTION:13th International Workshop on Computational Electronics
URL:http://www.wikicfp.com/cfp/servlet/event.showcfp?eventid=3388&copyown
 erid=1376
UID:cfp11027-D@wikicfp.com
END:VEVENT
BEGIN:VEVENT
DTSTAMP:20260424T215713Z
DTSTART;VALUE=DATE:20090228
SUMMARY:IWCE 2009 Notification Due
DESCRIPTION:13th International Workshop on Computational Electronics
URL:http://www.wikicfp.com/cfp/servlet/event.showcfp?eventid=3388&copyown
 erid=1376
UID:cfp11027-N@wikicfp.com
END:VEVENT
BEGIN:VEVENT
DTSTAMP:20260424T215713Z
DTSTART;VALUE=DATE:20090709
DTEND;VALUE=DATE:20090711
SUMMARY:ISSCS 2009
DESCRIPTION:International Symposium on Signals\, Circuits and Systems
URL:http://www.wikicfp.com/cfp/servlet/event.showcfp?eventid=3384&copyown
 erid=1376
UID:cfp11023-E@wikicfp.com
END:VEVENT
BEGIN:VEVENT
DTSTAMP:20260424T215713Z
DTSTART;VALUE=DATE:20090209
SUMMARY:ISSCS 2009 Deadline
DESCRIPTION:International Symposium on Signals\, Circuits and Systems
URL:http://www.wikicfp.com/cfp/servlet/event.showcfp?eventid=3384&copyown
 erid=1376
UID:cfp11023-D@wikicfp.com
END:VEVENT
BEGIN:VEVENT
DTSTAMP:20260424T215713Z
DTSTART;VALUE=DATE:20090406
SUMMARY:ISSCS 2009 Notification Due
DESCRIPTION:International Symposium on Signals\, Circuits and Systems
URL:http://www.wikicfp.com/cfp/servlet/event.showcfp?eventid=3384&copyown
 erid=1376
UID:cfp11023-N@wikicfp.com
END:VEVENT
BEGIN:VEVENT
DTSTAMP:20260424T215713Z
DTSTART;VALUE=DATE:20090525
DTEND;VALUE=DATE:20090531
SUMMARY:Redundancy 2009
DESCRIPTION:XII International Symposium on Problems of Redundancy in Info
 rmation and Control Systems
URL:http://www.wikicfp.com/cfp/servlet/event.showcfp?eventid=3398&copyown
 erid=1376
UID:cfp11037-E@wikicfp.com
END:VEVENT
BEGIN:VEVENT
DTSTAMP:20260424T215713Z
DTSTART;VALUE=DATE:20090301
SUMMARY:Redundancy 2009 Deadline
DESCRIPTION:XII International Symposium on Problems of Redundancy in Info
 rmation and Control Systems
URL:http://www.wikicfp.com/cfp/servlet/event.showcfp?eventid=3398&copyown
 erid=1376
UID:cfp11037-D@wikicfp.com
END:VEVENT
BEGIN:VEVENT
DTSTAMP:20260424T215713Z
DTSTART;VALUE=DATE:20090401
SUMMARY:Redundancy 2009 Notification Due
DESCRIPTION:XII International Symposium on Problems of Redundancy in Info
 rmation and Control Systems
URL:http://www.wikicfp.com/cfp/servlet/event.showcfp?eventid=3398&copyown
 erid=1376
UID:cfp11037-N@wikicfp.com
END:VEVENT
BEGIN:VEVENT
DTSTAMP:20260424T215713Z
DTSTART;VALUE=DATE:20090401
SUMMARY:Redundancy 2009 Final Version Due
DESCRIPTION:XII International Symposium on Problems of Redundancy in Info
 rmation and Control Systems
URL:http://www.wikicfp.com/cfp/servlet/event.showcfp?eventid=3398&copyown
 erid=1376
UID:cfp11037-N@wikicfp.com
END:VEVENT
BEGIN:VEVENT
DTSTAMP:20260424T215713Z
DTSTART;VALUE=DATE:20091011
DTEND;VALUE=DATE:20091015
SUMMARY:SMC 2009
DESCRIPTION:IEEE International Conference on Systems\, Man and Cybernetic
 s
URL:http://www.wikicfp.com/cfp/servlet/event.showcfp?eventid=3395&copyown
 erid=1376
UID:cfp11034-E@wikicfp.com
END:VEVENT
BEGIN:VEVENT
DTSTAMP:20260424T215713Z
DTSTART;VALUE=DATE:20090331
SUMMARY:SMC 2009 Deadline
DESCRIPTION:IEEE International Conference on Systems\, Man and Cybernetic
 s
URL:http://www.wikicfp.com/cfp/servlet/event.showcfp?eventid=3395&copyown
 erid=1376
UID:cfp11034-D@wikicfp.com
END:VEVENT
BEGIN:VEVENT
DTSTAMP:20260424T215713Z
DTSTART;VALUE=DATE:20090515
SUMMARY:SMC 2009 Notification Due
DESCRIPTION:IEEE International Conference on Systems\, Man and Cybernetic
 s
URL:http://www.wikicfp.com/cfp/servlet/event.showcfp?eventid=3395&copyown
 erid=1376
UID:cfp11034-N@wikicfp.com
END:VEVENT
BEGIN:VEVENT
DTSTAMP:20260424T215713Z
DTSTART;VALUE=DATE:20090629
SUMMARY:SMC 2009 Final Version Due
DESCRIPTION:IEEE International Conference on Systems\, Man and Cybernetic
 s
URL:http://www.wikicfp.com/cfp/servlet/event.showcfp?eventid=3395&copyown
 erid=1376
UID:cfp11034-N@wikicfp.com
END:VEVENT
END:VCALENDAR
