BEGIN:VCALENDAR
PRODID:-//WikiCFP//wise_research 1.0//EN
VERSION:2.0
CALSCALE:GREGORIAN
BEGIN:VEVENT
DTSTAMP:20260420T191800Z
DTSTART;VALUE=DATE:20220522
DTEND;VALUE=DATE:20220523
SUMMARY:CONF-MCEE 2022 2022
DESCRIPTION:The 2nd International Conference on Materials Chemistry and E
 nvironmental Engineering (CONF-MCEE 2022) Call for Papers
URL:http://www.wikicfp.com/cfp/servlet/event.showcfp?eventid=127475&copyo
 wnerid=135340
UID:cfp876945-E@wikicfp.com
END:VEVENT
BEGIN:VEVENT
DTSTAMP:20260420T191800Z
DTSTART;VALUE=DATE:20220506
SUMMARY:CONF-MCEE 2022 2022 Deadline
DESCRIPTION:The 2nd International Conference on Materials Chemistry and E
 nvironmental Engineering (CONF-MCEE 2022) Call for Papers
URL:http://www.wikicfp.com/cfp/servlet/event.showcfp?eventid=127475&copyo
 wnerid=135340
UID:cfp876945-D@wikicfp.com
END:VEVENT
BEGIN:VEVENT
DTSTAMP:20260420T191800Z
DTSTART;VALUE=DATE:20220716
DTEND;VALUE=DATE:20220717
SUMMARY:CONF-CDS 2022
DESCRIPTION:The 4th International Conference on Computing and Data Scienc
 e (CONF-CDS) Call for Papers
URL:http://www.wikicfp.com/cfp/servlet/event.showcfp?eventid=96778&copyow
 nerid=135340
UID:cfp816911-E@wikicfp.com
END:VEVENT
BEGIN:VEVENT
DTSTAMP:20260420T191800Z
DTSTART;VALUE=DATE:20220716
SUMMARY:CONF-CDS 2022 Deadline
DESCRIPTION:The 4th International Conference on Computing and Data Scienc
 e (CONF-CDS) Call for Papers
URL:http://www.wikicfp.com/cfp/servlet/event.showcfp?eventid=96778&copyow
 nerid=135340
UID:cfp816911-D@wikicfp.com
END:VEVENT
BEGIN:VEVENT
DTSTAMP:20260420T191800Z
DTSTART;VALUE=DATE:20220806
DTEND;VALUE=DATE:20220813
SUMMARY:ICEMGD 2022
DESCRIPTION:The 6th International Conference on Economic Management and G
 reen Development (ICEMGD) Call for Papers
URL:http://www.wikicfp.com/cfp/servlet/event.showcfp?eventid=83333&copyow
 nerid=135340
UID:cfp759426-E@wikicfp.com
END:VEVENT
BEGIN:VEVENT
DTSTAMP:20260420T191800Z
DTSTART;VALUE=DATE:20220730
SUMMARY:ICEMGD 2022 Deadline
DESCRIPTION:The 6th International Conference on Economic Management and G
 reen Development (ICEMGD) Call for Papers
URL:http://www.wikicfp.com/cfp/servlet/event.showcfp?eventid=83333&copyow
 nerid=135340
UID:cfp759426-D@wikicfp.com
END:VEVENT
BEGIN:VEVENT
DTSTAMP:20260420T191800Z
DTSTART;VALUE=DATE:20220804
DTEND;VALUE=DATE:20220810
SUMMARY:ICEIPI 2022 2022
DESCRIPTION:The 3rd International Conference on Educational Innovation an
 d Philosophical Inquiries (ICEIPI 2022) Call for Papers
URL:http://www.wikicfp.com/cfp/servlet/event.showcfp?eventid=98924&copyow
 nerid=135340
UID:cfp824352-E@wikicfp.com
END:VEVENT
BEGIN:VEVENT
DTSTAMP:20260420T191800Z
DTSTART;VALUE=DATE:20220730
SUMMARY:ICEIPI 2022 2022 Deadline
DESCRIPTION:The 3rd International Conference on Educational Innovation an
 d Philosophical Inquiries (ICEIPI 2022) Call for Papers
URL:http://www.wikicfp.com/cfp/servlet/event.showcfp?eventid=98924&copyow
 nerid=135340
UID:cfp824352-D@wikicfp.com
END:VEVENT
BEGIN:VEVENT
DTSTAMP:20260420T191800Z
DTSTART;VALUE=DATE:20220730
SUMMARY:CIAP 2022 Deadline
DESCRIPTION:The International Conference on Computing Innovation and Appl
 ied Physicsï¼CONF-CIAPï¼2022
URL:http://www.wikicfp.com/cfp/servlet/event.showcfp?eventid=158052&copyo
 wnerid=135340
UID:cfp927448-D@wikicfp.com
END:VEVENT
BEGIN:VEVENT
DTSTAMP:20260420T191800Z
DTSTART;VALUE=DATE:20220730
SUMMARY:CIAP 2022 Final Version Due
DESCRIPTION:The International Conference on Computing Innovation and Appl
 ied Physicsï¼CONF-CIAPï¼2022
URL:http://www.wikicfp.com/cfp/servlet/event.showcfp?eventid=158052&copyo
 wnerid=135340
UID:cfp927448-N@wikicfp.com
END:VEVENT
BEGIN:VEVENT
DTSTAMP:20260420T191800Z
DTSTART;VALUE=DATE:20221107
DTEND;VALUE=DATE:20221114
SUMMARY:ICBioMed 2022
DESCRIPTION:2nd International Conference on Biological Engineering and Me
 dical Scienceï¼ICBioMedï¼
URL:http://www.wikicfp.com/cfp/servlet/event.showcfp?eventid=158051&copyo
 wnerid=135340
UID:cfp927447-E@wikicfp.com
END:VEVENT
BEGIN:VEVENT
DTSTAMP:20260420T191800Z
DTSTART;VALUE=DATE:20220822
SUMMARY:ICBioMed 2022 Abstract Due
DESCRIPTION:2nd International Conference on Biological Engineering and Me
 dical Scienceï¼ICBioMedï¼
URL:http://www.wikicfp.com/cfp/servlet/event.showcfp?eventid=158051&copyo
 wnerid=135340
UID:cfp927447-A@wikicfp.com
END:VEVENT
BEGIN:VEVENT
DTSTAMP:20260420T191800Z
DTSTART;VALUE=DATE:20221014
SUMMARY:ICBioMed 2022 Deadline
DESCRIPTION:2nd International Conference on Biological Engineering and Me
 dical Scienceï¼ICBioMedï¼
URL:http://www.wikicfp.com/cfp/servlet/event.showcfp?eventid=158051&copyo
 wnerid=135340
UID:cfp927447-D@wikicfp.com
END:VEVENT
BEGIN:VEVENT
DTSTAMP:20260420T191800Z
DTSTART;VALUE=DATE:20230226
DTEND;VALUE=DATE:20230227
SUMMARY:BPS 2023
DESCRIPTION:International Conference on Business and Policy Studiesï¼CON
 F-BPSï¼2023
URL:http://www.wikicfp.com/cfp/servlet/event.showcfp?eventid=158053&copyo
 wnerid=135340
UID:cfp927449-E@wikicfp.com
END:VEVENT
BEGIN:VEVENT
DTSTAMP:20260420T191800Z
DTSTART;VALUE=DATE:20220902
SUMMARY:BPS 2023 Abstract Due
DESCRIPTION:International Conference on Business and Policy Studiesï¼CON
 F-BPSï¼2023
URL:http://www.wikicfp.com/cfp/servlet/event.showcfp?eventid=158053&copyo
 wnerid=135340
UID:cfp927449-A@wikicfp.com
END:VEVENT
BEGIN:VEVENT
DTSTAMP:20260420T191800Z
DTSTART;VALUE=DATE:20221130
SUMMARY:BPS 2023 Deadline
DESCRIPTION:International Conference on Business and Policy Studiesï¼CON
 F-BPSï¼2023
URL:http://www.wikicfp.com/cfp/servlet/event.showcfp?eventid=158053&copyo
 wnerid=135340
UID:cfp927449-D@wikicfp.com
END:VEVENT
BEGIN:VEVENT
DTSTAMP:20260420T191800Z
DTSTART;VALUE=DATE:20221218
DTEND;VALUE=DATE:20221219
SUMMARY:ICIHCS 2023
DESCRIPTION:The International Conference on Interdisciplinary Humanities 
 and Communication Studies (ICIHCS-2023)
URL:http://www.wikicfp.com/cfp/servlet/event.showcfp?eventid=169460&copyo
 wnerid=135340
UID:cfp948446-E@wikicfp.com
END:VEVENT
BEGIN:VEVENT
DTSTAMP:20260420T191800Z
DTSTART;VALUE=DATE:20221202
SUMMARY:ICIHCS 2023 Deadline
DESCRIPTION:The International Conference on Interdisciplinary Humanities 
 and Communication Studies (ICIHCS-2023)
URL:http://www.wikicfp.com/cfp/servlet/event.showcfp?eventid=169460&copyo
 wnerid=135340
UID:cfp948446-D@wikicfp.com
END:VEVENT
BEGIN:VEVENT
DTSTAMP:20260420T191800Z
DTSTART;VALUE=DATE:20221202
SUMMARY:ICIHCS 2023 Notification Due
DESCRIPTION:The International Conference on Interdisciplinary Humanities 
 and Communication Studies (ICIHCS-2023)
URL:http://www.wikicfp.com/cfp/servlet/event.showcfp?eventid=169460&copyo
 wnerid=135340
UID:cfp948446-N@wikicfp.com
END:VEVENT
BEGIN:VEVENT
DTSTAMP:20260420T191800Z
DTSTART;VALUE=DATE:20221202
SUMMARY:ICIHCS 2023 Final Version Due
DESCRIPTION:The International Conference on Interdisciplinary Humanities 
 and Communication Studies (ICIHCS-2023)
URL:http://www.wikicfp.com/cfp/servlet/event.showcfp?eventid=169460&copyo
 wnerid=135340
UID:cfp948446-N@wikicfp.com
END:VEVENT
BEGIN:VEVENT
DTSTAMP:20260420T191800Z
DTSTART;VALUE=DATE:20230226
DTEND;VALUE=DATE:20230227
SUMMARY:CONF-BPS 2023
DESCRIPTION:The International Conference on Business and Policy Studies (
 CONF-BPS) Call For Papers
URL:http://www.wikicfp.com/cfp/servlet/event.showcfp?eventid=153378&copyo
 wnerid=135340
UID:cfp917081-E@wikicfp.com
END:VEVENT
BEGIN:VEVENT
DTSTAMP:20260420T191800Z
DTSTART;VALUE=DATE:20230120
SUMMARY:CONF-BPS 2023 Deadline
DESCRIPTION:The International Conference on Business and Policy Studies (
 CONF-BPS) Call For Papers
URL:http://www.wikicfp.com/cfp/servlet/event.showcfp?eventid=153378&copyo
 wnerid=135340
UID:cfp917081-D@wikicfp.com
END:VEVENT
BEGIN:VEVENT
DTSTAMP:20260420T191800Z
DTSTART;VALUE=DATE:20230120
SUMMARY:CONF-BPS 2023 Final Version Due
DESCRIPTION:The International Conference on Business and Policy Studies (
 CONF-BPS) Call For Papers
URL:http://www.wikicfp.com/cfp/servlet/event.showcfp?eventid=153378&copyo
 wnerid=135340
UID:cfp917081-N@wikicfp.com
END:VEVENT
BEGIN:VEVENT
DTSTAMP:20260420T191800Z
DTSTART;VALUE=DATE:20230518
DTEND;VALUE=DATE:20230519
SUMMARY:MCEE  2023
DESCRIPTION:3rd International Conference on Materials Chemistry and Envir
 onmental Engineeringï¼CONF-MCEE 2023ï¼
URL:http://www.wikicfp.com/cfp/servlet/event.showcfp?eventid=169457&copyo
 wnerid=135340
UID:cfp948443-E@wikicfp.com
END:VEVENT
BEGIN:VEVENT
DTSTAMP:20260420T191800Z
DTSTART;VALUE=DATE:20230203
SUMMARY:MCEE  2023 Deadline
DESCRIPTION:3rd International Conference on Materials Chemistry and Envir
 onmental Engineeringï¼CONF-MCEE 2023ï¼
URL:http://www.wikicfp.com/cfp/servlet/event.showcfp?eventid=169457&copyo
 wnerid=135340
UID:cfp948443-D@wikicfp.com
END:VEVENT
BEGIN:VEVENT
DTSTAMP:20260420T191800Z
DTSTART;VALUE=DATE:20230203
SUMMARY:MCEE  2023 Notification Due
DESCRIPTION:3rd International Conference on Materials Chemistry and Envir
 onmental Engineeringï¼CONF-MCEE 2023ï¼
URL:http://www.wikicfp.com/cfp/servlet/event.showcfp?eventid=169457&copyo
 wnerid=135340
UID:cfp948443-N@wikicfp.com
END:VEVENT
BEGIN:VEVENT
DTSTAMP:20260420T191800Z
DTSTART;VALUE=DATE:20230203
SUMMARY:MCEE  2023 Final Version Due
DESCRIPTION:3rd International Conference on Materials Chemistry and Envir
 onmental Engineeringï¼CONF-MCEE 2023ï¼
URL:http://www.wikicfp.com/cfp/servlet/event.showcfp?eventid=169457&copyo
 wnerid=135340
UID:cfp948443-N@wikicfp.com
END:VEVENT
BEGIN:VEVENT
DTSTAMP:20260420T191800Z
DTSTART;VALUE=DATE:20230225
DTEND;VALUE=DATE:20230226
SUMMARY:CONF-SPML  2023
DESCRIPTION:3rd International Conference on Signal Processing and Machine
  Learning (CONF-SPML 2023)
URL:http://www.wikicfp.com/cfp/servlet/event.showcfp?eventid=169458&copyo
 wnerid=135340
UID:cfp948444-E@wikicfp.com
END:VEVENT
BEGIN:VEVENT
DTSTAMP:20260420T191800Z
DTSTART;VALUE=DATE:20230211
SUMMARY:CONF-SPML  2023 Deadline
DESCRIPTION:3rd International Conference on Signal Processing and Machine
  Learning (CONF-SPML 2023)
URL:http://www.wikicfp.com/cfp/servlet/event.showcfp?eventid=169458&copyo
 wnerid=135340
UID:cfp948444-D@wikicfp.com
END:VEVENT
BEGIN:VEVENT
DTSTAMP:20260420T191800Z
DTSTART;VALUE=DATE:20230211
SUMMARY:CONF-SPML  2023 Notification Due
DESCRIPTION:3rd International Conference on Signal Processing and Machine
  Learning (CONF-SPML 2023)
URL:http://www.wikicfp.com/cfp/servlet/event.showcfp?eventid=169458&copyo
 wnerid=135340
UID:cfp948444-N@wikicfp.com
END:VEVENT
BEGIN:VEVENT
DTSTAMP:20260420T191800Z
DTSTART;VALUE=DATE:20230211
SUMMARY:CONF-SPML  2023 Final Version Due
DESCRIPTION:3rd International Conference on Signal Processing and Machine
  Learning (CONF-SPML 2023)
URL:http://www.wikicfp.com/cfp/servlet/event.showcfp?eventid=169458&copyo
 wnerid=135340
UID:cfp948444-N@wikicfp.com
END:VEVENT
BEGIN:VEVENT
DTSTAMP:20260420T191800Z
DTSTART;VALUE=DATE:20230325
DTEND;VALUE=DATE:20230326
SUMMARY:CONF-CIAP  2023
DESCRIPTION:The International Conference on Computing Innovation and Appl
 ied Physicsï¼CONF-CIAPï¼2023
URL:http://www.wikicfp.com/cfp/servlet/event.showcfp?eventid=169459&copyo
 wnerid=135340
UID:cfp948445-E@wikicfp.com
END:VEVENT
BEGIN:VEVENT
DTSTAMP:20260420T191800Z
DTSTART;VALUE=DATE:20230303
SUMMARY:CONF-CIAP  2023 Deadline
DESCRIPTION:The International Conference on Computing Innovation and Appl
 ied Physicsï¼CONF-CIAPï¼2023
URL:http://www.wikicfp.com/cfp/servlet/event.showcfp?eventid=169459&copyo
 wnerid=135340
UID:cfp948445-D@wikicfp.com
END:VEVENT
BEGIN:VEVENT
DTSTAMP:20260420T191800Z
DTSTART;VALUE=DATE:20230303
SUMMARY:CONF-CIAP  2023 Notification Due
DESCRIPTION:The International Conference on Computing Innovation and Appl
 ied Physicsï¼CONF-CIAPï¼2023
URL:http://www.wikicfp.com/cfp/servlet/event.showcfp?eventid=169459&copyo
 wnerid=135340
UID:cfp948445-N@wikicfp.com
END:VEVENT
BEGIN:VEVENT
DTSTAMP:20260420T191800Z
DTSTART;VALUE=DATE:20230303
SUMMARY:CONF-CIAP  2023 Final Version Due
DESCRIPTION:The International Conference on Computing Innovation and Appl
 ied Physicsï¼CONF-CIAPï¼2023
URL:http://www.wikicfp.com/cfp/servlet/event.showcfp?eventid=169459&copyo
 wnerid=135340
UID:cfp948445-N@wikicfp.com
END:VEVENT
BEGIN:VEVENT
DTSTAMP:20260420T191800Z
DTSTART;VALUE=DATE:20230714
DTEND;VALUE=DATE:20230716
SUMMARY:CONF-CDS 2023
DESCRIPTION:5th International Conference on Computing and Data Science (C
 ONF-CDS 2023)
URL:http://www.wikicfp.com/cfp/servlet/event.showcfp?eventid=169464&copyo
 wnerid=135340
UID:cfp948450-E@wikicfp.com
END:VEVENT
BEGIN:VEVENT
DTSTAMP:20260420T191800Z
DTSTART;VALUE=DATE:20230404
SUMMARY:CONF-CDS 2023 Deadline
DESCRIPTION:5th International Conference on Computing and Data Science (C
 ONF-CDS 2023)
URL:http://www.wikicfp.com/cfp/servlet/event.showcfp?eventid=169464&copyo
 wnerid=135340
UID:cfp948450-D@wikicfp.com
END:VEVENT
BEGIN:VEVENT
DTSTAMP:20260420T191800Z
DTSTART;VALUE=DATE:20230404
SUMMARY:CONF-CDS 2023 Notification Due
DESCRIPTION:5th International Conference on Computing and Data Science (C
 ONF-CDS 2023)
URL:http://www.wikicfp.com/cfp/servlet/event.showcfp?eventid=169464&copyo
 wnerid=135340
UID:cfp948450-N@wikicfp.com
END:VEVENT
BEGIN:VEVENT
DTSTAMP:20260420T191800Z
DTSTART;VALUE=DATE:20230404
SUMMARY:CONF-CDS 2023 Final Version Due
DESCRIPTION:5th International Conference on Computing and Data Science (C
 ONF-CDS 2023)
URL:http://www.wikicfp.com/cfp/servlet/event.showcfp?eventid=169464&copyo
 wnerid=135340
UID:cfp948450-N@wikicfp.com
END:VEVENT
BEGIN:VEVENT
DTSTAMP:20260420T191800Z
DTSTART;VALUE=DATE:20230806
DTEND;VALUE=DATE:20230807
SUMMARY:ICEMGD  2023
DESCRIPTION:7th International Conference on Economic Management and Green
  Developmentï¼ICEMGDï¼
URL:http://www.wikicfp.com/cfp/servlet/event.showcfp?eventid=169463&copyo
 wnerid=135340
UID:cfp948449-E@wikicfp.com
END:VEVENT
BEGIN:VEVENT
DTSTAMP:20260420T191800Z
DTSTART;VALUE=DATE:20230407
SUMMARY:ICEMGD  2023 Deadline
DESCRIPTION:7th International Conference on Economic Management and Green
  Developmentï¼ICEMGDï¼
URL:http://www.wikicfp.com/cfp/servlet/event.showcfp?eventid=169463&copyo
 wnerid=135340
UID:cfp948449-D@wikicfp.com
END:VEVENT
BEGIN:VEVENT
DTSTAMP:20260420T191800Z
DTSTART;VALUE=DATE:20230407
SUMMARY:ICEMGD  2023 Notification Due
DESCRIPTION:7th International Conference on Economic Management and Green
  Developmentï¼ICEMGDï¼
URL:http://www.wikicfp.com/cfp/servlet/event.showcfp?eventid=169463&copyo
 wnerid=135340
UID:cfp948449-N@wikicfp.com
END:VEVENT
BEGIN:VEVENT
DTSTAMP:20260420T191800Z
DTSTART;VALUE=DATE:20230407
SUMMARY:ICEMGD  2023 Final Version Due
DESCRIPTION:7th International Conference on Economic Management and Green
  Developmentï¼ICEMGDï¼
URL:http://www.wikicfp.com/cfp/servlet/event.showcfp?eventid=169463&copyo
 wnerid=135340
UID:cfp948449-N@wikicfp.com
END:VEVENT
BEGIN:VEVENT
DTSTAMP:20260420T191800Z
DTSTART;VALUE=DATE:20230807
DTEND;VALUE=DATE:20230808
SUMMARY:ICEIPI 2023
DESCRIPTION:4th International Conference on Educational Innovation and Ph
 ilosophical Inquiriesï¼ICEIPI-2023ï¼
URL:http://www.wikicfp.com/cfp/servlet/event.showcfp?eventid=169462&copyo
 wnerid=135340
UID:cfp948448-E@wikicfp.com
END:VEVENT
BEGIN:VEVENT
DTSTAMP:20260420T191800Z
DTSTART;VALUE=DATE:20230718
SUMMARY:ICEIPI 2023 Deadline
DESCRIPTION:4th International Conference on Educational Innovation and Ph
 ilosophical Inquiriesï¼ICEIPI-2023ï¼
URL:http://www.wikicfp.com/cfp/servlet/event.showcfp?eventid=169462&copyo
 wnerid=135340
UID:cfp948448-D@wikicfp.com
END:VEVENT
BEGIN:VEVENT
DTSTAMP:20260420T191800Z
DTSTART;VALUE=DATE:20230718
SUMMARY:ICEIPI 2023 Notification Due
DESCRIPTION:4th International Conference on Educational Innovation and Ph
 ilosophical Inquiriesï¼ICEIPI-2023ï¼
URL:http://www.wikicfp.com/cfp/servlet/event.showcfp?eventid=169462&copyo
 wnerid=135340
UID:cfp948448-N@wikicfp.com
END:VEVENT
BEGIN:VEVENT
DTSTAMP:20260420T191800Z
DTSTART;VALUE=DATE:20230718
SUMMARY:ICEIPI 2023 Final Version Due
DESCRIPTION:4th International Conference on Educational Innovation and Ph
 ilosophical Inquiriesï¼ICEIPI-2023ï¼
URL:http://www.wikicfp.com/cfp/servlet/event.showcfp?eventid=169462&copyo
 wnerid=135340
UID:cfp948448-N@wikicfp.com
END:VEVENT
BEGIN:VEVENT
DTSTAMP:20260420T191800Z
DTSTART;VALUE=DATE:20240113
DTEND;VALUE=DATE:20240114
SUMMARY:CONF-MCEE 2024
DESCRIPTION:4th International Conference on Materials Chemistry and Envir
 onmental Engineering
URL:http://www.wikicfp.com/cfp/servlet/event.showcfp?eventid=176346&copyo
 wnerid=135340
UID:cfp975492-E@wikicfp.com
END:VEVENT
BEGIN:VEVENT
DTSTAMP:20260420T191800Z
DTSTART;VALUE=DATE:20231117
SUMMARY:CONF-MCEE 2024 Abstract Due
DESCRIPTION:4th International Conference on Materials Chemistry and Envir
 onmental Engineering
URL:http://www.wikicfp.com/cfp/servlet/event.showcfp?eventid=176346&copyo
 wnerid=135340
UID:cfp975492-A@wikicfp.com
END:VEVENT
BEGIN:VEVENT
DTSTAMP:20260420T191800Z
DTSTART;VALUE=DATE:20231103
SUMMARY:CONF-MCEE 2024 Deadline
DESCRIPTION:4th International Conference on Materials Chemistry and Envir
 onmental Engineering
URL:http://www.wikicfp.com/cfp/servlet/event.showcfp?eventid=176346&copyo
 wnerid=135340
UID:cfp975492-D@wikicfp.com
END:VEVENT
BEGIN:VEVENT
DTSTAMP:20260420T191800Z
DTSTART;VALUE=DATE:20240227
DTEND;VALUE=DATE:20240228
SUMMARY:CONF-BPS 2024
DESCRIPTION:International Conference on Business and Policy Studies
URL:http://www.wikicfp.com/cfp/servlet/event.showcfp?eventid=176542&copyo
 wnerid=135340
UID:cfp976305-E@wikicfp.com
END:VEVENT
BEGIN:VEVENT
DTSTAMP:20260420T191800Z
DTSTART;VALUE=DATE:20240227
SUMMARY:CONF-BPS 2024 Abstract Due
DESCRIPTION:International Conference on Business and Policy Studies
URL:http://www.wikicfp.com/cfp/servlet/event.showcfp?eventid=176542&copyo
 wnerid=135340
UID:cfp976305-A@wikicfp.com
END:VEVENT
BEGIN:VEVENT
DTSTAMP:20260420T191800Z
DTSTART;VALUE=DATE:20240220
SUMMARY:CONF-BPS 2024 Deadline
DESCRIPTION:International Conference on Business and Policy Studies
URL:http://www.wikicfp.com/cfp/servlet/event.showcfp?eventid=176542&copyo
 wnerid=135340
UID:cfp976305-D@wikicfp.com
END:VEVENT
BEGIN:VEVENT
DTSTAMP:20260420T191800Z
DTSTART;VALUE=DATE:20240220
SUMMARY:CONF-BPS 2024 Final Version Due
DESCRIPTION:International Conference on Business and Policy Studies
URL:http://www.wikicfp.com/cfp/servlet/event.showcfp?eventid=176542&copyo
 wnerid=135340
UID:cfp976305-N@wikicfp.com
END:VEVENT
END:VCALENDAR
