BEGIN:VCALENDAR
PRODID:-//WikiCFP//abcde 1.0//EN
VERSION:2.0
CALSCALE:GREGORIAN
BEGIN:VEVENT
DTSTAMP:20260425T194750Z
DTSTART;VALUE=DATE:20180611
DTEND;VALUE=DATE:20180614
SUMMARY:ICCS 2018
DESCRIPTION:International Conference on Computational Science
URL:http://www.wikicfp.com/cfp/servlet/event.showcfp?eventid=68866&copyow
 nerid=13429
UID:cfp703119-E@wikicfp.com
END:VEVENT
BEGIN:VEVENT
DTSTAMP:20260425T194750Z
DTSTART;VALUE=DATE:20180115
SUMMARY:ICCS 2018 Deadline
DESCRIPTION:International Conference on Computational Science
URL:http://www.wikicfp.com/cfp/servlet/event.showcfp?eventid=68866&copyow
 nerid=13429
UID:cfp703119-D@wikicfp.com
END:VEVENT
BEGIN:VEVENT
DTSTAMP:20260425T194750Z
DTSTART;VALUE=DATE:20180223
SUMMARY:ICCS 2018 Notification Due
DESCRIPTION:International Conference on Computational Science
URL:http://www.wikicfp.com/cfp/servlet/event.showcfp?eventid=68866&copyow
 nerid=13429
UID:cfp703119-N@wikicfp.com
END:VEVENT
BEGIN:VEVENT
DTSTAMP:20260425T194750Z
DTSTART;VALUE=DATE:20180316
SUMMARY:ICCS 2018 Final Version Due
DESCRIPTION:International Conference on Computational Science
URL:http://www.wikicfp.com/cfp/servlet/event.showcfp?eventid=68866&copyow
 nerid=13429
UID:cfp703119-N@wikicfp.com
END:VEVENT
BEGIN:VEVENT
DTSTAMP:20260425T194750Z
DTSTART;VALUE=DATE:20180323
DTEND;VALUE=DATE:20180326
SUMMARY:IEEE--ICICT--Ei\, Scopus 2018
DESCRIPTION:2018 International Conference on Information and Computer Tec
 hnologies (ICICT 2018)--Ei & Scopus
URL:http://www.wikicfp.com/cfp/servlet/event.showcfp?eventid=67623&copyow
 nerid=13429
UID:cfp703120-E@wikicfp.com
END:VEVENT
BEGIN:VEVENT
DTSTAMP:20260425T194750Z
DTSTART;VALUE=DATE:20180120
SUMMARY:IEEE--ICICT--Ei\, Scopus 2018 Deadline
DESCRIPTION:2018 International Conference on Information and Computer Tec
 hnologies (ICICT 2018)--Ei & Scopus
URL:http://www.wikicfp.com/cfp/servlet/event.showcfp?eventid=67623&copyow
 nerid=13429
UID:cfp703120-D@wikicfp.com
END:VEVENT
END:VCALENDAR
