BEGIN:VCALENDAR
PRODID:-//WikiCFP//animesh1980 1.0//EN
VERSION:2.0
CALSCALE:GREGORIAN
BEGIN:VEVENT
DTSTAMP:20260419T114047Z
DTSTART;VALUE=DATE:20190626
DTEND;VALUE=DATE:20190629
SUMMARY:HEAd 2019
DESCRIPTION:5th International Conference on Higher Education Advances
URL:http://www.wikicfp.com/cfp/servlet/event.showcfp?eventid=82794&copyow
 nerid=134078
UID:cfp755589-E@wikicfp.com
END:VEVENT
BEGIN:VEVENT
DTSTAMP:20260419T114047Z
DTSTART;VALUE=DATE:20190201
SUMMARY:HEAd 2019 Deadline
DESCRIPTION:5th International Conference on Higher Education Advances
URL:http://www.wikicfp.com/cfp/servlet/event.showcfp?eventid=82794&copyow
 nerid=134078
UID:cfp755589-D@wikicfp.com
END:VEVENT
BEGIN:VEVENT
DTSTAMP:20260419T114047Z
DTSTART;VALUE=DATE:20190403
SUMMARY:HEAd 2019 Notification Due
DESCRIPTION:5th International Conference on Higher Education Advances
URL:http://www.wikicfp.com/cfp/servlet/event.showcfp?eventid=82794&copyow
 nerid=134078
UID:cfp755589-N@wikicfp.com
END:VEVENT
BEGIN:VEVENT
DTSTAMP:20260419T114047Z
DTSTART;VALUE=DATE:20190424
SUMMARY:HEAd 2019 Final Version Due
DESCRIPTION:5th International Conference on Higher Education Advances
URL:http://www.wikicfp.com/cfp/servlet/event.showcfp?eventid=82794&copyow
 nerid=134078
UID:cfp755589-N@wikicfp.com
END:VEVENT
END:VCALENDAR
