BEGIN:VCALENDAR
PRODID:-//WikiCFP//vstoynov 1.0//EN
VERSION:2.0
CALSCALE:GREGORIAN
BEGIN:VEVENT
DTSTAMP:20260423T020935Z
DTSTART;VALUE=DATE:20190726
DTEND;VALUE=DATE:20190729
SUMMARY:WINSYS 2019
DESCRIPTION:International Conference on Wireless Networks and Mobile Syst
 ems
URL:http://www.wikicfp.com/cfp/servlet/event.showcfp?eventid=82466&copyow
 nerid=133824
UID:cfp755283-E@wikicfp.com
END:VEVENT
BEGIN:VEVENT
DTSTAMP:20260423T020935Z
DTSTART;VALUE=DATE:20190228
SUMMARY:WINSYS 2019 Deadline
DESCRIPTION:International Conference on Wireless Networks and Mobile Syst
 ems
URL:http://www.wikicfp.com/cfp/servlet/event.showcfp?eventid=82466&copyow
 nerid=133824
UID:cfp755283-D@wikicfp.com
END:VEVENT
BEGIN:VEVENT
DTSTAMP:20260423T020935Z
DTSTART;VALUE=DATE:20190502
SUMMARY:WINSYS 2019 Notification Due
DESCRIPTION:International Conference on Wireless Networks and Mobile Syst
 ems
URL:http://www.wikicfp.com/cfp/servlet/event.showcfp?eventid=82466&copyow
 nerid=133824
UID:cfp755283-N@wikicfp.com
END:VEVENT
BEGIN:VEVENT
DTSTAMP:20260423T020935Z
DTSTART;VALUE=DATE:20190516
SUMMARY:WINSYS 2019 Final Version Due
DESCRIPTION:International Conference on Wireless Networks and Mobile Syst
 ems
URL:http://www.wikicfp.com/cfp/servlet/event.showcfp?eventid=82466&copyow
 nerid=133824
UID:cfp755283-N@wikicfp.com
END:VEVENT
END:VCALENDAR
