BEGIN:VCALENDAR
PRODID:-//WikiCFP//asadkh21 1.0//EN
VERSION:2.0
CALSCALE:GREGORIAN
BEGIN:VEVENT
DTSTAMP:20260425T221606Z
DTSTART;VALUE=DATE:20190326
DTEND;VALUE=DATE:20190329
SUMMARY:ICCMIT 2019
DESCRIPTION: Special Session- Integrated and non-invasive AI in Healthcar
 e- International Conference on Communication\, Management and Informatio
 n Technology
URL:http://www.wikicfp.com/cfp/servlet/event.showcfp?eventid=81859&copyow
 nerid=133681
UID:cfp754890-E@wikicfp.com
END:VEVENT
END:VCALENDAR
