BEGIN:VCALENDAR
PRODID:-//WikiCFP//aryamansingh 1.0//EN
VERSION:2.0
CALSCALE:GREGORIAN
BEGIN:VEVENT
DTSTAMP:20260424T010129Z
DTSTART;VALUE=DATE:20190109
DTEND;VALUE=DATE:20190112
SUMMARY:ICGCE 2019
DESCRIPTION:2019 6th International Conference on Geological and Civil Eng
 ineering (ICGCE 2019)
URL:http://www.wikicfp.com/cfp/servlet/event.showcfp?eventid=76986&copyow
 nerid=133590
UID:cfp754688-E@wikicfp.com
END:VEVENT
BEGIN:VEVENT
DTSTAMP:20260424T010129Z
DTSTART;VALUE=DATE:20181120
SUMMARY:ICGCE 2019 Deadline
DESCRIPTION:2019 6th International Conference on Geological and Civil Eng
 ineering (ICGCE 2019)
URL:http://www.wikicfp.com/cfp/servlet/event.showcfp?eventid=76986&copyow
 nerid=133590
UID:cfp754688-D@wikicfp.com
END:VEVENT
BEGIN:VEVENT
DTSTAMP:20260424T010129Z
DTSTART;VALUE=DATE:20180522
DTEND;VALUE=DATE:20180525
SUMMARY:S.ARCH 2018
DESCRIPTION:The 5th International Conference on Architecture and Built En
 vironment with AWARDs
URL:http://www.wikicfp.com/cfp/servlet/event.showcfp?eventid=65914&copyow
 nerid=133590
UID:cfp754687-E@wikicfp.com
END:VEVENT
BEGIN:VEVENT
DTSTAMP:20260424T010129Z
DTSTART;VALUE=DATE:20181124
SUMMARY:S.ARCH 2018 Deadline
DESCRIPTION:The 5th International Conference on Architecture and Built En
 vironment with AWARDs
URL:http://www.wikicfp.com/cfp/servlet/event.showcfp?eventid=65914&copyow
 nerid=133590
UID:cfp754687-D@wikicfp.com
END:VEVENT
BEGIN:VEVENT
DTSTAMP:20260424T010129Z
DTSTART;VALUE=DATE:20190619
DTEND;VALUE=DATE:20190622
SUMMARY:XJTLU ARCH 2019
DESCRIPTION:  2019 XJTLU International Conference: Architecture across Bo
 undaries
URL:http://www.wikicfp.com/cfp/servlet/event.showcfp?eventid=82271&copyow
 nerid=133590
UID:cfp754686-E@wikicfp.com
END:VEVENT
BEGIN:VEVENT
DTSTAMP:20260424T010129Z
DTSTART;VALUE=DATE:20181128
SUMMARY:XJTLU ARCH 2019 Deadline
DESCRIPTION:  2019 XJTLU International Conference: Architecture across Bo
 undaries
URL:http://www.wikicfp.com/cfp/servlet/event.showcfp?eventid=82271&copyow
 nerid=133590
UID:cfp754686-D@wikicfp.com
END:VEVENT
BEGIN:VEVENT
DTSTAMP:20260424T010129Z
DTSTART;VALUE=DATE:20190123
DTEND;VALUE=DATE:20190127
SUMMARY:ICAEM--KEM\, EI Compendex\, Scopus 2019
DESCRIPTION:KEM--2019 The 2nd International Conference on Advanced Energy
  Materials (ICAEM 2019)--EI Compendex\, Scopus
URL:http://www.wikicfp.com/cfp/servlet/event.showcfp?eventid=78287&copyow
 nerid=133590
UID:cfp754690-E@wikicfp.com
END:VEVENT
BEGIN:VEVENT
DTSTAMP:20260424T010129Z
DTSTART;VALUE=DATE:20181130
SUMMARY:ICAEM--KEM\, EI Compendex\, Scopus 2019 Deadline
DESCRIPTION:KEM--2019 The 2nd International Conference on Advanced Energy
  Materials (ICAEM 2019)--EI Compendex\, Scopus
URL:http://www.wikicfp.com/cfp/servlet/event.showcfp?eventid=78287&copyow
 nerid=133590
UID:cfp754690-D@wikicfp.com
END:VEVENT
BEGIN:VEVENT
DTSTAMP:20260424T010129Z
DTSTART;VALUE=DATE:20190123
DTEND;VALUE=DATE:20190127
SUMMARY:KEM--ICCBM--EI and Scopus 2019
DESCRIPTION:KEM--2019 The 3rd International Conference on Civil and Build
 ing Materials (ICCBM 2019)--EI Compendex and Scopus
URL:http://www.wikicfp.com/cfp/servlet/event.showcfp?eventid=78292&copyow
 nerid=133590
UID:cfp754691-E@wikicfp.com
END:VEVENT
BEGIN:VEVENT
DTSTAMP:20260424T010129Z
DTSTART;VALUE=DATE:20181130
SUMMARY:KEM--ICCBM--EI and Scopus 2019 Deadline
DESCRIPTION:KEM--2019 The 3rd International Conference on Civil and Build
 ing Materials (ICCBM 2019)--EI Compendex and Scopus
URL:http://www.wikicfp.com/cfp/servlet/event.showcfp?eventid=78292&copyow
 nerid=133590
UID:cfp754691-D@wikicfp.com
END:VEVENT
BEGIN:VEVENT
DTSTAMP:20260424T010129Z
DTSTART;VALUE=DATE:20190225
DTEND;VALUE=DATE:20190228
SUMMARY:ICBMC--EI Compendex and Scopus 2019
DESCRIPTION:2019 4th International Conference on Building Materials and C
 onstruction (ICBMC 2019)--EI Compendex and Scopus
URL:http://www.wikicfp.com/cfp/servlet/event.showcfp?eventid=78161&copyow
 nerid=133590
UID:cfp754689-E@wikicfp.com
END:VEVENT
BEGIN:VEVENT
DTSTAMP:20260424T010129Z
DTSTART;VALUE=DATE:20190105
SUMMARY:ICBMC--EI Compendex and Scopus 2019 Deadline
DESCRIPTION:2019 4th International Conference on Building Materials and C
 onstruction (ICBMC 2019)--EI Compendex and Scopus
URL:http://www.wikicfp.com/cfp/servlet/event.showcfp?eventid=78161&copyow
 nerid=133590
UID:cfp754689-D@wikicfp.com
END:VEVENT
BEGIN:VEVENT
DTSTAMP:20260424T010129Z
DTSTART;VALUE=DATE:20190425
DTEND;VALUE=DATE:20190428
SUMMARY:ICIEM--KEM\, EI\, Scopus 2019
DESCRIPTION:KEM--2019 3rd International Conference on Innovative Engineer
 ing Materials (ICIEM 2019)--EI Compendex\, Scopus
URL:http://www.wikicfp.com/cfp/servlet/event.showcfp?eventid=79969&copyow
 nerid=133590
UID:cfp754692-E@wikicfp.com
END:VEVENT
BEGIN:VEVENT
DTSTAMP:20260424T010129Z
DTSTART;VALUE=DATE:20190310
SUMMARY:ICIEM--KEM\, EI\, Scopus 2019 Deadline
DESCRIPTION:KEM--2019 3rd International Conference on Innovative Engineer
 ing Materials (ICIEM 2019)--EI Compendex\, Scopus
URL:http://www.wikicfp.com/cfp/servlet/event.showcfp?eventid=79969&copyow
 nerid=133590
UID:cfp754692-D@wikicfp.com
END:VEVENT
BEGIN:VEVENT
DTSTAMP:20260424T010129Z
DTSTART;VALUE=DATE:20190906
DTEND;VALUE=DATE:20190909
SUMMARY:ICEIM--SCI\, Ei Compendex and Scopus 2019
DESCRIPTION:KEM--2019 8th International Conference on Engineering and Inn
 ovative Materials (ICEIM 2019)--SCI\, Scopus & Ei Compendex
URL:http://www.wikicfp.com/cfp/servlet/event.showcfp?eventid=82147&copyow
 nerid=133590
UID:cfp754685-E@wikicfp.com
END:VEVENT
BEGIN:VEVENT
DTSTAMP:20260424T010129Z
DTSTART;VALUE=DATE:20190715
SUMMARY:ICEIM--SCI\, Ei Compendex and Scopus 2019 Deadline
DESCRIPTION:KEM--2019 8th International Conference on Engineering and Inn
 ovative Materials (ICEIM 2019)--SCI\, Scopus & Ei Compendex
URL:http://www.wikicfp.com/cfp/servlet/event.showcfp?eventid=82147&copyow
 nerid=133590
UID:cfp754685-D@wikicfp.com
END:VEVENT
END:VCALENDAR
