BEGIN:VCALENDAR
PRODID:-//WikiCFP//anupamag 1.0//EN
VERSION:2.0
CALSCALE:GREGORIAN
BEGIN:VEVENT
DTSTAMP:20260421T222212Z
DTSTART;VALUE=DATE:20090731
SUMMARY:JUS 2010 Deadline
DESCRIPTION:Journal of Usability Studies - Special Issue on Universal Des
 ign and ICT
URL:http://www.wikicfp.com/cfp/servlet/event.showcfp?eventid=5828&copyown
 erid=13297
UID:cfp93759-D@wikicfp.com
END:VEVENT
BEGIN:VEVENT
DTSTAMP:20260421T222212Z
DTSTART;VALUE=DATE:20091130
SUMMARY:JUS 2010 Notification Due
DESCRIPTION:Journal of Usability Studies - Special Issue on Universal Des
 ign and ICT
URL:http://www.wikicfp.com/cfp/servlet/event.showcfp?eventid=5828&copyown
 erid=13297
UID:cfp93759-N@wikicfp.com
END:VEVENT
BEGIN:VEVENT
DTSTAMP:20260421T222212Z
DTSTART;VALUE=DATE:20101107
DTEND;VALUE=DATE:20101109
SUMMARY:CHiMiT 2010
DESCRIPTION:Computer Human Interaction for the Management of Information 
 Technology
URL:http://www.wikicfp.com/cfp/servlet/event.showcfp?eventid=8196&copyown
 erid=13297
UID:cfp93764-E@wikicfp.com
END:VEVENT
BEGIN:VEVENT
DTSTAMP:20260421T222212Z
DTSTART;VALUE=DATE:20100703
SUMMARY:CHiMiT 2010 Deadline
DESCRIPTION:Computer Human Interaction for the Management of Information 
 Technology
URL:http://www.wikicfp.com/cfp/servlet/event.showcfp?eventid=8196&copyown
 erid=13297
UID:cfp93764-D@wikicfp.com
END:VEVENT
BEGIN:VEVENT
DTSTAMP:20260421T222212Z
DTSTART;VALUE=DATE:20100609
DTEND;VALUE=DATE:20100610
SUMMARY:DIY Games 2010
DESCRIPTION:DIY Games and Explorations in Gaming Interactions Workshop
URL:http://www.wikicfp.com/cfp/servlet/event.showcfp?eventid=10371&copyow
 nerid=13297
UID:cfp93770-E@wikicfp.com
END:VEVENT
BEGIN:VEVENT
DTSTAMP:20260421T222212Z
DTSTART;VALUE=DATE:20100705
SUMMARY:DIY Games 2010 Deadline
DESCRIPTION:DIY Games and Explorations in Gaming Interactions Workshop
URL:http://www.wikicfp.com/cfp/servlet/event.showcfp?eventid=10371&copyow
 nerid=13297
UID:cfp93770-D@wikicfp.com
END:VEVENT
BEGIN:VEVENT
DTSTAMP:20260421T222212Z
DTSTART;VALUE=DATE:20100721
SUMMARY:DIY Games 2010 Notification Due
DESCRIPTION:DIY Games and Explorations in Gaming Interactions Workshop
URL:http://www.wikicfp.com/cfp/servlet/event.showcfp?eventid=10371&copyow
 nerid=13297
UID:cfp93770-N@wikicfp.com
END:VEVENT
BEGIN:VEVENT
DTSTAMP:20260421T222212Z
DTSTART;VALUE=DATE:20200801
SUMMARY:DIY Games 2010 Final Version Due
DESCRIPTION:DIY Games and Explorations in Gaming Interactions Workshop
URL:http://www.wikicfp.com/cfp/servlet/event.showcfp?eventid=10371&copyow
 nerid=13297
UID:cfp93770-N@wikicfp.com
END:VEVENT
BEGIN:VEVENT
DTSTAMP:20260421T222212Z
DTSTART;VALUE=DATE:20100906
DTEND;VALUE=DATE:20100907
SUMMARY:PUMP 2010
DESCRIPTION:Privacy and Usability Methods Pow-wow
URL:http://www.wikicfp.com/cfp/servlet/event.showcfp?eventid=10193&copyow
 nerid=13297
UID:cfp93761-E@wikicfp.com
END:VEVENT
BEGIN:VEVENT
DTSTAMP:20260421T222212Z
DTSTART;VALUE=DATE:20100708
SUMMARY:PUMP 2010 Deadline
DESCRIPTION:Privacy and Usability Methods Pow-wow
URL:http://www.wikicfp.com/cfp/servlet/event.showcfp?eventid=10193&copyow
 nerid=13297
UID:cfp93761-D@wikicfp.com
END:VEVENT
BEGIN:VEVENT
DTSTAMP:20260421T222212Z
DTSTART;VALUE=DATE:20100804
SUMMARY:PUMP 2010 Notification Due
DESCRIPTION:Privacy and Usability Methods Pow-wow
URL:http://www.wikicfp.com/cfp/servlet/event.showcfp?eventid=10193&copyow
 nerid=13297
UID:cfp93761-N@wikicfp.com
END:VEVENT
BEGIN:VEVENT
DTSTAMP:20260421T222212Z
DTSTART;VALUE=DATE:20100818
SUMMARY:PUMP 2010 Final Version Due
DESCRIPTION:Privacy and Usability Methods Pow-wow
URL:http://www.wikicfp.com/cfp/servlet/event.showcfp?eventid=10193&copyow
 nerid=13297
UID:cfp93761-N@wikicfp.com
END:VEVENT
BEGIN:VEVENT
DTSTAMP:20260421T222212Z
DTSTART;VALUE=DATE:20101108
DTEND;VALUE=DATE:20101111
SUMMARY:MexIHC 2010
DESCRIPTION:3er Taller Mexicano de InteracciÃ³n Humano-Computador
URL:http://www.wikicfp.com/cfp/servlet/event.showcfp?eventid=10244&copyow
 nerid=13297
UID:cfp93768-E@wikicfp.com
END:VEVENT
BEGIN:VEVENT
DTSTAMP:20260421T222212Z
DTSTART;VALUE=DATE:20100717
SUMMARY:MexIHC 2010 Deadline
DESCRIPTION:3er Taller Mexicano de InteracciÃ³n Humano-Computador
URL:http://www.wikicfp.com/cfp/servlet/event.showcfp?eventid=10244&copyow
 nerid=13297
UID:cfp93768-D@wikicfp.com
END:VEVENT
BEGIN:VEVENT
DTSTAMP:20260421T222212Z
DTSTART;VALUE=DATE:20100830
SUMMARY:MexIHC 2010 Notification Due
DESCRIPTION:3er Taller Mexicano de InteracciÃ³n Humano-Computador
URL:http://www.wikicfp.com/cfp/servlet/event.showcfp?eventid=10244&copyow
 nerid=13297
UID:cfp93768-N@wikicfp.com
END:VEVENT
BEGIN:VEVENT
DTSTAMP:20260421T222212Z
DTSTART;VALUE=DATE:20101005
DTEND;VALUE=DATE:20101009
SUMMARY:WAIHCWS 2010
DESCRIPTION:2nd Workshop on Aspects of Human-Computer Interaction for the
  Social Web
URL:http://www.wikicfp.com/cfp/servlet/event.showcfp?eventid=10320&copyow
 nerid=13297
UID:cfp93769-E@wikicfp.com
END:VEVENT
BEGIN:VEVENT
DTSTAMP:20260421T222212Z
DTSTART;VALUE=DATE:20100730
SUMMARY:WAIHCWS 2010 Deadline
DESCRIPTION:2nd Workshop on Aspects of Human-Computer Interaction for the
  Social Web
URL:http://www.wikicfp.com/cfp/servlet/event.showcfp?eventid=10320&copyow
 nerid=13297
UID:cfp93769-D@wikicfp.com
END:VEVENT
BEGIN:VEVENT
DTSTAMP:20260421T222212Z
DTSTART;VALUE=DATE:20100822
SUMMARY:WAIHCWS 2010 Notification Due
DESCRIPTION:2nd Workshop on Aspects of Human-Computer Interaction for the
  Social Web
URL:http://www.wikicfp.com/cfp/servlet/event.showcfp?eventid=10320&copyow
 nerid=13297
UID:cfp93769-N@wikicfp.com
END:VEVENT
BEGIN:VEVENT
DTSTAMP:20260421T222212Z
DTSTART;VALUE=DATE:20100928
SUMMARY:WAIHCWS 2010 Final Version Due
DESCRIPTION:2nd Workshop on Aspects of Human-Computer Interaction for the
  Social Web
URL:http://www.wikicfp.com/cfp/servlet/event.showcfp?eventid=10320&copyow
 nerid=13297
UID:cfp93769-N@wikicfp.com
END:VEVENT
BEGIN:VEVENT
DTSTAMP:20260421T222212Z
DTSTART;VALUE=DATE:20101108
DTEND;VALUE=DATE:20101111
SUMMARY:TwUC 2010
DESCRIPTION:Trustworthy Ubiquitous Computing 2010
URL:http://www.wikicfp.com/cfp/servlet/event.showcfp?eventid=8859&copyown
 erid=13297
UID:cfp93760-E@wikicfp.com
END:VEVENT
BEGIN:VEVENT
DTSTAMP:20260421T222212Z
DTSTART;VALUE=DATE:20100731
SUMMARY:TwUC 2010 Deadline
DESCRIPTION:Trustworthy Ubiquitous Computing 2010
URL:http://www.wikicfp.com/cfp/servlet/event.showcfp?eventid=8859&copyown
 erid=13297
UID:cfp93760-D@wikicfp.com
END:VEVENT
BEGIN:VEVENT
DTSTAMP:20260421T222212Z
DTSTART;VALUE=DATE:20100830
SUMMARY:TwUC 2010 Notification Due
DESCRIPTION:Trustworthy Ubiquitous Computing 2010
URL:http://www.wikicfp.com/cfp/servlet/event.showcfp?eventid=8859&copyown
 erid=13297
UID:cfp93760-N@wikicfp.com
END:VEVENT
BEGIN:VEVENT
DTSTAMP:20260421T222212Z
DTSTART;VALUE=DATE:20100930
SUMMARY:TwUC 2010 Final Version Due
DESCRIPTION:Trustworthy Ubiquitous Computing 2010
URL:http://www.wikicfp.com/cfp/servlet/event.showcfp?eventid=8859&copyown
 erid=13297
UID:cfp93760-N@wikicfp.com
END:VEVENT
BEGIN:VEVENT
DTSTAMP:20260421T222212Z
DTSTART;VALUE=DATE:20101017
DTEND;VALUE=DATE:20101018
SUMMARY:OMUE 2010
DESCRIPTION:Workshop on Observing the Mobile User Experience
URL:http://www.wikicfp.com/cfp/servlet/event.showcfp?eventid=10161&copyow
 nerid=13297
UID:cfp93767-E@wikicfp.com
END:VEVENT
BEGIN:VEVENT
DTSTAMP:20260421T222212Z
DTSTART;VALUE=DATE:20100827
SUMMARY:OMUE 2010 Deadline
DESCRIPTION:Workshop on Observing the Mobile User Experience
URL:http://www.wikicfp.com/cfp/servlet/event.showcfp?eventid=10161&copyow
 nerid=13297
UID:cfp93767-D@wikicfp.com
END:VEVENT
BEGIN:VEVENT
DTSTAMP:20260421T222212Z
DTSTART;VALUE=DATE:20100910
SUMMARY:OMUE 2010 Notification Due
DESCRIPTION:Workshop on Observing the Mobile User Experience
URL:http://www.wikicfp.com/cfp/servlet/event.showcfp?eventid=10161&copyow
 nerid=13297
UID:cfp93767-N@wikicfp.com
END:VEVENT
BEGIN:VEVENT
DTSTAMP:20260421T222212Z
DTSTART;VALUE=DATE:20101001
SUMMARY:OMUE 2010 Final Version Due
DESCRIPTION:Workshop on Observing the Mobile User Experience
URL:http://www.wikicfp.com/cfp/servlet/event.showcfp?eventid=10161&copyow
 nerid=13297
UID:cfp93767-N@wikicfp.com
END:VEVENT
BEGIN:VEVENT
DTSTAMP:20260421T222212Z
DTSTART;VALUE=DATE:20110213
DTEND;VALUE=DATE:20110217
SUMMARY:IUI 2011
DESCRIPTION:15th International Conference on Intelligent User Interfaces
URL:http://www.wikicfp.com/cfp/servlet/event.showcfp?eventid=10137&copyow
 nerid=13297
UID:cfp93766-E@wikicfp.com
END:VEVENT
BEGIN:VEVENT
DTSTAMP:20260421T222212Z
DTSTART;VALUE=DATE:20100910
SUMMARY:IUI 2011 Deadline
DESCRIPTION:15th International Conference on Intelligent User Interfaces
URL:http://www.wikicfp.com/cfp/servlet/event.showcfp?eventid=10137&copyow
 nerid=13297
UID:cfp93766-D@wikicfp.com
END:VEVENT
BEGIN:VEVENT
DTSTAMP:20260421T222212Z
DTSTART;VALUE=DATE:20101005
SUMMARY:IUI 2011 Notification Due
DESCRIPTION:15th International Conference on Intelligent User Interfaces
URL:http://www.wikicfp.com/cfp/servlet/event.showcfp?eventid=10137&copyow
 nerid=13297
UID:cfp93766-N@wikicfp.com
END:VEVENT
BEGIN:VEVENT
DTSTAMP:20260421T222212Z
DTSTART;VALUE=DATE:20101026
SUMMARY:IUI 2011 Final Version Due
DESCRIPTION:15th International Conference on Intelligent User Interfaces
URL:http://www.wikicfp.com/cfp/servlet/event.showcfp?eventid=10137&copyow
 nerid=13297
UID:cfp93766-N@wikicfp.com
END:VEVENT
BEGIN:VEVENT
DTSTAMP:20260421T222212Z
DTSTART;VALUE=DATE:20110507
DTEND;VALUE=DATE:20110513
SUMMARY:CHI 2011
DESCRIPTION:Computer Human Interaction Conference
URL:http://www.wikicfp.com/cfp/servlet/event.showcfp?eventid=10058&copyow
 nerid=13297
UID:cfp93765-E@wikicfp.com
END:VEVENT
BEGIN:VEVENT
DTSTAMP:20260421T222212Z
DTSTART;VALUE=DATE:20100924
SUMMARY:CHI 2011 Deadline
DESCRIPTION:Computer Human Interaction Conference
URL:http://www.wikicfp.com/cfp/servlet/event.showcfp?eventid=10058&copyow
 nerid=13297
UID:cfp93765-D@wikicfp.com
END:VEVENT
BEGIN:VEVENT
DTSTAMP:20260421T222212Z
DTSTART;VALUE=DATE:20110223
DTEND;VALUE=DATE:20110301
SUMMARY:ACHI 2011
DESCRIPTION:The Fourth International Conference on Advances in Computer-H
 uman Interactions 
URL:http://www.wikicfp.com/cfp/servlet/event.showcfp?eventid=10295&copyow
 nerid=13297
UID:cfp93762-E@wikicfp.com
END:VEVENT
BEGIN:VEVENT
DTSTAMP:20260421T222212Z
DTSTART;VALUE=DATE:20101005
SUMMARY:ACHI 2011 Deadline
DESCRIPTION:The Fourth International Conference on Advances in Computer-H
 uman Interactions 
URL:http://www.wikicfp.com/cfp/servlet/event.showcfp?eventid=10295&copyow
 nerid=13297
UID:cfp93762-D@wikicfp.com
END:VEVENT
BEGIN:VEVENT
DTSTAMP:20260421T222212Z
DTSTART;VALUE=DATE:20110122
DTEND;VALUE=DATE:20110127
SUMMARY:TEI 2011
DESCRIPTION:Fifth International Conference on Tangible and Embedded Inter
 action - Explorations
URL:http://www.wikicfp.com/cfp/servlet/event.showcfp?eventid=5837&copyown
 erid=13297
UID:cfp93763-E@wikicfp.com
END:VEVENT
BEGIN:VEVENT
DTSTAMP:20260421T222212Z
DTSTART;VALUE=DATE:20101017
SUMMARY:TEI 2011 Deadline
DESCRIPTION:Fifth International Conference on Tangible and Embedded Inter
 action - Explorations
URL:http://www.wikicfp.com/cfp/servlet/event.showcfp?eventid=5837&copyown
 erid=13297
UID:cfp93763-D@wikicfp.com
END:VEVENT
BEGIN:VEVENT
DTSTAMP:20260421T222212Z
DTSTART;VALUE=DATE:20110905
DTEND;VALUE=DATE:20110910
SUMMARY:INTERACT 2011
DESCRIPTION:13th IFIP TC13 Conference on Human-Computer Interaction
URL:http://www.wikicfp.com/cfp/servlet/event.showcfp?eventid=9513&copyown
 erid=13297
UID:cfp93758-E@wikicfp.com
END:VEVENT
BEGIN:VEVENT
DTSTAMP:20260421T222212Z
DTSTART;VALUE=DATE:20110110
SUMMARY:INTERACT 2011 Abstract Due
DESCRIPTION:13th IFIP TC13 Conference on Human-Computer Interaction
URL:http://www.wikicfp.com/cfp/servlet/event.showcfp?eventid=9513&copyown
 erid=13297
UID:cfp93758-A@wikicfp.com
END:VEVENT
BEGIN:VEVENT
DTSTAMP:20260421T222212Z
DTSTART;VALUE=DATE:20110124
SUMMARY:INTERACT 2011 Deadline
DESCRIPTION:13th IFIP TC13 Conference on Human-Computer Interaction
URL:http://www.wikicfp.com/cfp/servlet/event.showcfp?eventid=9513&copyown
 erid=13297
UID:cfp93758-D@wikicfp.com
END:VEVENT
BEGIN:VEVENT
DTSTAMP:20260421T222212Z
DTSTART;VALUE=DATE:20110328
SUMMARY:INTERACT 2011 Notification Due
DESCRIPTION:13th IFIP TC13 Conference on Human-Computer Interaction
URL:http://www.wikicfp.com/cfp/servlet/event.showcfp?eventid=9513&copyown
 erid=13297
UID:cfp93758-N@wikicfp.com
END:VEVENT
BEGIN:VEVENT
DTSTAMP:20260421T222212Z
DTSTART;VALUE=DATE:20110418
SUMMARY:INTERACT 2011 Final Version Due
DESCRIPTION:13th IFIP TC13 Conference on Human-Computer Interaction
URL:http://www.wikicfp.com/cfp/servlet/event.showcfp?eventid=9513&copyown
 erid=13297
UID:cfp93758-N@wikicfp.com
END:VEVENT
END:VCALENDAR
