BEGIN:VCALENDAR
PRODID:-//WikiCFP//blancavg 1.0//EN
VERSION:2.0
CALSCALE:GREGORIAN
BEGIN:VEVENT
DTSTAMP:20260424T193845Z
DTSTART;VALUE=DATE:20090512
DTEND;VALUE=DATE:20090518
SUMMARY:ICRA 2009
DESCRIPTION:IEEE International Conference on Robotics and Automation
URL:http://www.wikicfp.com/cfp/servlet/event.showcfp?eventid=3279&copyown
 erid=1293
UID:cfp10554-E@wikicfp.com
END:VEVENT
BEGIN:VEVENT
DTSTAMP:20260424T193845Z
DTSTART;VALUE=DATE:20080915
SUMMARY:ICRA 2009 Deadline
DESCRIPTION:IEEE International Conference on Robotics and Automation
URL:http://www.wikicfp.com/cfp/servlet/event.showcfp?eventid=3279&copyown
 erid=1293
UID:cfp10554-D@wikicfp.com
END:VEVENT
BEGIN:VEVENT
DTSTAMP:20260424T193845Z
DTSTART;VALUE=DATE:20090107
SUMMARY:ICRA 2009 Notification Due
DESCRIPTION:IEEE International Conference on Robotics and Automation
URL:http://www.wikicfp.com/cfp/servlet/event.showcfp?eventid=3279&copyown
 erid=1293
UID:cfp10554-N@wikicfp.com
END:VEVENT
BEGIN:VEVENT
DTSTAMP:20260424T193845Z
DTSTART;VALUE=DATE:20100705
DTEND;VALUE=DATE:20100708
SUMMARY:EVA London 2010
DESCRIPTION:Electronic Visualisation and the Arts London 2010
URL:http://www.wikicfp.com/cfp/servlet/event.showcfp?eventid=6925&copyown
 erid=1293
UID:cfp61130-E@wikicfp.com
END:VEVENT
BEGIN:VEVENT
DTSTAMP:20260424T193845Z
DTSTART;VALUE=DATE:20100115
SUMMARY:EVA London 2010 Deadline
DESCRIPTION:Electronic Visualisation and the Arts London 2010
URL:http://www.wikicfp.com/cfp/servlet/event.showcfp?eventid=6925&copyown
 erid=1293
UID:cfp61130-D@wikicfp.com
END:VEVENT
BEGIN:VEVENT
DTSTAMP:20260424T193845Z
DTSTART;VALUE=DATE:20100620
DTEND;VALUE=DATE:20100625
SUMMARY:UMAP 2010
DESCRIPTION:18th International Conference on User Modeling\, Adaptation\,
  and Personalization
URL:http://www.wikicfp.com/cfp/servlet/event.showcfp?eventid=6904&copyown
 erid=1293
UID:cfp61129-E@wikicfp.com
END:VEVENT
BEGIN:VEVENT
DTSTAMP:20260424T193845Z
DTSTART;VALUE=DATE:20100111
SUMMARY:UMAP 2010 Abstract Due
DESCRIPTION:18th International Conference on User Modeling\, Adaptation\,
  and Personalization
URL:http://www.wikicfp.com/cfp/servlet/event.showcfp?eventid=6904&copyown
 erid=1293
UID:cfp61129-A@wikicfp.com
END:VEVENT
BEGIN:VEVENT
DTSTAMP:20260424T193845Z
DTSTART;VALUE=DATE:20100118
SUMMARY:UMAP 2010 Deadline
DESCRIPTION:18th International Conference on User Modeling\, Adaptation\,
  and Personalization
URL:http://www.wikicfp.com/cfp/servlet/event.showcfp?eventid=6904&copyown
 erid=1293
UID:cfp61129-D@wikicfp.com
END:VEVENT
BEGIN:VEVENT
DTSTAMP:20260424T193845Z
DTSTART;VALUE=DATE:20100301
SUMMARY:UMAP 2010 Notification Due
DESCRIPTION:18th International Conference on User Modeling\, Adaptation\,
  and Personalization
URL:http://www.wikicfp.com/cfp/servlet/event.showcfp?eventid=6904&copyown
 erid=1293
UID:cfp61129-N@wikicfp.com
END:VEVENT
BEGIN:VEVENT
DTSTAMP:20260424T193845Z
DTSTART;VALUE=DATE:20100315
SUMMARY:UMAP 2010 Final Version Due
DESCRIPTION:18th International Conference on User Modeling\, Adaptation\,
  and Personalization
URL:http://www.wikicfp.com/cfp/servlet/event.showcfp?eventid=6904&copyown
 erid=1293
UID:cfp61129-N@wikicfp.com
END:VEVENT
BEGIN:VEVENT
DTSTAMP:20260424T193845Z
DTSTART;VALUE=DATE:20100920
DTEND;VALUE=DATE:20100924
SUMMARY:HCI 2010
DESCRIPTION:Human Computer Interaction
URL:http://www.wikicfp.com/cfp/servlet/event.showcfp?eventid=6327&copyown
 erid=1293
UID:cfp61127-E@wikicfp.com
END:VEVENT
BEGIN:VEVENT
DTSTAMP:20260424T193845Z
DTSTART;VALUE=DATE:20100131
SUMMARY:HCI 2010 Deadline
DESCRIPTION:Human Computer Interaction
URL:http://www.wikicfp.com/cfp/servlet/event.showcfp?eventid=6327&copyown
 erid=1293
UID:cfp61127-D@wikicfp.com
END:VEVENT
BEGIN:VEVENT
DTSTAMP:20260424T193845Z
DTSTART;VALUE=DATE:20100423
SUMMARY:HCI 2010 Notification Due
DESCRIPTION:Human Computer Interaction
URL:http://www.wikicfp.com/cfp/servlet/event.showcfp?eventid=6327&copyown
 erid=1293
UID:cfp61127-N@wikicfp.com
END:VEVENT
BEGIN:VEVENT
DTSTAMP:20260424T193845Z
DTSTART;VALUE=DATE:20100515
SUMMARY:HCI 2010 Final Version Due
DESCRIPTION:Human Computer Interaction
URL:http://www.wikicfp.com/cfp/servlet/event.showcfp?eventid=6327&copyown
 erid=1293
UID:cfp61127-N@wikicfp.com
END:VEVENT
BEGIN:VEVENT
DTSTAMP:20260424T193845Z
DTSTART;VALUE=DATE:20100326
DTEND;VALUE=DATE:20100328
SUMMARY:WMHH 2010
DESCRIPTION:1st International Conference on 'What Makes Humans Human?'
URL:http://www.wikicfp.com/cfp/servlet/event.showcfp?eventid=7611&copyown
 erid=1293
UID:cfp60627-E@wikicfp.com
END:VEVENT
BEGIN:VEVENT
DTSTAMP:20260424T193845Z
DTSTART;VALUE=DATE:20100212
SUMMARY:WMHH 2010 Deadline
DESCRIPTION:1st International Conference on 'What Makes Humans Human?'
URL:http://www.wikicfp.com/cfp/servlet/event.showcfp?eventid=7611&copyown
 erid=1293
UID:cfp60627-D@wikicfp.com
END:VEVENT
BEGIN:VEVENT
DTSTAMP:20260424T193845Z
DTSTART;VALUE=DATE:20100222
SUMMARY:WMHH 2010 Notification Due
DESCRIPTION:1st International Conference on 'What Makes Humans Human?'
URL:http://www.wikicfp.com/cfp/servlet/event.showcfp?eventid=7611&copyown
 erid=1293
UID:cfp60627-N@wikicfp.com
END:VEVENT
BEGIN:VEVENT
DTSTAMP:20260424T193845Z
DTSTART;VALUE=DATE:20100301
SUMMARY:WMHH 2010 Final Version Due
DESCRIPTION:1st International Conference on 'What Makes Humans Human?'
URL:http://www.wikicfp.com/cfp/servlet/event.showcfp?eventid=7611&copyown
 erid=1293
UID:cfp60627-N@wikicfp.com
END:VEVENT
BEGIN:VEVENT
DTSTAMP:20260424T193845Z
DTSTART;VALUE=DATE:20100627
DTEND;VALUE=DATE:20100701
SUMMARY:ILP -  2010
DESCRIPTION:20th International Conference on Inductive Logic Programming
URL:http://www.wikicfp.com/cfp/servlet/event.showcfp?eventid=6924&copyown
 erid=1293
UID:cfp61131-E@wikicfp.com
END:VEVENT
BEGIN:VEVENT
DTSTAMP:20260424T193845Z
DTSTART;VALUE=DATE:20100220
SUMMARY:ILP -  2010 Abstract Due
DESCRIPTION:20th International Conference on Inductive Logic Programming
URL:http://www.wikicfp.com/cfp/servlet/event.showcfp?eventid=6924&copyown
 erid=1293
UID:cfp61131-A@wikicfp.com
END:VEVENT
BEGIN:VEVENT
DTSTAMP:20260424T193845Z
DTSTART;VALUE=DATE:20100227
SUMMARY:ILP -  2010 Deadline
DESCRIPTION:20th International Conference on Inductive Logic Programming
URL:http://www.wikicfp.com/cfp/servlet/event.showcfp?eventid=6924&copyown
 erid=1293
UID:cfp61131-D@wikicfp.com
END:VEVENT
BEGIN:VEVENT
DTSTAMP:20260424T193845Z
DTSTART;VALUE=DATE:20100426
SUMMARY:ILP -  2010 Notification Due
DESCRIPTION:20th International Conference on Inductive Logic Programming
URL:http://www.wikicfp.com/cfp/servlet/event.showcfp?eventid=6924&copyown
 erid=1293
UID:cfp61131-N@wikicfp.com
END:VEVENT
BEGIN:VEVENT
DTSTAMP:20260424T193845Z
DTSTART;VALUE=DATE:20101012
SUMMARY:ILP -  2010 Final Version Due
DESCRIPTION:20th International Conference on Inductive Logic Programming
URL:http://www.wikicfp.com/cfp/servlet/event.showcfp?eventid=6924&copyown
 erid=1293
UID:cfp61131-N@wikicfp.com
END:VEVENT
BEGIN:VEVENT
DTSTAMP:20260424T193845Z
DTSTART;VALUE=DATE:20100601
SUMMARY:IJCICG 2010 Deadline
DESCRIPTION:CFP: Int'l. Journal of Creative Interfaces and Computer Graph
 ics
URL:http://www.wikicfp.com/cfp/servlet/event.showcfp?eventid=5611&copyown
 erid=1293
UID:cfp61128-D@wikicfp.com
END:VEVENT
END:VCALENDAR
