BEGIN:VCALENDAR
PRODID:-//WikiCFP//ALS 1.0//EN
VERSION:2.0
CALSCALE:GREGORIAN
BEGIN:VEVENT
DTSTAMP:20260423T005552Z
DTSTART;VALUE=DATE:20190606
DTEND;VALUE=DATE:20190610
SUMMARY:CIRIEC 2019
DESCRIPTION:7th CIRIEC International Research Conference on Social Econom
 y  -  Social and Solidarity Economy: Moving Towards a New Economic Syste
 m
URL:http://www.wikicfp.com/cfp/servlet/event.showcfp?eventid=80585&copyow
 nerid=127354
UID:cfp743427-E@wikicfp.com
END:VEVENT
BEGIN:VEVENT
DTSTAMP:20260423T005552Z
DTSTART;VALUE=DATE:20181215
SUMMARY:CIRIEC 2019 Deadline
DESCRIPTION:7th CIRIEC International Research Conference on Social Econom
 y  -  Social and Solidarity Economy: Moving Towards a New Economic Syste
 m
URL:http://www.wikicfp.com/cfp/servlet/event.showcfp?eventid=80585&copyow
 nerid=127354
UID:cfp743427-D@wikicfp.com
END:VEVENT
BEGIN:VEVENT
DTSTAMP:20260423T005552Z
DTSTART;VALUE=DATE:20190125
SUMMARY:CIRIEC 2019 Notification Due
DESCRIPTION:7th CIRIEC International Research Conference on Social Econom
 y  -  Social and Solidarity Economy: Moving Towards a New Economic Syste
 m
URL:http://www.wikicfp.com/cfp/servlet/event.showcfp?eventid=80585&copyow
 nerid=127354
UID:cfp743427-N@wikicfp.com
END:VEVENT
BEGIN:VEVENT
DTSTAMP:20260423T005552Z
DTSTART;VALUE=DATE:20190515
SUMMARY:CIRIEC 2019 Final Version Due
DESCRIPTION:7th CIRIEC International Research Conference on Social Econom
 y  -  Social and Solidarity Economy: Moving Towards a New Economic Syste
 m
URL:http://www.wikicfp.com/cfp/servlet/event.showcfp?eventid=80585&copyow
 nerid=127354
UID:cfp743427-N@wikicfp.com
END:VEVENT
END:VCALENDAR
