BEGIN:VCALENDAR
PRODID:-//WikiCFP//swilk 1.0//EN
VERSION:2.0
CALSCALE:GREGORIAN
BEGIN:VEVENT
DTSTAMP:20260420T193113Z
DTSTART;VALUE=DATE:20190626
DTEND;VALUE=DATE:20190630
SUMMARY:AIME 2019
DESCRIPTION:17th Conference on Artificial Intelligence in Medicine
URL:http://www.wikicfp.com/cfp/servlet/event.showcfp?eventid=80371&copyow
 nerid=127033
UID:cfp742575-E@wikicfp.com
END:VEVENT
BEGIN:VEVENT
DTSTAMP:20260420T193113Z
DTSTART;VALUE=DATE:20190115
SUMMARY:AIME 2019 Abstract Due
DESCRIPTION:17th Conference on Artificial Intelligence in Medicine
URL:http://www.wikicfp.com/cfp/servlet/event.showcfp?eventid=80371&copyow
 nerid=127033
UID:cfp742575-A@wikicfp.com
END:VEVENT
BEGIN:VEVENT
DTSTAMP:20260420T193113Z
DTSTART;VALUE=DATE:20190201
SUMMARY:AIME 2019 Deadline
DESCRIPTION:17th Conference on Artificial Intelligence in Medicine
URL:http://www.wikicfp.com/cfp/servlet/event.showcfp?eventid=80371&copyow
 nerid=127033
UID:cfp742575-D@wikicfp.com
END:VEVENT
BEGIN:VEVENT
DTSTAMP:20260420T193113Z
DTSTART;VALUE=DATE:20190313
SUMMARY:AIME 2019 Notification Due
DESCRIPTION:17th Conference on Artificial Intelligence in Medicine
URL:http://www.wikicfp.com/cfp/servlet/event.showcfp?eventid=80371&copyow
 nerid=127033
UID:cfp742575-N@wikicfp.com
END:VEVENT
BEGIN:VEVENT
DTSTAMP:20260420T193113Z
DTSTART;VALUE=DATE:20190405
SUMMARY:AIME 2019 Final Version Due
DESCRIPTION:17th Conference on Artificial Intelligence in Medicine
URL:http://www.wikicfp.com/cfp/servlet/event.showcfp?eventid=80371&copyow
 nerid=127033
UID:cfp742575-N@wikicfp.com
END:VEVENT
END:VCALENDAR
