BEGIN:VCALENDAR
PRODID:-//WikiCFP//thinkheaven 1.0//EN
VERSION:2.0
CALSCALE:GREGORIAN
BEGIN:VEVENT
DTSTAMP:20260423T062626Z
DTSTART;VALUE=DATE:20110830
DTEND;VALUE=DATE:20110902
SUMMARY:BMVC 2011
DESCRIPTION:British Machine Vision Conference (BMVC) 2011
URL:http://www.wikicfp.com/cfp/servlet/event.showcfp?eventid=15086&copyow
 nerid=12607
UID:cfp156713-E@wikicfp.com
END:VEVENT
BEGIN:VEVENT
DTSTAMP:20260423T062626Z
DTSTART;VALUE=DATE:20110415
SUMMARY:BMVC 2011 Deadline
DESCRIPTION:British Machine Vision Conference (BMVC) 2011
URL:http://www.wikicfp.com/cfp/servlet/event.showcfp?eventid=15086&copyow
 nerid=12607
UID:cfp156713-D@wikicfp.com
END:VEVENT
BEGIN:VEVENT
DTSTAMP:20260423T062626Z
DTSTART;VALUE=DATE:20110628
SUMMARY:BMVC 2011 Notification Due
DESCRIPTION:British Machine Vision Conference (BMVC) 2011
URL:http://www.wikicfp.com/cfp/servlet/event.showcfp?eventid=15086&copyow
 nerid=12607
UID:cfp156713-N@wikicfp.com
END:VEVENT
BEGIN:VEVENT
DTSTAMP:20260423T062626Z
DTSTART;VALUE=DATE:20110801
SUMMARY:BMVC 2011 Final Version Due
DESCRIPTION:British Machine Vision Conference (BMVC) 2011
URL:http://www.wikicfp.com/cfp/servlet/event.showcfp?eventid=15086&copyow
 nerid=12607
UID:cfp156713-N@wikicfp.com
END:VEVENT
BEGIN:VEVENT
DTSTAMP:20260423T062626Z
DTSTART;VALUE=DATE:20110905
DTEND;VALUE=DATE:20110910
SUMMARY:ECML PKDD  2011
DESCRIPTION:The European Conference on Machine Learning and Principles an
 d Practice of Knowledge Discovery in Databases 
URL:http://www.wikicfp.com/cfp/servlet/event.showcfp?eventid=12611&copyow
 nerid=12607
UID:cfp156711-E@wikicfp.com
END:VEVENT
BEGIN:VEVENT
DTSTAMP:20260423T062626Z
DTSTART;VALUE=DATE:20110412
SUMMARY:ECML PKDD  2011 Abstract Due
DESCRIPTION:The European Conference on Machine Learning and Principles an
 d Practice of Knowledge Discovery in Databases 
URL:http://www.wikicfp.com/cfp/servlet/event.showcfp?eventid=12611&copyow
 nerid=12607
UID:cfp156711-A@wikicfp.com
END:VEVENT
BEGIN:VEVENT
DTSTAMP:20260423T062626Z
DTSTART;VALUE=DATE:20110419
SUMMARY:ECML PKDD  2011 Deadline
DESCRIPTION:The European Conference on Machine Learning and Principles an
 d Practice of Knowledge Discovery in Databases 
URL:http://www.wikicfp.com/cfp/servlet/event.showcfp?eventid=12611&copyow
 nerid=12607
UID:cfp156711-D@wikicfp.com
END:VEVENT
BEGIN:VEVENT
DTSTAMP:20260423T062626Z
DTSTART;VALUE=DATE:20110603
SUMMARY:ECML PKDD  2011 Notification Due
DESCRIPTION:The European Conference on Machine Learning and Principles an
 d Practice of Knowledge Discovery in Databases 
URL:http://www.wikicfp.com/cfp/servlet/event.showcfp?eventid=12611&copyow
 nerid=12607
UID:cfp156711-N@wikicfp.com
END:VEVENT
BEGIN:VEVENT
DTSTAMP:20260423T062626Z
DTSTART;VALUE=DATE:20110612
SUMMARY:ECML PKDD  2011 Final Version Due
DESCRIPTION:The European Conference on Machine Learning and Principles an
 d Practice of Knowledge Discovery in Databases 
URL:http://www.wikicfp.com/cfp/servlet/event.showcfp?eventid=12611&copyow
 nerid=12607
UID:cfp156711-N@wikicfp.com
END:VEVENT
BEGIN:VEVENT
DTSTAMP:20260423T062626Z
DTSTART;VALUE=DATE:20111114
DTEND;VALUE=DATE:20111119
SUMMARY:ICMI 2011
DESCRIPTION:13th International Conference on Multimodal Interaction
URL:http://www.wikicfp.com/cfp/servlet/event.showcfp?eventid=12239&copyow
 nerid=12607
UID:cfp156715-E@wikicfp.com
END:VEVENT
BEGIN:VEVENT
DTSTAMP:20260423T062626Z
DTSTART;VALUE=DATE:20110520
SUMMARY:ICMI 2011 Deadline
DESCRIPTION:13th International Conference on Multimodal Interaction
URL:http://www.wikicfp.com/cfp/servlet/event.showcfp?eventid=12239&copyow
 nerid=12607
UID:cfp156715-D@wikicfp.com
END:VEVENT
BEGIN:VEVENT
DTSTAMP:20260423T062626Z
DTSTART;VALUE=DATE:20110808
SUMMARY:ICMI 2011 Notification Due
DESCRIPTION:13th International Conference on Multimodal Interaction
URL:http://www.wikicfp.com/cfp/servlet/event.showcfp?eventid=12239&copyow
 nerid=12607
UID:cfp156715-N@wikicfp.com
END:VEVENT
BEGIN:VEVENT
DTSTAMP:20260423T062626Z
DTSTART;VALUE=DATE:20110902
SUMMARY:ICMI 2011 Final Version Due
DESCRIPTION:13th International Conference on Multimodal Interaction
URL:http://www.wikicfp.com/cfp/servlet/event.showcfp?eventid=12239&copyow
 nerid=12607
UID:cfp156715-N@wikicfp.com
END:VEVENT
BEGIN:VEVENT
DTSTAMP:20260423T062626Z
DTSTART;VALUE=DATE:20111212
DTEND;VALUE=DATE:20111216
SUMMARY:NIPS 2011
DESCRIPTION:Neural Information Processing Systems Conference
URL:http://www.wikicfp.com/cfp/servlet/event.showcfp?eventid=14638&copyow
 nerid=12607
UID:cfp156712-E@wikicfp.com
END:VEVENT
BEGIN:VEVENT
DTSTAMP:20260423T062626Z
DTSTART;VALUE=DATE:20110602
SUMMARY:NIPS 2011 Deadline
DESCRIPTION:Neural Information Processing Systems Conference
URL:http://www.wikicfp.com/cfp/servlet/event.showcfp?eventid=14638&copyow
 nerid=12607
UID:cfp156712-D@wikicfp.com
END:VEVENT
END:VCALENDAR
