BEGIN:VCALENDAR
PRODID:-//WikiCFP//roumaissa 1.0//EN
VERSION:2.0
CALSCALE:GREGORIAN
BEGIN:VEVENT
DTSTAMP:20260421T202553Z
DTSTART;VALUE=DATE:20181201
DTEND;VALUE=DATE:20181203
SUMMARY:icaase 2018
DESCRIPTION: International Conference on Advanced Aspects of Software Eng
 ineering
URL:http://www.wikicfp.com/cfp/servlet/event.showcfp?eventid=73138&copyow
 nerid=123950
UID:cfp737337-E@wikicfp.com
END:VEVENT
BEGIN:VEVENT
DTSTAMP:20260421T202553Z
DTSTART;VALUE=DATE:20180923
SUMMARY:icaase 2018 Deadline
DESCRIPTION: International Conference on Advanced Aspects of Software Eng
 ineering
URL:http://www.wikicfp.com/cfp/servlet/event.showcfp?eventid=73138&copyow
 nerid=123950
UID:cfp737337-D@wikicfp.com
END:VEVENT
BEGIN:VEVENT
DTSTAMP:20260421T202553Z
DTSTART;VALUE=DATE:20181111
SUMMARY:icaase 2018 Notification Due
DESCRIPTION: International Conference on Advanced Aspects of Software Eng
 ineering
URL:http://www.wikicfp.com/cfp/servlet/event.showcfp?eventid=73138&copyow
 nerid=123950
UID:cfp737337-N@wikicfp.com
END:VEVENT
BEGIN:VEVENT
DTSTAMP:20260421T202553Z
DTSTART;VALUE=DATE:20181120
SUMMARY:icaase 2018 Final Version Due
DESCRIPTION: International Conference on Advanced Aspects of Software Eng
 ineering
URL:http://www.wikicfp.com/cfp/servlet/event.showcfp?eventid=73138&copyow
 nerid=123950
UID:cfp737337-N@wikicfp.com
END:VEVENT
END:VCALENDAR
