BEGIN:VCALENDAR
PRODID:-//WikiCFP//kirstenbrux 1.0//EN
VERSION:2.0
CALSCALE:GREGORIAN
BEGIN:VEVENT
DTSTAMP:20260419T211031Z
DTSTART;VALUE=DATE:20100817
DTEND;VALUE=DATE:20100818
SUMMARY:ODS 2010
DESCRIPTION:Open Design Spaces - Socially Crafting Interactive Experience
 s
URL:http://www.wikicfp.com/cfp/servlet/event.showcfp?eventid=9449&copyown
 erid=12394
UID:cfp88985-E@wikicfp.com
END:VEVENT
BEGIN:VEVENT
DTSTAMP:20260419T211031Z
DTSTART;VALUE=DATE:20100601
SUMMARY:ODS 2010 Deadline
DESCRIPTION:Open Design Spaces - Socially Crafting Interactive Experience
 s
URL:http://www.wikicfp.com/cfp/servlet/event.showcfp?eventid=9449&copyown
 erid=12394
UID:cfp88985-D@wikicfp.com
END:VEVENT
BEGIN:VEVENT
DTSTAMP:20260419T211031Z
DTSTART;VALUE=DATE:20100625
SUMMARY:ODS 2010 Notification Due
DESCRIPTION:Open Design Spaces - Socially Crafting Interactive Experience
 s
URL:http://www.wikicfp.com/cfp/servlet/event.showcfp?eventid=9449&copyown
 erid=12394
UID:cfp88985-N@wikicfp.com
END:VEVENT
BEGIN:VEVENT
DTSTAMP:20260419T211031Z
DTSTART;VALUE=DATE:20100801
SUMMARY:ODS 2010 Final Version Due
DESCRIPTION:Open Design Spaces - Socially Crafting Interactive Experience
 s
URL:http://www.wikicfp.com/cfp/servlet/event.showcfp?eventid=9449&copyown
 erid=12394
UID:cfp88985-N@wikicfp.com
END:VEVENT
BEGIN:VEVENT
DTSTAMP:20260419T211031Z
DTSTART;VALUE=DATE:20101014
DTEND;VALUE=DATE:20101016
SUMMARY:HCSE 2010
DESCRIPTION:3rd Conference on Human-Centred Software Engineering 
URL:http://www.wikicfp.com/cfp/servlet/event.showcfp?eventid=7239&copyown
 erid=12394
UID:cfp88987-E@wikicfp.com
END:VEVENT
BEGIN:VEVENT
DTSTAMP:20260419T211031Z
DTSTART;VALUE=DATE:20100531
SUMMARY:HCSE 2010 Abstract Due
DESCRIPTION:3rd Conference on Human-Centred Software Engineering 
URL:http://www.wikicfp.com/cfp/servlet/event.showcfp?eventid=7239&copyown
 erid=12394
UID:cfp88987-A@wikicfp.com
END:VEVENT
BEGIN:VEVENT
DTSTAMP:20260419T211031Z
DTSTART;VALUE=DATE:20100614
SUMMARY:HCSE 2010 Deadline
DESCRIPTION:3rd Conference on Human-Centred Software Engineering 
URL:http://www.wikicfp.com/cfp/servlet/event.showcfp?eventid=7239&copyown
 erid=12394
UID:cfp88987-D@wikicfp.com
END:VEVENT
BEGIN:VEVENT
DTSTAMP:20260419T211031Z
DTSTART;VALUE=DATE:20100719
SUMMARY:HCSE 2010 Notification Due
DESCRIPTION:3rd Conference on Human-Centred Software Engineering 
URL:http://www.wikicfp.com/cfp/servlet/event.showcfp?eventid=7239&copyown
 erid=12394
UID:cfp88987-N@wikicfp.com
END:VEVENT
BEGIN:VEVENT
DTSTAMP:20260419T211031Z
DTSTART;VALUE=DATE:20100809
SUMMARY:HCSE 2010 Final Version Due
DESCRIPTION:3rd Conference on Human-Centred Software Engineering 
URL:http://www.wikicfp.com/cfp/servlet/event.showcfp?eventid=7239&copyown
 erid=12394
UID:cfp88987-N@wikicfp.com
END:VEVENT
BEGIN:VEVENT
DTSTAMP:20260419T211031Z
DTSTART;VALUE=DATE:20101014
DTEND;VALUE=DATE:20101016
SUMMARY:UPINLBS 2010
DESCRIPTION:The International Conference on Ubiquitous Positioning Indoor
  Navigation and Location Based Service
URL:http://www.wikicfp.com/cfp/servlet/event.showcfp?eventid=8827&copyown
 erid=12394
UID:cfp88993-E@wikicfp.com
END:VEVENT
BEGIN:VEVENT
DTSTAMP:20260419T211031Z
DTSTART;VALUE=DATE:20100630
SUMMARY:UPINLBS 2010 Deadline
DESCRIPTION:The International Conference on Ubiquitous Positioning Indoor
  Navigation and Location Based Service
URL:http://www.wikicfp.com/cfp/servlet/event.showcfp?eventid=8827&copyown
 erid=12394
UID:cfp88993-D@wikicfp.com
END:VEVENT
BEGIN:VEVENT
DTSTAMP:20260419T211031Z
DTSTART;VALUE=DATE:20100831
SUMMARY:UPINLBS 2010 Notification Due
DESCRIPTION:The International Conference on Ubiquitous Positioning Indoor
  Navigation and Location Based Service
URL:http://www.wikicfp.com/cfp/servlet/event.showcfp?eventid=8827&copyown
 erid=12394
UID:cfp88993-N@wikicfp.com
END:VEVENT
BEGIN:VEVENT
DTSTAMP:20260419T211031Z
DTSTART;VALUE=DATE:20101015
SUMMARY:UPINLBS 2010 Final Version Due
DESCRIPTION:The International Conference on Ubiquitous Positioning Indoor
  Navigation and Location Based Service
URL:http://www.wikicfp.com/cfp/servlet/event.showcfp?eventid=8827&copyown
 erid=12394
UID:cfp88993-N@wikicfp.com
END:VEVENT
BEGIN:VEVENT
DTSTAMP:20260419T211031Z
DTSTART;VALUE=DATE:20100630
SUMMARY:BUJICT 2010 Deadline
DESCRIPTION:BAHRIA UNIVERSITY Journal of Information & Communication Tech
 nology
URL:http://www.wikicfp.com/cfp/servlet/event.showcfp?eventid=9548&copyown
 erid=12394
UID:cfp88980-D@wikicfp.com
END:VEVENT
BEGIN:VEVENT
DTSTAMP:20260419T211031Z
DTSTART;VALUE=DATE:20100730
SUMMARY:BUJICT 2010 Notification Due
DESCRIPTION:BAHRIA UNIVERSITY Journal of Information & Communication Tech
 nology
URL:http://www.wikicfp.com/cfp/servlet/event.showcfp?eventid=9548&copyown
 erid=12394
UID:cfp88980-N@wikicfp.com
END:VEVENT
BEGIN:VEVENT
DTSTAMP:20260419T211031Z
DTSTART;VALUE=DATE:20100815
SUMMARY:BUJICT 2010 Final Version Due
DESCRIPTION:BAHRIA UNIVERSITY Journal of Information & Communication Tech
 nology
URL:http://www.wikicfp.com/cfp/servlet/event.showcfp?eventid=9548&copyown
 erid=12394
UID:cfp88980-N@wikicfp.com
END:VEVENT
BEGIN:VEVENT
DTSTAMP:20260419T211031Z
DTSTART;VALUE=DATE:20101201
DTEND;VALUE=DATE:20101204
SUMMARY:ICPCA 2010
DESCRIPTION:5th International Conference on Pervasive Computing and Appli
 cations
URL:http://www.wikicfp.com/cfp/servlet/event.showcfp?eventid=9305&copyown
 erid=12394
UID:cfp88990-E@wikicfp.com
END:VEVENT
BEGIN:VEVENT
DTSTAMP:20260419T211031Z
DTSTART;VALUE=DATE:20100701
SUMMARY:ICPCA 2010 Deadline
DESCRIPTION:5th International Conference on Pervasive Computing and Appli
 cations
URL:http://www.wikicfp.com/cfp/servlet/event.showcfp?eventid=9305&copyown
 erid=12394
UID:cfp88990-D@wikicfp.com
END:VEVENT
BEGIN:VEVENT
DTSTAMP:20260419T211031Z
DTSTART;VALUE=DATE:20100915
SUMMARY:ICPCA 2010 Notification Due
DESCRIPTION:5th International Conference on Pervasive Computing and Appli
 cations
URL:http://www.wikicfp.com/cfp/servlet/event.showcfp?eventid=9305&copyown
 erid=12394
UID:cfp88990-N@wikicfp.com
END:VEVENT
BEGIN:VEVENT
DTSTAMP:20260419T211031Z
DTSTART;VALUE=DATE:20101015
SUMMARY:ICPCA 2010 Final Version Due
DESCRIPTION:5th International Conference on Pervasive Computing and Appli
 cations
URL:http://www.wikicfp.com/cfp/servlet/event.showcfp?eventid=9305&copyown
 erid=12394
UID:cfp88990-N@wikicfp.com
END:VEVENT
BEGIN:VEVENT
DTSTAMP:20260419T211031Z
DTSTART;VALUE=DATE:20101108
DTEND;VALUE=DATE:20101111
SUMMARY:TwUC 2010
DESCRIPTION:Trustworthy Ubiquitous Computing 2010
URL:http://www.wikicfp.com/cfp/servlet/event.showcfp?eventid=8859&copyown
 erid=12394
UID:cfp88991-E@wikicfp.com
END:VEVENT
BEGIN:VEVENT
DTSTAMP:20260419T211031Z
DTSTART;VALUE=DATE:20100731
SUMMARY:TwUC 2010 Deadline
DESCRIPTION:Trustworthy Ubiquitous Computing 2010
URL:http://www.wikicfp.com/cfp/servlet/event.showcfp?eventid=8859&copyown
 erid=12394
UID:cfp88991-D@wikicfp.com
END:VEVENT
BEGIN:VEVENT
DTSTAMP:20260419T211031Z
DTSTART;VALUE=DATE:20100830
SUMMARY:TwUC 2010 Notification Due
DESCRIPTION:Trustworthy Ubiquitous Computing 2010
URL:http://www.wikicfp.com/cfp/servlet/event.showcfp?eventid=8859&copyown
 erid=12394
UID:cfp88991-N@wikicfp.com
END:VEVENT
BEGIN:VEVENT
DTSTAMP:20260419T211031Z
DTSTART;VALUE=DATE:20100930
SUMMARY:TwUC 2010 Final Version Due
DESCRIPTION:Trustworthy Ubiquitous Computing 2010
URL:http://www.wikicfp.com/cfp/servlet/event.showcfp?eventid=8859&copyown
 erid=12394
UID:cfp88991-N@wikicfp.com
END:VEVENT
BEGIN:VEVENT
DTSTAMP:20260419T211031Z
DTSTART;VALUE=DATE:20110507
DTEND;VALUE=DATE:20110513
SUMMARY:CHI 2011
DESCRIPTION:Computer Human Interaction Conference
URL:http://www.wikicfp.com/cfp/servlet/event.showcfp?eventid=10058&copyow
 nerid=12394
UID:cfp88988-E@wikicfp.com
END:VEVENT
BEGIN:VEVENT
DTSTAMP:20260419T211031Z
DTSTART;VALUE=DATE:20100924
SUMMARY:CHI 2011 Deadline
DESCRIPTION:Computer Human Interaction Conference
URL:http://www.wikicfp.com/cfp/servlet/event.showcfp?eventid=10058&copyow
 nerid=12394
UID:cfp88988-D@wikicfp.com
END:VEVENT
BEGIN:VEVENT
DTSTAMP:20260419T211031Z
DTSTART;VALUE=DATE:20110410
DTEND;VALUE=DATE:20110414
SUMMARY:Eurosys 2011
DESCRIPTION:European Conference on Computer Systems
URL:http://www.wikicfp.com/cfp/servlet/event.showcfp?eventid=10033&copyow
 nerid=12394
UID:cfp88983-E@wikicfp.com
END:VEVENT
BEGIN:VEVENT
DTSTAMP:20260419T211031Z
DTSTART;VALUE=DATE:20100910
SUMMARY:Eurosys 2011 Abstract Due
DESCRIPTION:European Conference on Computer Systems
URL:http://www.wikicfp.com/cfp/servlet/event.showcfp?eventid=10033&copyow
 nerid=12394
UID:cfp88983-A@wikicfp.com
END:VEVENT
BEGIN:VEVENT
DTSTAMP:20260419T211031Z
DTSTART;VALUE=DATE:20101010
SUMMARY:Eurosys 2011 Deadline
DESCRIPTION:European Conference on Computer Systems
URL:http://www.wikicfp.com/cfp/servlet/event.showcfp?eventid=10033&copyow
 nerid=12394
UID:cfp88983-D@wikicfp.com
END:VEVENT
BEGIN:VEVENT
DTSTAMP:20260419T211031Z
DTSTART;VALUE=DATE:20101225
SUMMARY:Eurosys 2011 Notification Due
DESCRIPTION:European Conference on Computer Systems
URL:http://www.wikicfp.com/cfp/servlet/event.showcfp?eventid=10033&copyow
 nerid=12394
UID:cfp88983-N@wikicfp.com
END:VEVENT
BEGIN:VEVENT
DTSTAMP:20260419T211031Z
DTSTART;VALUE=DATE:20110905
DTEND;VALUE=DATE:20110910
SUMMARY:INTERACT 2011
DESCRIPTION:13th IFIP TC13 Conference on Human-Computer Interaction
URL:http://www.wikicfp.com/cfp/servlet/event.showcfp?eventid=9513&copyown
 erid=12394
UID:cfp88986-E@wikicfp.com
END:VEVENT
BEGIN:VEVENT
DTSTAMP:20260419T211031Z
DTSTART;VALUE=DATE:20110110
SUMMARY:INTERACT 2011 Abstract Due
DESCRIPTION:13th IFIP TC13 Conference on Human-Computer Interaction
URL:http://www.wikicfp.com/cfp/servlet/event.showcfp?eventid=9513&copyown
 erid=12394
UID:cfp88986-A@wikicfp.com
END:VEVENT
BEGIN:VEVENT
DTSTAMP:20260419T211031Z
DTSTART;VALUE=DATE:20110124
SUMMARY:INTERACT 2011 Deadline
DESCRIPTION:13th IFIP TC13 Conference on Human-Computer Interaction
URL:http://www.wikicfp.com/cfp/servlet/event.showcfp?eventid=9513&copyown
 erid=12394
UID:cfp88986-D@wikicfp.com
END:VEVENT
BEGIN:VEVENT
DTSTAMP:20260419T211031Z
DTSTART;VALUE=DATE:20110328
SUMMARY:INTERACT 2011 Notification Due
DESCRIPTION:13th IFIP TC13 Conference on Human-Computer Interaction
URL:http://www.wikicfp.com/cfp/servlet/event.showcfp?eventid=9513&copyown
 erid=12394
UID:cfp88986-N@wikicfp.com
END:VEVENT
BEGIN:VEVENT
DTSTAMP:20260419T211031Z
DTSTART;VALUE=DATE:20110418
SUMMARY:INTERACT 2011 Final Version Due
DESCRIPTION:13th IFIP TC13 Conference on Human-Computer Interaction
URL:http://www.wikicfp.com/cfp/servlet/event.showcfp?eventid=9513&copyown
 erid=12394
UID:cfp88986-N@wikicfp.com
END:VEVENT
BEGIN:VEVENT
DTSTAMP:20260419T211031Z
DTSTART;VALUE=DATE:20110216
SUMMARY:Special Issue on 'Mobile Applications' 2011 Deadline
DESCRIPTION:Special Issue of the Journal of Systems and Software on 'Mobi
 le Applications: Status and Trends'
URL:http://www.wikicfp.com/cfp/servlet/event.showcfp?eventid=10094&copyow
 nerid=12394
UID:cfp88989-D@wikicfp.com
END:VEVENT
BEGIN:VEVENT
DTSTAMP:20260419T211031Z
DTSTART;VALUE=DATE:20110331
SUMMARY:Special Issue on 'Mobile Applications' 2011 Notification Due
DESCRIPTION:Special Issue of the Journal of Systems and Software on 'Mobi
 le Applications: Status and Trends'
URL:http://www.wikicfp.com/cfp/servlet/event.showcfp?eventid=10094&copyow
 nerid=12394
UID:cfp88989-N@wikicfp.com
END:VEVENT
BEGIN:VEVENT
DTSTAMP:20260419T211031Z
DTSTART;VALUE=DATE:20110430
SUMMARY:Special Issue on 'Mobile Applications' 2011 Final Version Due
DESCRIPTION:Special Issue of the Journal of Systems and Software on 'Mobi
 le Applications: Status and Trends'
URL:http://www.wikicfp.com/cfp/servlet/event.showcfp?eventid=10094&copyow
 nerid=12394
UID:cfp88989-N@wikicfp.com
END:VEVENT
BEGIN:VEVENT
DTSTAMP:20260419T211031Z
DTSTART;VALUE=DATE:20120425
DTEND;VALUE=DATE:20120428
SUMMARY:BCFIC 2012
DESCRIPTION:Conference on Future Internet Communications
URL:http://www.wikicfp.com/cfp/servlet/event.showcfp?eventid=9716&copyown
 erid=12394
UID:cfp88994-E@wikicfp.com
END:VEVENT
BEGIN:VEVENT
DTSTAMP:20260419T211031Z
DTSTART;VALUE=DATE:20120207
SUMMARY:BCFIC 2012 Deadline
DESCRIPTION:Conference on Future Internet Communications
URL:http://www.wikicfp.com/cfp/servlet/event.showcfp?eventid=9716&copyown
 erid=12394
UID:cfp88994-D@wikicfp.com
END:VEVENT
BEGIN:VEVENT
DTSTAMP:20260419T211031Z
DTSTART;VALUE=DATE:20120305
SUMMARY:BCFIC 2012 Notification Due
DESCRIPTION:Conference on Future Internet Communications
URL:http://www.wikicfp.com/cfp/servlet/event.showcfp?eventid=9716&copyown
 erid=12394
UID:cfp88994-N@wikicfp.com
END:VEVENT
BEGIN:VEVENT
DTSTAMP:20260419T211031Z
DTSTART;VALUE=DATE:20120326
SUMMARY:BCFIC 2012 Final Version Due
DESCRIPTION:Conference on Future Internet Communications
URL:http://www.wikicfp.com/cfp/servlet/event.showcfp?eventid=9716&copyown
 erid=12394
UID:cfp88994-N@wikicfp.com
END:VEVENT
END:VCALENDAR
