BEGIN:VCALENDAR
PRODID:-//WikiCFP//wander_kid 1.0//EN
VERSION:2.0
CALSCALE:GREGORIAN
BEGIN:VEVENT
DTSTAMP:20260422T053715Z
DTSTART;VALUE=DATE:20180618
DTEND;VALUE=DATE:20180623
SUMMARY:CVPR 2018
DESCRIPTION:Computer Vision and Pattern Recognition
URL:http://www.wikicfp.com/cfp/servlet/event.showcfp?eventid=67108&copyow
 nerid=121077
UID:cfp731943-E@wikicfp.com
END:VEVENT
BEGIN:VEVENT
DTSTAMP:20260422T053715Z
DTSTART;VALUE=DATE:20171108
SUMMARY:CVPR 2018 Abstract Due
DESCRIPTION:Computer Vision and Pattern Recognition
URL:http://www.wikicfp.com/cfp/servlet/event.showcfp?eventid=67108&copyow
 nerid=121077
UID:cfp731943-A@wikicfp.com
END:VEVENT
BEGIN:VEVENT
DTSTAMP:20260422T053715Z
DTSTART;VALUE=DATE:20171115
SUMMARY:CVPR 2018 Deadline
DESCRIPTION:Computer Vision and Pattern Recognition
URL:http://www.wikicfp.com/cfp/servlet/event.showcfp?eventid=67108&copyow
 nerid=121077
UID:cfp731943-D@wikicfp.com
END:VEVENT
BEGIN:VEVENT
DTSTAMP:20260422T053715Z
DTSTART;VALUE=DATE:20180228
SUMMARY:CVPR 2018 Notification Due
DESCRIPTION:Computer Vision and Pattern Recognition
URL:http://www.wikicfp.com/cfp/servlet/event.showcfp?eventid=67108&copyow
 nerid=121077
UID:cfp731943-N@wikicfp.com
END:VEVENT
BEGIN:VEVENT
DTSTAMP:20260422T053715Z
DTSTART;VALUE=DATE:20190127
DTEND;VALUE=DATE:20190202
SUMMARY:AAAI 2019
DESCRIPTION:National Conference on Artificial Intelligence
URL:http://www.wikicfp.com/cfp/servlet/event.showcfp?eventid=75888&copyow
 nerid=121077
UID:cfp731944-E@wikicfp.com
END:VEVENT
BEGIN:VEVENT
DTSTAMP:20260422T053715Z
DTSTART;VALUE=DATE:20180901
SUMMARY:AAAI 2019 Abstract Due
DESCRIPTION:National Conference on Artificial Intelligence
URL:http://www.wikicfp.com/cfp/servlet/event.showcfp?eventid=75888&copyow
 nerid=121077
UID:cfp731944-A@wikicfp.com
END:VEVENT
BEGIN:VEVENT
DTSTAMP:20260422T053715Z
DTSTART;VALUE=DATE:20180905
SUMMARY:AAAI 2019 Deadline
DESCRIPTION:National Conference on Artificial Intelligence
URL:http://www.wikicfp.com/cfp/servlet/event.showcfp?eventid=75888&copyow
 nerid=121077
UID:cfp731944-D@wikicfp.com
END:VEVENT
BEGIN:VEVENT
DTSTAMP:20260422T053715Z
DTSTART;VALUE=DATE:20181101
SUMMARY:AAAI 2019 Notification Due
DESCRIPTION:National Conference on Artificial Intelligence
URL:http://www.wikicfp.com/cfp/servlet/event.showcfp?eventid=75888&copyow
 nerid=121077
UID:cfp731944-N@wikicfp.com
END:VEVENT
BEGIN:VEVENT
DTSTAMP:20260422T053715Z
DTSTART;VALUE=DATE:20181114
SUMMARY:AAAI 2019 Final Version Due
DESCRIPTION:National Conference on Artificial Intelligence
URL:http://www.wikicfp.com/cfp/servlet/event.showcfp?eventid=75888&copyow
 nerid=121077
UID:cfp731944-N@wikicfp.com
END:VEVENT
BEGIN:VEVENT
DTSTAMP:20260422T053715Z
DTSTART;VALUE=DATE:20230108
DTEND;VALUE=DATE:20230112
SUMMARY:CIDR 2023
DESCRIPTION:Conference on Innovative Data Systems Research
URL:http://www.wikicfp.com/cfp/servlet/event.showcfp?eventid=165891&copyo
 wnerid=121077
UID:cfp959522-E@wikicfp.com
END:VEVENT
BEGIN:VEVENT
DTSTAMP:20260422T053715Z
DTSTART;VALUE=DATE:20220819
SUMMARY:CIDR 2023 Deadline
DESCRIPTION:Conference on Innovative Data Systems Research
URL:http://www.wikicfp.com/cfp/servlet/event.showcfp?eventid=165891&copyo
 wnerid=121077
UID:cfp959522-D@wikicfp.com
END:VEVENT
BEGIN:VEVENT
DTSTAMP:20260422T053715Z
DTSTART;VALUE=DATE:20221014
SUMMARY:CIDR 2023 Notification Due
DESCRIPTION:Conference on Innovative Data Systems Research
URL:http://www.wikicfp.com/cfp/servlet/event.showcfp?eventid=165891&copyo
 wnerid=121077
UID:cfp959522-N@wikicfp.com
END:VEVENT
BEGIN:VEVENT
DTSTAMP:20260422T053715Z
DTSTART;VALUE=DATE:20230618
DTEND;VALUE=DATE:20230624
SUMMARY:SIGMOD 2023
DESCRIPTION:International Conference on Management of Data
URL:http://www.wikicfp.com/cfp/servlet/event.showcfp?eventid=165215&copyo
 wnerid=121077
UID:cfp959566-E@wikicfp.com
END:VEVENT
BEGIN:VEVENT
DTSTAMP:20260422T053715Z
DTSTART;VALUE=DATE:20221015
SUMMARY:SIGMOD 2023 Deadline
DESCRIPTION:International Conference on Management of Data
URL:http://www.wikicfp.com/cfp/servlet/event.showcfp?eventid=165215&copyo
 wnerid=121077
UID:cfp959566-D@wikicfp.com
END:VEVENT
BEGIN:VEVENT
DTSTAMP:20260422T053715Z
DTSTART;VALUE=DATE:20221220
SUMMARY:SIGMOD 2023 Notification Due
DESCRIPTION:International Conference on Management of Data
URL:http://www.wikicfp.com/cfp/servlet/event.showcfp?eventid=165215&copyo
 wnerid=121077
UID:cfp959566-N@wikicfp.com
END:VEVENT
END:VCALENDAR
