BEGIN:VCALENDAR
PRODID:-//WikiCFP//zhangjinzhuo 1.0//EN
VERSION:2.0
CALSCALE:GREGORIAN
BEGIN:VEVENT
DTSTAMP:20260421T154531Z
DTSTART;VALUE=DATE:20181203
DTEND;VALUE=DATE:20181204
SUMMARY:KMWSM 2018
DESCRIPTION:The 2018 International Workshop on Knowledge Management in We
 b Social Media
URL:http://www.wikicfp.com/cfp/servlet/event.showcfp?eventid=77414&copyow
 nerid=120552
UID:cfp731130-E@wikicfp.com
END:VEVENT
BEGIN:VEVENT
DTSTAMP:20260421T154531Z
DTSTART;VALUE=DATE:20180722
SUMMARY:KMWSM 2018 Deadline
DESCRIPTION:The 2018 International Workshop on Knowledge Management in We
 b Social Media
URL:http://www.wikicfp.com/cfp/servlet/event.showcfp?eventid=77414&copyow
 nerid=120552
UID:cfp731130-D@wikicfp.com
END:VEVENT
END:VCALENDAR
