BEGIN:VCALENDAR
PRODID:-//WikiCFP//fx14 1.0//EN
VERSION:2.0
CALSCALE:GREGORIAN
BEGIN:VEVENT
DTSTAMP:20260421T003653Z
DTSTART;VALUE=DATE:20181105
DTEND;VALUE=DATE:20181109
SUMMARY:IVA 2018
DESCRIPTION:Intelligent Virtual Agents
URL:http://www.wikicfp.com/cfp/servlet/event.showcfp?eventid=70216&copyow
 nerid=116938
UID:cfp725458-E@wikicfp.com
END:VEVENT
BEGIN:VEVENT
DTSTAMP:20260421T003653Z
DTSTART;VALUE=DATE:20180531
SUMMARY:IVA 2018 Deadline
DESCRIPTION:Intelligent Virtual Agents
URL:http://www.wikicfp.com/cfp/servlet/event.showcfp?eventid=70216&copyow
 nerid=116938
UID:cfp725458-D@wikicfp.com
END:VEVENT
BEGIN:VEVENT
DTSTAMP:20260421T003653Z
DTSTART;VALUE=DATE:20180705
SUMMARY:IVA 2018 Notification Due
DESCRIPTION:Intelligent Virtual Agents
URL:http://www.wikicfp.com/cfp/servlet/event.showcfp?eventid=70216&copyow
 nerid=116938
UID:cfp725458-N@wikicfp.com
END:VEVENT
BEGIN:VEVENT
DTSTAMP:20260421T003653Z
DTSTART;VALUE=DATE:20180820
SUMMARY:IVA 2018 Final Version Due
DESCRIPTION:Intelligent Virtual Agents
URL:http://www.wikicfp.com/cfp/servlet/event.showcfp?eventid=70216&copyow
 nerid=116938
UID:cfp725458-N@wikicfp.com
END:VEVENT
BEGIN:VEVENT
DTSTAMP:20260421T003653Z
DTSTART;VALUE=DATE:20201006
DTEND;VALUE=DATE:20201010
SUMMARY:IoT 2020
DESCRIPTION:10th International Conference on the Internet of Things
URL:http://www.wikicfp.com/cfp/servlet/event.showcfp?eventid=98939&copyow
 nerid=116938
UID:cfp824907-E@wikicfp.com
END:VEVENT
BEGIN:VEVENT
DTSTAMP:20260421T003653Z
DTSTART;VALUE=DATE:20200425
SUMMARY:IoT 2020 Abstract Due
DESCRIPTION:10th International Conference on the Internet of Things
URL:http://www.wikicfp.com/cfp/servlet/event.showcfp?eventid=98939&copyow
 nerid=116938
UID:cfp824907-A@wikicfp.com
END:VEVENT
BEGIN:VEVENT
DTSTAMP:20260421T003653Z
DTSTART;VALUE=DATE:20200501
SUMMARY:IoT 2020 Deadline
DESCRIPTION:10th International Conference on the Internet of Things
URL:http://www.wikicfp.com/cfp/servlet/event.showcfp?eventid=98939&copyow
 nerid=116938
UID:cfp824907-D@wikicfp.com
END:VEVENT
BEGIN:VEVENT
DTSTAMP:20260421T003653Z
DTSTART;VALUE=DATE:20200616
SUMMARY:IoT 2020 Notification Due
DESCRIPTION:10th International Conference on the Internet of Things
URL:http://www.wikicfp.com/cfp/servlet/event.showcfp?eventid=98939&copyow
 nerid=116938
UID:cfp824907-N@wikicfp.com
END:VEVENT
BEGIN:VEVENT
DTSTAMP:20260421T003653Z
DTSTART;VALUE=DATE:20200715
SUMMARY:IoT 2020 Final Version Due
DESCRIPTION:10th International Conference on the Internet of Things
URL:http://www.wikicfp.com/cfp/servlet/event.showcfp?eventid=98939&copyow
 nerid=116938
UID:cfp824907-N@wikicfp.com
END:VEVENT
BEGIN:VEVENT
DTSTAMP:20260421T003653Z
DTSTART;VALUE=DATE:20220625
DTEND;VALUE=DATE:20220627
SUMMARY:SPM 2022
DESCRIPTION:9th International Conference on Signal\, Image Processing and
  Multimedia
URL:http://www.wikicfp.com/cfp/servlet/event.showcfp?eventid=84582&copyow
 nerid=116938
UID:cfp792119-E@wikicfp.com
END:VEVENT
BEGIN:VEVENT
DTSTAMP:20260421T003653Z
DTSTART;VALUE=DATE:20220611
SUMMARY:SPM 2022 Deadline
DESCRIPTION:9th International Conference on Signal\, Image Processing and
  Multimedia
URL:http://www.wikicfp.com/cfp/servlet/event.showcfp?eventid=84582&copyow
 nerid=116938
UID:cfp792119-D@wikicfp.com
END:VEVENT
BEGIN:VEVENT
DTSTAMP:20260421T003653Z
DTSTART;VALUE=DATE:20220621
SUMMARY:SPM 2022 Notification Due
DESCRIPTION:9th International Conference on Signal\, Image Processing and
  Multimedia
URL:http://www.wikicfp.com/cfp/servlet/event.showcfp?eventid=84582&copyow
 nerid=116938
UID:cfp792119-N@wikicfp.com
END:VEVENT
BEGIN:VEVENT
DTSTAMP:20260421T003653Z
DTSTART;VALUE=DATE:20220623
SUMMARY:SPM 2022 Final Version Due
DESCRIPTION:9th International Conference on Signal\, Image Processing and
  Multimedia
URL:http://www.wikicfp.com/cfp/servlet/event.showcfp?eventid=84582&copyow
 nerid=116938
UID:cfp792119-N@wikicfp.com
END:VEVENT
END:VCALENDAR
