BEGIN:VCALENDAR
PRODID:-//WikiCFP//Rayhoon 1.0//EN
VERSION:2.0
CALSCALE:GREGORIAN
BEGIN:VEVENT
DTSTAMP:20260424T115039Z
DTSTART;VALUE=DATE:20100809
DTEND;VALUE=DATE:20100814
SUMMARY:FP-NETS: Social 2010
DESCRIPTION:MITACS Workshop on Social Networks
URL:http://www.wikicfp.com/cfp/servlet/event.showcfp?eventid=9421&copyown
 erid=11601
UID:cfp84847-E@wikicfp.com
END:VEVENT
BEGIN:VEVENT
DTSTAMP:20260424T115039Z
DTSTART;VALUE=DATE:20100630
SUMMARY:FP-NETS: Social 2010 Deadline
DESCRIPTION:MITACS Workshop on Social Networks
URL:http://www.wikicfp.com/cfp/servlet/event.showcfp?eventid=9421&copyown
 erid=11601
UID:cfp84847-D@wikicfp.com
END:VEVENT
BEGIN:VEVENT
DTSTAMP:20260424T115039Z
DTSTART;VALUE=DATE:20100820
DTEND;VALUE=DATE:20100822
SUMMARY:Baltic Conference 2010
DESCRIPTION:Baltic Conference -Learning in Networks
URL:http://www.wikicfp.com/cfp/servlet/event.showcfp?eventid=9482&copyown
 erid=11601
UID:cfp84846-E@wikicfp.com
END:VEVENT
BEGIN:VEVENT
DTSTAMP:20260424T115039Z
DTSTART;VALUE=DATE:20100705
SUMMARY:Baltic Conference 2010 Deadline
DESCRIPTION:Baltic Conference -Learning in Networks
URL:http://www.wikicfp.com/cfp/servlet/event.showcfp?eventid=9482&copyown
 erid=11601
UID:cfp84846-D@wikicfp.com
END:VEVENT
BEGIN:VEVENT
DTSTAMP:20260424T115039Z
DTSTART;VALUE=DATE:20100719
SUMMARY:Baltic Conference 2010 Notification Due
DESCRIPTION:Baltic Conference -Learning in Networks
URL:http://www.wikicfp.com/cfp/servlet/event.showcfp?eventid=9482&copyown
 erid=11601
UID:cfp84846-N@wikicfp.com
END:VEVENT
BEGIN:VEVENT
DTSTAMP:20260424T115039Z
DTSTART;VALUE=DATE:20100906
SUMMARY:Baltic Conference 2010 Final Version Due
DESCRIPTION:Baltic Conference -Learning in Networks
URL:http://www.wikicfp.com/cfp/servlet/event.showcfp?eventid=9482&copyown
 erid=11601
UID:cfp84846-N@wikicfp.com
END:VEVENT
BEGIN:VEVENT
DTSTAMP:20260424T115039Z
DTSTART;VALUE=DATE:20100801
SUMMARY:SADMN 2010 Deadline
DESCRIPTION:Statistical Analysis and Data Mining of Networks (Special Iss
 ue of Statistical Analysis and Data Mining)
URL:http://www.wikicfp.com/cfp/servlet/event.showcfp?eventid=8860&copyown
 erid=11601
UID:cfp84845-D@wikicfp.com
END:VEVENT
END:VCALENDAR
