BEGIN:VCALENDAR
PRODID:-//WikiCFP//mmarino1807 1.0//EN
VERSION:2.0
CALSCALE:GREGORIAN
BEGIN:VEVENT
DTSTAMP:20260419T172424Z
DTSTART;VALUE=DATE:20180616
DTEND;VALUE=DATE:20180619
SUMMARY:ICAIP--Ei\, Scopus 2018
DESCRIPTION:2018 International Conference on Advances in Image Processing
  (ICAIP 2018)--Ei Compendex\, Scopus
URL:http://www.wikicfp.com/cfp/servlet/event.showcfp?eventid=69477&copyow
 nerid=115617
UID:cfp723642-E@wikicfp.com
END:VEVENT
BEGIN:VEVENT
DTSTAMP:20260419T172424Z
DTSTART;VALUE=DATE:20180405
SUMMARY:ICAIP--Ei\, Scopus 2018 Deadline
DESCRIPTION:2018 International Conference on Advances in Image Processing
  (ICAIP 2018)--Ei Compendex\, Scopus
URL:http://www.wikicfp.com/cfp/servlet/event.showcfp?eventid=69477&copyow
 nerid=115617
UID:cfp723642-D@wikicfp.com
END:VEVENT
BEGIN:VEVENT
DTSTAMP:20260419T172424Z
DTSTART;VALUE=DATE:20180902
DTEND;VALUE=DATE:20180907
SUMMARY:BMVC 2018
DESCRIPTION:British Machine Vision Conference
URL:http://www.wikicfp.com/cfp/servlet/event.showcfp?eventid=71131&copyow
 nerid=115617
UID:cfp723640-E@wikicfp.com
END:VEVENT
BEGIN:VEVENT
DTSTAMP:20260419T172424Z
DTSTART;VALUE=DATE:20180430
SUMMARY:BMVC 2018 Deadline
DESCRIPTION:British Machine Vision Conference
URL:http://www.wikicfp.com/cfp/servlet/event.showcfp?eventid=71131&copyow
 nerid=115617
UID:cfp723640-D@wikicfp.com
END:VEVENT
BEGIN:VEVENT
DTSTAMP:20260419T172424Z
DTSTART;VALUE=DATE:20180702
SUMMARY:BMVC 2018 Notification Due
DESCRIPTION:British Machine Vision Conference
URL:http://www.wikicfp.com/cfp/servlet/event.showcfp?eventid=71131&copyow
 nerid=115617
UID:cfp723640-N@wikicfp.com
END:VEVENT
BEGIN:VEVENT
DTSTAMP:20260419T172424Z
DTSTART;VALUE=DATE:20180910
DTEND;VALUE=DATE:20180915
SUMMARY:ICISIP 2018
DESCRIPTION:The 6th IIAE International Conference on Intelligent Systems 
 and Image Processing 2018
URL:http://www.wikicfp.com/cfp/servlet/event.showcfp?eventid=67054&copyow
 nerid=115617
UID:cfp723644-E@wikicfp.com
END:VEVENT
BEGIN:VEVENT
DTSTAMP:20260419T172424Z
DTSTART;VALUE=DATE:20180615
SUMMARY:ICISIP 2018 Deadline
DESCRIPTION:The 6th IIAE International Conference on Intelligent Systems 
 and Image Processing 2018
URL:http://www.wikicfp.com/cfp/servlet/event.showcfp?eventid=67054&copyow
 nerid=115617
UID:cfp723644-D@wikicfp.com
END:VEVENT
BEGIN:VEVENT
DTSTAMP:20260419T172424Z
DTSTART;VALUE=DATE:20180706
SUMMARY:ICISIP 2018 Notification Due
DESCRIPTION:The 6th IIAE International Conference on Intelligent Systems 
 and Image Processing 2018
URL:http://www.wikicfp.com/cfp/servlet/event.showcfp?eventid=67054&copyow
 nerid=115617
UID:cfp723644-N@wikicfp.com
END:VEVENT
BEGIN:VEVENT
DTSTAMP:20260419T172424Z
DTSTART;VALUE=DATE:20180720
SUMMARY:ICISIP 2018 Final Version Due
DESCRIPTION:The 6th IIAE International Conference on Intelligent Systems 
 and Image Processing 2018
URL:http://www.wikicfp.com/cfp/servlet/event.showcfp?eventid=67054&copyow
 nerid=115617
UID:cfp723644-N@wikicfp.com
END:VEVENT
BEGIN:VEVENT
DTSTAMP:20260419T172424Z
DTSTART;VALUE=DATE:20181207
DTEND;VALUE=DATE:20181210
SUMMARY:BI 2018
DESCRIPTION:The 11th International Conference on Brain Informatics
URL:http://www.wikicfp.com/cfp/servlet/event.showcfp?eventid=73741&copyow
 nerid=115617
UID:cfp723645-E@wikicfp.com
END:VEVENT
BEGIN:VEVENT
DTSTAMP:20260419T172424Z
DTSTART;VALUE=DATE:20180615
SUMMARY:BI 2018 Deadline
DESCRIPTION:The 11th International Conference on Brain Informatics
URL:http://www.wikicfp.com/cfp/servlet/event.showcfp?eventid=73741&copyow
 nerid=115617
UID:cfp723645-D@wikicfp.com
END:VEVENT
BEGIN:VEVENT
DTSTAMP:20260419T172424Z
DTSTART;VALUE=DATE:20180815
SUMMARY:BI 2018 Notification Due
DESCRIPTION:The 11th International Conference on Brain Informatics
URL:http://www.wikicfp.com/cfp/servlet/event.showcfp?eventid=73741&copyow
 nerid=115617
UID:cfp723645-N@wikicfp.com
END:VEVENT
BEGIN:VEVENT
DTSTAMP:20260419T172424Z
DTSTART;VALUE=DATE:20180925
DTEND;VALUE=DATE:20180926
SUMMARY:DKBKIK 2018
DESCRIPTION:The 7th Workshop on Dynamics of Knowledge and Belief (DKB-201
 8) and the 6th Workshop KI & Kognition (KIK-2018):  Formal and Cognitive
  Reasoning
URL:http://www.wikicfp.com/cfp/servlet/event.showcfp?eventid=75786&copyow
 nerid=115617
UID:cfp723647-E@wikicfp.com
END:VEVENT
BEGIN:VEVENT
DTSTAMP:20260419T172424Z
DTSTART;VALUE=DATE:20180622
SUMMARY:DKBKIK 2018 Deadline
DESCRIPTION:The 7th Workshop on Dynamics of Knowledge and Belief (DKB-201
 8) and the 6th Workshop KI & Kognition (KIK-2018):  Formal and Cognitive
  Reasoning
URL:http://www.wikicfp.com/cfp/servlet/event.showcfp?eventid=75786&copyow
 nerid=115617
UID:cfp723647-D@wikicfp.com
END:VEVENT
BEGIN:VEVENT
DTSTAMP:20260419T172424Z
DTSTART;VALUE=DATE:20180808
SUMMARY:DKBKIK 2018 Notification Due
DESCRIPTION:The 7th Workshop on Dynamics of Knowledge and Belief (DKB-201
 8) and the 6th Workshop KI & Kognition (KIK-2018):  Formal and Cognitive
  Reasoning
URL:http://www.wikicfp.com/cfp/servlet/event.showcfp?eventid=75786&copyow
 nerid=115617
UID:cfp723647-N@wikicfp.com
END:VEVENT
BEGIN:VEVENT
DTSTAMP:20260419T172424Z
DTSTART;VALUE=DATE:20180822
SUMMARY:DKBKIK 2018 Final Version Due
DESCRIPTION:The 7th Workshop on Dynamics of Knowledge and Belief (DKB-201
 8) and the 6th Workshop KI & Kognition (KIK-2018):  Formal and Cognitive
  Reasoning
URL:http://www.wikicfp.com/cfp/servlet/event.showcfp?eventid=75786&copyow
 nerid=115617
UID:cfp723647-N@wikicfp.com
END:VEVENT
BEGIN:VEVENT
DTSTAMP:20260419T172424Z
DTSTART;VALUE=DATE:20180912
DTEND;VALUE=DATE:20180915
SUMMARY:SKG 2018
DESCRIPTION:The 14th International Conference on Semantics\, Knowledge an
 d Grids on Big Data\, AI and Future Interconnection Environment
URL:http://www.wikicfp.com/cfp/servlet/event.showcfp?eventid=75607&copyow
 nerid=115617
UID:cfp723649-E@wikicfp.com
END:VEVENT
BEGIN:VEVENT
DTSTAMP:20260419T172424Z
DTSTART;VALUE=DATE:20180630
SUMMARY:SKG 2018 Deadline
DESCRIPTION:The 14th International Conference on Semantics\, Knowledge an
 d Grids on Big Data\, AI and Future Interconnection Environment
URL:http://www.wikicfp.com/cfp/servlet/event.showcfp?eventid=75607&copyow
 nerid=115617
UID:cfp723649-D@wikicfp.com
END:VEVENT
BEGIN:VEVENT
DTSTAMP:20260419T172424Z
DTSTART;VALUE=DATE:20180730
SUMMARY:SKG 2018 Notification Due
DESCRIPTION:The 14th International Conference on Semantics\, Knowledge an
 d Grids on Big Data\, AI and Future Interconnection Environment
URL:http://www.wikicfp.com/cfp/servlet/event.showcfp?eventid=75607&copyow
 nerid=115617
UID:cfp723649-N@wikicfp.com
END:VEVENT
BEGIN:VEVENT
DTSTAMP:20260419T172424Z
DTSTART;VALUE=DATE:20180930
SUMMARY:SKG 2018 Final Version Due
DESCRIPTION:The 14th International Conference on Semantics\, Knowledge an
 d Grids on Big Data\, AI and Future Interconnection Environment
URL:http://www.wikicfp.com/cfp/servlet/event.showcfp?eventid=75607&copyow
 nerid=115617
UID:cfp723649-N@wikicfp.com
END:VEVENT
BEGIN:VEVENT
DTSTAMP:20260419T172424Z
DTSTART;VALUE=DATE:20181001
DTEND;VALUE=DATE:20181004
SUMMARY:AIKE 2018
DESCRIPTION:The First IEEE International Conference on Artificial Intelli
 gence and Knowledge Engineering
URL:http://www.wikicfp.com/cfp/servlet/event.showcfp?eventid=73615&copyow
 nerid=115617
UID:cfp723648-E@wikicfp.com
END:VEVENT
BEGIN:VEVENT
DTSTAMP:20260419T172424Z
DTSTART;VALUE=DATE:20180701
SUMMARY:AIKE 2018 Deadline
DESCRIPTION:The First IEEE International Conference on Artificial Intelli
 gence and Knowledge Engineering
URL:http://www.wikicfp.com/cfp/servlet/event.showcfp?eventid=73615&copyow
 nerid=115617
UID:cfp723648-D@wikicfp.com
END:VEVENT
BEGIN:VEVENT
DTSTAMP:20260419T172424Z
DTSTART;VALUE=DATE:20180812
SUMMARY:AIKE 2018 Notification Due
DESCRIPTION:The First IEEE International Conference on Artificial Intelli
 gence and Knowledge Engineering
URL:http://www.wikicfp.com/cfp/servlet/event.showcfp?eventid=73615&copyow
 nerid=115617
UID:cfp723648-N@wikicfp.com
END:VEVENT
BEGIN:VEVENT
DTSTAMP:20260419T172424Z
DTSTART;VALUE=DATE:20180826
SUMMARY:AIKE 2018 Final Version Due
DESCRIPTION:The First IEEE International Conference on Artificial Intelli
 gence and Knowledge Engineering
URL:http://www.wikicfp.com/cfp/servlet/event.showcfp?eventid=73615&copyow
 nerid=115617
UID:cfp723648-N@wikicfp.com
END:VEVENT
BEGIN:VEVENT
DTSTAMP:20260419T172424Z
DTSTART;VALUE=DATE:20181101
DTEND;VALUE=DATE:20181104
SUMMARY:SPIE--ICMV--Scopus\, Ei Compendex 2018
DESCRIPTION:SPIE--2018 The 11th International Conference on Machine Visio
 n (ICMV 2018)--Scopus\, Ei Compendex
URL:http://www.wikicfp.com/cfp/servlet/event.showcfp?eventid=73319&copyow
 nerid=115617
UID:cfp723641-E@wikicfp.com
END:VEVENT
BEGIN:VEVENT
DTSTAMP:20260419T172424Z
DTSTART;VALUE=DATE:20180906
SUMMARY:SPIE--ICMV--Scopus\, Ei Compendex 2018 Deadline
DESCRIPTION:SPIE--2018 The 11th International Conference on Machine Visio
 n (ICMV 2018)--Scopus\, Ei Compendex
URL:http://www.wikicfp.com/cfp/servlet/event.showcfp?eventid=73319&copyow
 nerid=115617
UID:cfp723641-D@wikicfp.com
END:VEVENT
BEGIN:VEVENT
DTSTAMP:20260419T172424Z
DTSTART;VALUE=DATE:20190514
DTEND;VALUE=DATE:20190519
SUMMARY:FG 2019
DESCRIPTION:The 14th IEEE International Conference on Automatic Face and 
 Gesture Recognition
URL:http://www.wikicfp.com/cfp/servlet/event.showcfp?eventid=73002&copyow
 nerid=115617
UID:cfp723653-E@wikicfp.com
END:VEVENT
BEGIN:VEVENT
DTSTAMP:20260419T172424Z
DTSTART;VALUE=DATE:20180921
SUMMARY:FG 2019 Deadline
DESCRIPTION:The 14th IEEE International Conference on Automatic Face and 
 Gesture Recognition
URL:http://www.wikicfp.com/cfp/servlet/event.showcfp?eventid=73002&copyow
 nerid=115617
UID:cfp723653-D@wikicfp.com
END:VEVENT
BEGIN:VEVENT
DTSTAMP:20260419T172424Z
DTSTART;VALUE=DATE:20190121
SUMMARY:FG 2019 Notification Due
DESCRIPTION:The 14th IEEE International Conference on Automatic Face and 
 Gesture Recognition
URL:http://www.wikicfp.com/cfp/servlet/event.showcfp?eventid=73002&copyow
 nerid=115617
UID:cfp723653-N@wikicfp.com
END:VEVENT
BEGIN:VEVENT
DTSTAMP:20260419T172424Z
DTSTART;VALUE=DATE:20190215
SUMMARY:FG 2019 Final Version Due
DESCRIPTION:The 14th IEEE International Conference on Automatic Face and 
 Gesture Recognition
URL:http://www.wikicfp.com/cfp/servlet/event.showcfp?eventid=73002&copyow
 nerid=115617
UID:cfp723653-N@wikicfp.com
END:VEVENT
BEGIN:VEVENT
DTSTAMP:20260419T172424Z
DTSTART;VALUE=DATE:20181116
DTEND;VALUE=DATE:20181119
SUMMARY:ICSPS--SPIE\, Ei and Scopus 2018
DESCRIPTION:SPIE--2018 10th International Conference on Signal Processing
  Systems (ICSPS 2018)--Ei Compendex and Scopus
URL:http://www.wikicfp.com/cfp/servlet/event.showcfp?eventid=73332&copyow
 nerid=115617
UID:cfp723654-E@wikicfp.com
END:VEVENT
BEGIN:VEVENT
DTSTAMP:20260419T172424Z
DTSTART;VALUE=DATE:20180925
SUMMARY:ICSPS--SPIE\, Ei and Scopus 2018 Deadline
DESCRIPTION:SPIE--2018 10th International Conference on Signal Processing
  Systems (ICSPS 2018)--Ei Compendex and Scopus
URL:http://www.wikicfp.com/cfp/servlet/event.showcfp?eventid=73332&copyow
 nerid=115617
UID:cfp723654-D@wikicfp.com
END:VEVENT
BEGIN:VEVENT
DTSTAMP:20260419T172424Z
DTSTART;VALUE=DATE:20181212
DTEND;VALUE=DATE:20181215
SUMMARY:ICGIP--SPIE\, Scopus\, Ei Compendex 2018
DESCRIPTION:SPIE--2018 10th International Conference on Graphics and Imag
 e Processing (ICGIP 2018)--Scopus\, Ei Compendex
URL:http://www.wikicfp.com/cfp/servlet/event.showcfp?eventid=73328&copyow
 nerid=115617
UID:cfp723643-E@wikicfp.com
END:VEVENT
BEGIN:VEVENT
DTSTAMP:20260419T172424Z
DTSTART;VALUE=DATE:20181105
SUMMARY:ICGIP--SPIE\, Scopus\, Ei Compendex 2018 Deadline
DESCRIPTION:SPIE--2018 10th International Conference on Graphics and Imag
 e Processing (ICGIP 2018)--Scopus\, Ei Compendex
URL:http://www.wikicfp.com/cfp/servlet/event.showcfp?eventid=73328&copyow
 nerid=115617
UID:cfp723643-D@wikicfp.com
END:VEVENT
BEGIN:VEVENT
DTSTAMP:20260419T172424Z
DTSTART;VALUE=DATE:20190308
DTEND;VALUE=DATE:20190311
SUMMARY:2W2T-EI/Scopus/CPCI 2019
DESCRIPTION:2019 International Conference on Advances in Water and Wastew
 ater Treatment Technologies (2W2T 2019)
URL:http://www.wikicfp.com/cfp/servlet/event.showcfp?eventid=75285&copyow
 nerid=115617
UID:cfp723646-E@wikicfp.com
END:VEVENT
BEGIN:VEVENT
DTSTAMP:20260419T172424Z
DTSTART;VALUE=DATE:20190130
SUMMARY:2W2T-EI/Scopus/CPCI 2019 Deadline
DESCRIPTION:2019 International Conference on Advances in Water and Wastew
 ater Treatment Technologies (2W2T 2019)
URL:http://www.wikicfp.com/cfp/servlet/event.showcfp?eventid=75285&copyow
 nerid=115617
UID:cfp723646-D@wikicfp.com
END:VEVENT
END:VCALENDAR
