BEGIN:VCALENDAR
PRODID:-//WikiCFP//jorgemendes 1.0//EN
VERSION:2.0
CALSCALE:GREGORIAN
BEGIN:VEVENT
DTSTAMP:20260423T030407Z
DTSTART;VALUE=DATE:20181001
DTEND;VALUE=DATE:20181002
SUMMARY:SEMS 2018
DESCRIPTION:5th International Workshop on Software Engineering Methods in
  Spreadsheets
URL:http://www.wikicfp.com/cfp/servlet/event.showcfp?eventid=75846&copyow
 nerid=115594
UID:cfp723612-E@wikicfp.com
END:VEVENT
BEGIN:VEVENT
DTSTAMP:20260423T030407Z
DTSTART;VALUE=DATE:20180731
SUMMARY:SEMS 2018 Deadline
DESCRIPTION:5th International Workshop on Software Engineering Methods in
  Spreadsheets
URL:http://www.wikicfp.com/cfp/servlet/event.showcfp?eventid=75846&copyow
 nerid=115594
UID:cfp723612-D@wikicfp.com
END:VEVENT
BEGIN:VEVENT
DTSTAMP:20260423T030407Z
DTSTART;VALUE=DATE:20180817
SUMMARY:SEMS 2018 Notification Due
DESCRIPTION:5th International Workshop on Software Engineering Methods in
  Spreadsheets
URL:http://www.wikicfp.com/cfp/servlet/event.showcfp?eventid=75846&copyow
 nerid=115594
UID:cfp723612-N@wikicfp.com
END:VEVENT
BEGIN:VEVENT
DTSTAMP:20260423T030407Z
DTSTART;VALUE=DATE:20180831
SUMMARY:SEMS 2018 Final Version Due
DESCRIPTION:5th International Workshop on Software Engineering Methods in
  Spreadsheets
URL:http://www.wikicfp.com/cfp/servlet/event.showcfp?eventid=75846&copyow
 nerid=115594
UID:cfp723612-N@wikicfp.com
END:VEVENT
END:VCALENDAR
