BEGIN:VCALENDAR
PRODID:-//WikiCFP//agruener 1.0//EN
VERSION:2.0
CALSCALE:GREGORIAN
BEGIN:VEVENT
DTSTAMP:20260423T130618Z
DTSTART;VALUE=DATE:20180723
DTEND;VALUE=DATE:20180728
SUMMARY:SDIM 2018
DESCRIPTION:SDIM 2018: The 1st IEEE International Workshop on Secure Digi
 tal Identity Management Workshop organizers
URL:http://www.wikicfp.com/cfp/servlet/event.showcfp?eventid=71654&copyow
 nerid=112302
UID:cfp718254-E@wikicfp.com
END:VEVENT
BEGIN:VEVENT
DTSTAMP:20260423T130618Z
DTSTART;VALUE=DATE:20180410
SUMMARY:SDIM 2018 Deadline
DESCRIPTION:SDIM 2018: The 1st IEEE International Workshop on Secure Digi
 tal Identity Management Workshop organizers
URL:http://www.wikicfp.com/cfp/servlet/event.showcfp?eventid=71654&copyow
 nerid=112302
UID:cfp718254-D@wikicfp.com
END:VEVENT
BEGIN:VEVENT
DTSTAMP:20260423T130618Z
DTSTART;VALUE=DATE:20180501
SUMMARY:SDIM 2018 Notification Due
DESCRIPTION:SDIM 2018: The 1st IEEE International Workshop on Secure Digi
 tal Identity Management Workshop organizers
URL:http://www.wikicfp.com/cfp/servlet/event.showcfp?eventid=71654&copyow
 nerid=112302
UID:cfp718254-N@wikicfp.com
END:VEVENT
BEGIN:VEVENT
DTSTAMP:20260423T130618Z
DTSTART;VALUE=DATE:20180515
SUMMARY:SDIM 2018 Final Version Due
DESCRIPTION:SDIM 2018: The 1st IEEE International Workshop on Secure Digi
 tal Identity Management Workshop organizers
URL:http://www.wikicfp.com/cfp/servlet/event.showcfp?eventid=71654&copyow
 nerid=112302
UID:cfp718254-N@wikicfp.com
END:VEVENT
BEGIN:VEVENT
DTSTAMP:20260423T130618Z
DTSTART;VALUE=DATE:20180730
DTEND;VALUE=DATE:20180804
SUMMARY:IEEE Blockchain  2018
DESCRIPTION:IEEE International Conference on Blockchain (Blockchain-2018)
 
URL:http://www.wikicfp.com/cfp/servlet/event.showcfp?eventid=71209&copyow
 nerid=112302
UID:cfp718255-E@wikicfp.com
END:VEVENT
BEGIN:VEVENT
DTSTAMP:20260423T130618Z
DTSTART;VALUE=DATE:20180415
SUMMARY:IEEE Blockchain  2018 Deadline
DESCRIPTION:IEEE International Conference on Blockchain (Blockchain-2018)
 
URL:http://www.wikicfp.com/cfp/servlet/event.showcfp?eventid=71209&copyow
 nerid=112302
UID:cfp718255-D@wikicfp.com
END:VEVENT
BEGIN:VEVENT
DTSTAMP:20260423T130618Z
DTSTART;VALUE=DATE:20180515
SUMMARY:IEEE Blockchain  2018 Notification Due
DESCRIPTION:IEEE International Conference on Blockchain (Blockchain-2018)
 
URL:http://www.wikicfp.com/cfp/servlet/event.showcfp?eventid=71209&copyow
 nerid=112302
UID:cfp718255-N@wikicfp.com
END:VEVENT
END:VCALENDAR
