BEGIN:VCALENDAR
PRODID:-//WikiCFP//n0tx0r 1.0//EN
VERSION:2.0
CALSCALE:GREGORIAN
BEGIN:VEVENT
DTSTAMP:20260420T071025Z
DTSTART;VALUE=DATE:20180504
DTEND;VALUE=DATE:20180507
SUMMARY:IEEE - ICISE - Ei 2018
DESCRIPTION:2018 3rd International Conference on Information Systems Engi
 neering (ICISE 2018)--IEEE Xplore\, Ei Compendex
URL:http://www.wikicfp.com/cfp/servlet/event.showcfp?eventid=66479&copyow
 nerid=111375
UID:cfp716874-E@wikicfp.com
END:VEVENT
BEGIN:VEVENT
DTSTAMP:20260420T071025Z
DTSTART;VALUE=DATE:20180301
SUMMARY:IEEE - ICISE - Ei 2018 Deadline
DESCRIPTION:2018 3rd International Conference on Information Systems Engi
 neering (ICISE 2018)--IEEE Xplore\, Ei Compendex
URL:http://www.wikicfp.com/cfp/servlet/event.showcfp?eventid=66479&copyow
 nerid=111375
UID:cfp716874-D@wikicfp.com
END:VEVENT
BEGIN:VEVENT
DTSTAMP:20260420T071025Z
DTSTART;VALUE=DATE:20180702
DTEND;VALUE=DATE:20180705
SUMMARY:BMSD 2018
DESCRIPTION:8th International Symposium on Business Modeling and Software
  Design 
URL:http://www.wikicfp.com/cfp/servlet/event.showcfp?eventid=73320&copyow
 nerid=111375
UID:cfp716872-E@wikicfp.com
END:VEVENT
BEGIN:VEVENT
DTSTAMP:20260420T071025Z
DTSTART;VALUE=DATE:20180312
SUMMARY:BMSD 2018 Deadline
DESCRIPTION:8th International Symposium on Business Modeling and Software
  Design 
URL:http://www.wikicfp.com/cfp/servlet/event.showcfp?eventid=73320&copyow
 nerid=111375
UID:cfp716872-D@wikicfp.com
END:VEVENT
BEGIN:VEVENT
DTSTAMP:20260420T071025Z
DTSTART;VALUE=DATE:20180423
SUMMARY:BMSD 2018 Notification Due
DESCRIPTION:8th International Symposium on Business Modeling and Software
  Design 
URL:http://www.wikicfp.com/cfp/servlet/event.showcfp?eventid=73320&copyow
 nerid=111375
UID:cfp716872-N@wikicfp.com
END:VEVENT
BEGIN:VEVENT
DTSTAMP:20260420T071025Z
DTSTART;VALUE=DATE:20180507
SUMMARY:BMSD 2018 Final Version Due
DESCRIPTION:8th International Symposium on Business Modeling and Software
  Design 
URL:http://www.wikicfp.com/cfp/servlet/event.showcfp?eventid=73320&copyow
 nerid=111375
UID:cfp716872-N@wikicfp.com
END:VEVENT
BEGIN:VEVENT
DTSTAMP:20260420T071025Z
DTSTART;VALUE=DATE:20180726
DTEND;VALUE=DATE:20180729
SUMMARY:ICSOFT 2018
DESCRIPTION:13th International Conference on Software Technologies
URL:http://www.wikicfp.com/cfp/servlet/event.showcfp?eventid=70256&copyow
 nerid=111375
UID:cfp716870-E@wikicfp.com
END:VEVENT
BEGIN:VEVENT
DTSTAMP:20260420T071025Z
DTSTART;VALUE=DATE:20180313
SUMMARY:ICSOFT 2018 Deadline
DESCRIPTION:13th International Conference on Software Technologies
URL:http://www.wikicfp.com/cfp/servlet/event.showcfp?eventid=70256&copyow
 nerid=111375
UID:cfp716870-D@wikicfp.com
END:VEVENT
BEGIN:VEVENT
DTSTAMP:20260420T071025Z
DTSTART;VALUE=DATE:20180514
SUMMARY:ICSOFT 2018 Notification Due
DESCRIPTION:13th International Conference on Software Technologies
URL:http://www.wikicfp.com/cfp/servlet/event.showcfp?eventid=70256&copyow
 nerid=111375
UID:cfp716870-N@wikicfp.com
END:VEVENT
BEGIN:VEVENT
DTSTAMP:20260420T071025Z
DTSTART;VALUE=DATE:20180528
SUMMARY:ICSOFT 2018 Final Version Due
DESCRIPTION:13th International Conference on Software Technologies
URL:http://www.wikicfp.com/cfp/servlet/event.showcfp?eventid=70256&copyow
 nerid=111375
UID:cfp716870-N@wikicfp.com
END:VEVENT
BEGIN:VEVENT
DTSTAMP:20260420T071025Z
DTSTART;VALUE=DATE:20180702
DTEND;VALUE=DATE:20180706
SUMMARY:SEPA  2018
DESCRIPTION:10th International Symposium on Software Engineering Processe
 s and Applications
URL:http://www.wikicfp.com/cfp/servlet/event.showcfp?eventid=71510&copyow
 nerid=111375
UID:cfp716871-E@wikicfp.com
END:VEVENT
BEGIN:VEVENT
DTSTAMP:20260420T071025Z
DTSTART;VALUE=DATE:20180315
SUMMARY:SEPA  2018 Deadline
DESCRIPTION:10th International Symposium on Software Engineering Processe
 s and Applications
URL:http://www.wikicfp.com/cfp/servlet/event.showcfp?eventid=71510&copyow
 nerid=111375
UID:cfp716871-D@wikicfp.com
END:VEVENT
BEGIN:VEVENT
DTSTAMP:20260420T071025Z
DTSTART;VALUE=DATE:20180408
SUMMARY:SEPA  2018 Notification Due
DESCRIPTION:10th International Symposium on Software Engineering Processe
 s and Applications
URL:http://www.wikicfp.com/cfp/servlet/event.showcfp?eventid=71510&copyow
 nerid=111375
UID:cfp716871-N@wikicfp.com
END:VEVENT
BEGIN:VEVENT
DTSTAMP:20260420T071025Z
DTSTART;VALUE=DATE:20180506
SUMMARY:SEPA  2018 Final Version Due
DESCRIPTION:10th International Symposium on Software Engineering Processe
 s and Applications
URL:http://www.wikicfp.com/cfp/servlet/event.showcfp?eventid=71510&copyow
 nerid=111375
UID:cfp716871-N@wikicfp.com
END:VEVENT
BEGIN:VEVENT
DTSTAMP:20260420T071025Z
DTSTART;VALUE=DATE:20180722
DTEND;VALUE=DATE:20180727
SUMMARY:IMMM 2018
DESCRIPTION:The Eighth International Conference on Advances in Informatio
 n Mining and Management
URL:http://www.wikicfp.com/cfp/servlet/event.showcfp?eventid=71370&copyow
 nerid=111375
UID:cfp716873-E@wikicfp.com
END:VEVENT
BEGIN:VEVENT
DTSTAMP:20260420T071025Z
DTSTART;VALUE=DATE:20180407
SUMMARY:IMMM 2018 Deadline
DESCRIPTION:The Eighth International Conference on Advances in Informatio
 n Mining and Management
URL:http://www.wikicfp.com/cfp/servlet/event.showcfp?eventid=71370&copyow
 nerid=111375
UID:cfp716873-D@wikicfp.com
END:VEVENT
BEGIN:VEVENT
DTSTAMP:20260420T071025Z
DTSTART;VALUE=DATE:20180507
SUMMARY:IMMM 2018 Notification Due
DESCRIPTION:The Eighth International Conference on Advances in Informatio
 n Mining and Management
URL:http://www.wikicfp.com/cfp/servlet/event.showcfp?eventid=71370&copyow
 nerid=111375
UID:cfp716873-N@wikicfp.com
END:VEVENT
BEGIN:VEVENT
DTSTAMP:20260420T071025Z
DTSTART;VALUE=DATE:20180608
SUMMARY:IMMM 2018 Final Version Due
DESCRIPTION:The Eighth International Conference on Advances in Informatio
 n Mining and Management
URL:http://www.wikicfp.com/cfp/servlet/event.showcfp?eventid=71370&copyow
 nerid=111375
UID:cfp716873-N@wikicfp.com
END:VEVENT
BEGIN:VEVENT
DTSTAMP:20260420T071025Z
DTSTART;VALUE=DATE:20181015
DTEND;VALUE=DATE:20181018
SUMMARY:IDC 2018
DESCRIPTION:12th International Symposium on Intelligent Distributed Compu
 ting
URL:http://www.wikicfp.com/cfp/servlet/event.showcfp?eventid=69406&copyow
 nerid=111375
UID:cfp716875-E@wikicfp.com
END:VEVENT
BEGIN:VEVENT
DTSTAMP:20260420T071025Z
DTSTART;VALUE=DATE:20180409
SUMMARY:IDC 2018 Deadline
DESCRIPTION:12th International Symposium on Intelligent Distributed Compu
 ting
URL:http://www.wikicfp.com/cfp/servlet/event.showcfp?eventid=69406&copyow
 nerid=111375
UID:cfp716875-D@wikicfp.com
END:VEVENT
BEGIN:VEVENT
DTSTAMP:20260420T071025Z
DTSTART;VALUE=DATE:20180518
SUMMARY:IDC 2018 Notification Due
DESCRIPTION:12th International Symposium on Intelligent Distributed Compu
 ting
URL:http://www.wikicfp.com/cfp/servlet/event.showcfp?eventid=69406&copyow
 nerid=111375
UID:cfp716875-N@wikicfp.com
END:VEVENT
BEGIN:VEVENT
DTSTAMP:20260420T071025Z
DTSTART;VALUE=DATE:20180604
SUMMARY:IDC 2018 Final Version Due
DESCRIPTION:12th International Symposium on Intelligent Distributed Compu
 ting
URL:http://www.wikicfp.com/cfp/servlet/event.showcfp?eventid=69406&copyow
 nerid=111375
UID:cfp716875-N@wikicfp.com
END:VEVENT
END:VCALENDAR
