BEGIN:VCALENDAR
PRODID:-//WikiCFP//uz_winner 1.0//EN
VERSION:2.0
CALSCALE:GREGORIAN
BEGIN:VEVENT
DTSTAMP:20260422T105140Z
DTSTART;VALUE=DATE:20100824
DTEND;VALUE=DATE:20100828
SUMMARY:measuringbehavior 2010
DESCRIPTION:Measuring Behavior Workshop: A recipe for measuring behavior 
 in autism research
URL:http://www.wikicfp.com/cfp/servlet/event.showcfp?eventid=9373&copyown
 erid=10995
UID:cfp81093-E@wikicfp.com
END:VEVENT
BEGIN:VEVENT
DTSTAMP:20260422T105140Z
DTSTART;VALUE=DATE:20100621
DTEND;VALUE=DATE:20100624
SUMMARY:SWAT 2010
DESCRIPTION:Scandinavian Symposium and Workshops on Algorithm Theory
URL:http://www.wikicfp.com/cfp/servlet/event.showcfp?eventid=9372&copyown
 erid=10995
UID:cfp81092-E@wikicfp.com
END:VEVENT
BEGIN:VEVENT
DTSTAMP:20260422T105140Z
DTSTART;VALUE=DATE:20100201
SUMMARY:SWAT 2010 Deadline
DESCRIPTION:Scandinavian Symposium and Workshops on Algorithm Theory
URL:http://www.wikicfp.com/cfp/servlet/event.showcfp?eventid=9372&copyown
 erid=10995
UID:cfp81092-D@wikicfp.com
END:VEVENT
BEGIN:VEVENT
DTSTAMP:20260422T105140Z
DTSTART;VALUE=DATE:20100324
SUMMARY:SWAT 2010 Notification Due
DESCRIPTION:Scandinavian Symposium and Workshops on Algorithm Theory
URL:http://www.wikicfp.com/cfp/servlet/event.showcfp?eventid=9372&copyown
 erid=10995
UID:cfp81092-N@wikicfp.com
END:VEVENT
BEGIN:VEVENT
DTSTAMP:20260422T105140Z
DTSTART;VALUE=DATE:20100410
SUMMARY:SWAT 2010 Final Version Due
DESCRIPTION:Scandinavian Symposium and Workshops on Algorithm Theory
URL:http://www.wikicfp.com/cfp/servlet/event.showcfp?eventid=9372&copyown
 erid=10995
UID:cfp81092-N@wikicfp.com
END:VEVENT
BEGIN:VEVENT
DTSTAMP:20260422T105140Z
DTSTART;VALUE=DATE:20101015
DTEND;VALUE=DATE:20101017
SUMMARY:CCSC-E 2010
DESCRIPTION:Consortium for Computing Sciences in Colleges (CCSC) Eastern
URL:http://www.wikicfp.com/cfp/servlet/event.showcfp?eventid=9369&copyown
 erid=10995
UID:cfp81090-E@wikicfp.com
END:VEVENT
BEGIN:VEVENT
DTSTAMP:20260422T105140Z
DTSTART;VALUE=DATE:20100419
SUMMARY:CCSC-E 2010 Deadline
DESCRIPTION:Consortium for Computing Sciences in Colleges (CCSC) Eastern
URL:http://www.wikicfp.com/cfp/servlet/event.showcfp?eventid=9369&copyown
 erid=10995
UID:cfp81090-D@wikicfp.com
END:VEVENT
BEGIN:VEVENT
DTSTAMP:20260422T105140Z
DTSTART;VALUE=DATE:20100920
DTEND;VALUE=DATE:20100926
SUMMARY:ICWMC  2010
DESCRIPTION:The Sixth International Conference on Wireless and Mobile Com
 munications 
URL:http://www.wikicfp.com/cfp/servlet/event.showcfp?eventid=9383&copyown
 erid=10995
UID:cfp81102-E@wikicfp.com
END:VEVENT
BEGIN:VEVENT
DTSTAMP:20260422T105140Z
DTSTART;VALUE=DATE:20100617
SUMMARY:ICWMC  2010 Abstract Due
DESCRIPTION:The Sixth International Conference on Wireless and Mobile Com
 munications 
URL:http://www.wikicfp.com/cfp/servlet/event.showcfp?eventid=9383&copyown
 erid=10995
UID:cfp81102-A@wikicfp.com
END:VEVENT
BEGIN:VEVENT
DTSTAMP:20260422T105140Z
DTSTART;VALUE=DATE:20100420
SUMMARY:ICWMC  2010 Deadline
DESCRIPTION:The Sixth International Conference on Wireless and Mobile Com
 munications 
URL:http://www.wikicfp.com/cfp/servlet/event.showcfp?eventid=9383&copyown
 erid=10995
UID:cfp81102-D@wikicfp.com
END:VEVENT
BEGIN:VEVENT
DTSTAMP:20260422T105140Z
DTSTART;VALUE=DATE:20100525
SUMMARY:ICWMC  2010 Notification Due
DESCRIPTION:The Sixth International Conference on Wireless and Mobile Com
 munications 
URL:http://www.wikicfp.com/cfp/servlet/event.showcfp?eventid=9383&copyown
 erid=10995
UID:cfp81102-N@wikicfp.com
END:VEVENT
BEGIN:VEVENT
DTSTAMP:20260422T105140Z
DTSTART;VALUE=DATE:20100617
SUMMARY:ICWMC  2010 Final Version Due
DESCRIPTION:The Sixth International Conference on Wireless and Mobile Com
 munications 
URL:http://www.wikicfp.com/cfp/servlet/event.showcfp?eventid=9383&copyown
 erid=10995
UID:cfp81102-N@wikicfp.com
END:VEVENT
BEGIN:VEVENT
DTSTAMP:20260422T105140Z
DTSTART;VALUE=DATE:20100920
DTEND;VALUE=DATE:20100926
SUMMARY:INTERNET 2010
DESCRIPTION:The Second International Conference on Evolving Internet
URL:http://www.wikicfp.com/cfp/servlet/event.showcfp?eventid=9385&copyown
 erid=10995
UID:cfp81104-E@wikicfp.com
END:VEVENT
BEGIN:VEVENT
DTSTAMP:20260422T105140Z
DTSTART;VALUE=DATE:20100617
SUMMARY:INTERNET 2010 Abstract Due
DESCRIPTION:The Second International Conference on Evolving Internet
URL:http://www.wikicfp.com/cfp/servlet/event.showcfp?eventid=9385&copyown
 erid=10995
UID:cfp81104-A@wikicfp.com
END:VEVENT
BEGIN:VEVENT
DTSTAMP:20260422T105140Z
DTSTART;VALUE=DATE:20100420
SUMMARY:INTERNET 2010 Deadline
DESCRIPTION:The Second International Conference on Evolving Internet
URL:http://www.wikicfp.com/cfp/servlet/event.showcfp?eventid=9385&copyown
 erid=10995
UID:cfp81104-D@wikicfp.com
END:VEVENT
BEGIN:VEVENT
DTSTAMP:20260422T105140Z
DTSTART;VALUE=DATE:20100525
SUMMARY:INTERNET 2010 Notification Due
DESCRIPTION:The Second International Conference on Evolving Internet
URL:http://www.wikicfp.com/cfp/servlet/event.showcfp?eventid=9385&copyown
 erid=10995
UID:cfp81104-N@wikicfp.com
END:VEVENT
BEGIN:VEVENT
DTSTAMP:20260422T105140Z
DTSTART;VALUE=DATE:20100617
SUMMARY:INTERNET 2010 Final Version Due
DESCRIPTION:The Second International Conference on Evolving Internet
URL:http://www.wikicfp.com/cfp/servlet/event.showcfp?eventid=9385&copyown
 erid=10995
UID:cfp81104-N@wikicfp.com
END:VEVENT
BEGIN:VEVENT
DTSTAMP:20260422T105140Z
DTSTART;VALUE=DATE:20100906
DTEND;VALUE=DATE:20100908
SUMMARY:ISLBC 2010
DESCRIPTION:International Sport Law & Business Conference - Istanbul\, Se
 ptember 2010
URL:http://www.wikicfp.com/cfp/servlet/event.showcfp?eventid=9380&copyown
 erid=10995
UID:cfp81099-E@wikicfp.com
END:VEVENT
BEGIN:VEVENT
DTSTAMP:20260422T105140Z
DTSTART;VALUE=DATE:20100430
SUMMARY:ISLBC 2010 Deadline
DESCRIPTION:International Sport Law & Business Conference - Istanbul\, Se
 ptember 2010
URL:http://www.wikicfp.com/cfp/servlet/event.showcfp?eventid=9380&copyown
 erid=10995
UID:cfp81099-D@wikicfp.com
END:VEVENT
BEGIN:VEVENT
DTSTAMP:20260422T105140Z
DTSTART;VALUE=DATE:20100517
SUMMARY:ISLBC 2010 Notification Due
DESCRIPTION:International Sport Law & Business Conference - Istanbul\, Se
 ptember 2010
URL:http://www.wikicfp.com/cfp/servlet/event.showcfp?eventid=9380&copyown
 erid=10995
UID:cfp81099-N@wikicfp.com
END:VEVENT
BEGIN:VEVENT
DTSTAMP:20260422T105140Z
DTSTART;VALUE=DATE:20100817
DTEND;VALUE=DATE:20100819
SUMMARY:STeP 2010
DESCRIPTION:the 14th Finnish Artificial Intelligence Conference
URL:http://www.wikicfp.com/cfp/servlet/event.showcfp?eventid=9389&copyown
 erid=10995
UID:cfp81106-E@wikicfp.com
END:VEVENT
BEGIN:VEVENT
DTSTAMP:20260422T105140Z
DTSTART;VALUE=DATE:20100430
SUMMARY:STeP 2010 Deadline
DESCRIPTION:the 14th Finnish Artificial Intelligence Conference
URL:http://www.wikicfp.com/cfp/servlet/event.showcfp?eventid=9389&copyown
 erid=10995
UID:cfp81106-D@wikicfp.com
END:VEVENT
BEGIN:VEVENT
DTSTAMP:20260422T105140Z
DTSTART;VALUE=DATE:20100615
SUMMARY:STeP 2010 Notification Due
DESCRIPTION:the 14th Finnish Artificial Intelligence Conference
URL:http://www.wikicfp.com/cfp/servlet/event.showcfp?eventid=9389&copyown
 erid=10995
UID:cfp81106-N@wikicfp.com
END:VEVENT
BEGIN:VEVENT
DTSTAMP:20260422T105140Z
DTSTART;VALUE=DATE:20100630
SUMMARY:STeP 2010 Final Version Due
DESCRIPTION:the 14th Finnish Artificial Intelligence Conference
URL:http://www.wikicfp.com/cfp/servlet/event.showcfp?eventid=9389&copyown
 erid=10995
UID:cfp81106-N@wikicfp.com
END:VEVENT
BEGIN:VEVENT
DTSTAMP:20260422T105140Z
DTSTART;VALUE=DATE:20100712
DTEND;VALUE=DATE:20100716
SUMMARY:DEBS  2010
DESCRIPTION:4th ACM International Conference on Distributed Event- Based 
 Systems- CFP- Posters
URL:http://www.wikicfp.com/cfp/servlet/event.showcfp?eventid=9376&copyown
 erid=10995
UID:cfp81096-E@wikicfp.com
END:VEVENT
BEGIN:VEVENT
DTSTAMP:20260422T105140Z
DTSTART;VALUE=DATE:20100501
SUMMARY:DEBS  2010 Deadline
DESCRIPTION:4th ACM International Conference on Distributed Event- Based 
 Systems- CFP- Posters
URL:http://www.wikicfp.com/cfp/servlet/event.showcfp?eventid=9376&copyown
 erid=10995
UID:cfp81096-D@wikicfp.com
END:VEVENT
BEGIN:VEVENT
DTSTAMP:20260422T105140Z
DTSTART;VALUE=DATE:20100515
SUMMARY:DEBS  2010 Notification Due
DESCRIPTION:4th ACM International Conference on Distributed Event- Based 
 Systems- CFP- Posters
URL:http://www.wikicfp.com/cfp/servlet/event.showcfp?eventid=9376&copyown
 erid=10995
UID:cfp81096-N@wikicfp.com
END:VEVENT
BEGIN:VEVENT
DTSTAMP:20260422T105140Z
DTSTART;VALUE=DATE:20100601
SUMMARY:DEBS  2010 Final Version Due
DESCRIPTION:4th ACM International Conference on Distributed Event- Based 
 Systems- CFP- Posters
URL:http://www.wikicfp.com/cfp/servlet/event.showcfp?eventid=9376&copyown
 erid=10995
UID:cfp81096-N@wikicfp.com
END:VEVENT
BEGIN:VEVENT
DTSTAMP:20260422T105140Z
DTSTART;VALUE=DATE:20100908
DTEND;VALUE=DATE:20100911
SUMMARY:EnA-HPC 2010
DESCRIPTION: 1st International Conference on Energy-Aware High Performanc
 e Computing
URL:http://www.wikicfp.com/cfp/servlet/event.showcfp?eventid=9368&copyown
 erid=10995
UID:cfp81089-E@wikicfp.com
END:VEVENT
BEGIN:VEVENT
DTSTAMP:20260422T105140Z
DTSTART;VALUE=DATE:20100502
SUMMARY:EnA-HPC 2010 Deadline
DESCRIPTION: 1st International Conference on Energy-Aware High Performanc
 e Computing
URL:http://www.wikicfp.com/cfp/servlet/event.showcfp?eventid=9368&copyown
 erid=10995
UID:cfp81089-D@wikicfp.com
END:VEVENT
BEGIN:VEVENT
DTSTAMP:20260422T105140Z
DTSTART;VALUE=DATE:20100520
SUMMARY:EnA-HPC 2010 Notification Due
DESCRIPTION: 1st International Conference on Energy-Aware High Performanc
 e Computing
URL:http://www.wikicfp.com/cfp/servlet/event.showcfp?eventid=9368&copyown
 erid=10995
UID:cfp81089-N@wikicfp.com
END:VEVENT
BEGIN:VEVENT
DTSTAMP:20260422T105140Z
DTSTART;VALUE=DATE:20100605
SUMMARY:EnA-HPC 2010 Final Version Due
DESCRIPTION: 1st International Conference on Energy-Aware High Performanc
 e Computing
URL:http://www.wikicfp.com/cfp/servlet/event.showcfp?eventid=9368&copyown
 erid=10995
UID:cfp81089-N@wikicfp.com
END:VEVENT
BEGIN:VEVENT
DTSTAMP:20260422T105140Z
DTSTART;VALUE=DATE:20100830
DTEND;VALUE=DATE:20100902
SUMMARY:Stringology 2010
DESCRIPTION:Prague Stringology Conference 2010
URL:http://www.wikicfp.com/cfp/servlet/event.showcfp?eventid=9367&copyown
 erid=10995
UID:cfp81088-E@wikicfp.com
END:VEVENT
BEGIN:VEVENT
DTSTAMP:20260422T105140Z
DTSTART;VALUE=DATE:20100511
SUMMARY:Stringology 2010 Deadline
DESCRIPTION:Prague Stringology Conference 2010
URL:http://www.wikicfp.com/cfp/servlet/event.showcfp?eventid=9367&copyown
 erid=10995
UID:cfp81088-D@wikicfp.com
END:VEVENT
BEGIN:VEVENT
DTSTAMP:20260422T105140Z
DTSTART;VALUE=DATE:20100626
SUMMARY:Stringology 2010 Notification Due
DESCRIPTION:Prague Stringology Conference 2010
URL:http://www.wikicfp.com/cfp/servlet/event.showcfp?eventid=9367&copyown
 erid=10995
UID:cfp81088-N@wikicfp.com
END:VEVENT
BEGIN:VEVENT
DTSTAMP:20260422T105140Z
DTSTART;VALUE=DATE:20100712
SUMMARY:Stringology 2010 Final Version Due
DESCRIPTION:Prague Stringology Conference 2010
URL:http://www.wikicfp.com/cfp/servlet/event.showcfp?eventid=9367&copyown
 erid=10995
UID:cfp81088-N@wikicfp.com
END:VEVENT
BEGIN:VEVENT
DTSTAMP:20260422T105140Z
DTSTART;VALUE=DATE:20101111
DTEND;VALUE=DATE:20101114
SUMMARY:CSK 2010
DESCRIPTION: Commonsense Knowledge Symposium 
URL:http://www.wikicfp.com/cfp/servlet/event.showcfp?eventid=9381&copyown
 erid=10995
UID:cfp81100-E@wikicfp.com
END:VEVENT
BEGIN:VEVENT
DTSTAMP:20260422T105140Z
DTSTART;VALUE=DATE:20100514
SUMMARY:CSK 2010 Deadline
DESCRIPTION: Commonsense Knowledge Symposium 
URL:http://www.wikicfp.com/cfp/servlet/event.showcfp?eventid=9381&copyown
 erid=10995
UID:cfp81100-D@wikicfp.com
END:VEVENT
BEGIN:VEVENT
DTSTAMP:20260422T105140Z
DTSTART;VALUE=DATE:20100604
SUMMARY:CSK 2010 Notification Due
DESCRIPTION: Commonsense Knowledge Symposium 
URL:http://www.wikicfp.com/cfp/servlet/event.showcfp?eventid=9381&copyown
 erid=10995
UID:cfp81100-N@wikicfp.com
END:VEVENT
BEGIN:VEVENT
DTSTAMP:20260422T105140Z
DTSTART;VALUE=DATE:20100910
SUMMARY:CSK 2010 Final Version Due
DESCRIPTION: Commonsense Knowledge Symposium 
URL:http://www.wikicfp.com/cfp/servlet/event.showcfp?eventid=9381&copyown
 erid=10995
UID:cfp81100-N@wikicfp.com
END:VEVENT
BEGIN:VEVENT
DTSTAMP:20260422T105140Z
DTSTART;VALUE=DATE:20101014
DTEND;VALUE=DATE:20101015
SUMMARY:BMMP 2010
DESCRIPTION:Business Models for Mobile Platforms
URL:http://www.wikicfp.com/cfp/servlet/event.showcfp?eventid=9370&copyown
 erid=10995
UID:cfp81091-E@wikicfp.com
END:VEVENT
BEGIN:VEVENT
DTSTAMP:20260422T105140Z
DTSTART;VALUE=DATE:20100515
SUMMARY:BMMP 2010 Deadline
DESCRIPTION:Business Models for Mobile Platforms
URL:http://www.wikicfp.com/cfp/servlet/event.showcfp?eventid=9370&copyown
 erid=10995
UID:cfp81091-D@wikicfp.com
END:VEVENT
BEGIN:VEVENT
DTSTAMP:20260422T105140Z
DTSTART;VALUE=DATE:20100610
SUMMARY:BMMP 2010 Notification Due
DESCRIPTION:Business Models for Mobile Platforms
URL:http://www.wikicfp.com/cfp/servlet/event.showcfp?eventid=9370&copyown
 erid=10995
UID:cfp81091-N@wikicfp.com
END:VEVENT
BEGIN:VEVENT
DTSTAMP:20260422T105140Z
DTSTART;VALUE=DATE:20100730
SUMMARY:BMMP 2010 Final Version Due
DESCRIPTION:Business Models for Mobile Platforms
URL:http://www.wikicfp.com/cfp/servlet/event.showcfp?eventid=9370&copyown
 erid=10995
UID:cfp81091-N@wikicfp.com
END:VEVENT
BEGIN:VEVENT
DTSTAMP:20260422T105140Z
DTSTART;VALUE=DATE:20100620
SUMMARY:ADHOC-PRACTICAL-WMN 2010 Deadline
DESCRIPTION:A special issue of Ad Hoc Networks journal on Recent advances
  on practical aspects of Wireless Mesh Networks
URL:http://www.wikicfp.com/cfp/servlet/event.showcfp?eventid=9377&copyown
 erid=10995
UID:cfp81097-D@wikicfp.com
END:VEVENT
BEGIN:VEVENT
DTSTAMP:20260422T105140Z
DTSTART;VALUE=DATE:20100930
SUMMARY:ADHOC-PRACTICAL-WMN 2010 Notification Due
DESCRIPTION:A special issue of Ad Hoc Networks journal on Recent advances
  on practical aspects of Wireless Mesh Networks
URL:http://www.wikicfp.com/cfp/servlet/event.showcfp?eventid=9377&copyown
 erid=10995
UID:cfp81097-N@wikicfp.com
END:VEVENT
BEGIN:VEVENT
DTSTAMP:20260422T105140Z
DTSTART;VALUE=DATE:20101130
SUMMARY:ADHOC-PRACTICAL-WMN 2010 Final Version Due
DESCRIPTION:A special issue of Ad Hoc Networks journal on Recent advances
  on practical aspects of Wireless Mesh Networks
URL:http://www.wikicfp.com/cfp/servlet/event.showcfp?eventid=9377&copyown
 erid=10995
UID:cfp81097-N@wikicfp.com
END:VEVENT
BEGIN:VEVENT
DTSTAMP:20260422T105140Z
DTSTART;VALUE=DATE:20100923
DTEND;VALUE=DATE:20100925
SUMMARY:STM 2010
DESCRIPTION:6th Workshop on Security and Trust Management
URL:http://www.wikicfp.com/cfp/servlet/event.showcfp?eventid=9378&copyown
 erid=10995
UID:cfp81098-E@wikicfp.com
END:VEVENT
BEGIN:VEVENT
DTSTAMP:20260422T105140Z
DTSTART;VALUE=DATE:20100620
SUMMARY:STM 2010 Deadline
DESCRIPTION:6th Workshop on Security and Trust Management
URL:http://www.wikicfp.com/cfp/servlet/event.showcfp?eventid=9378&copyown
 erid=10995
UID:cfp81098-D@wikicfp.com
END:VEVENT
BEGIN:VEVENT
DTSTAMP:20260422T105140Z
DTSTART;VALUE=DATE:20100620
SUMMARY:STM 2010 Notification Due
DESCRIPTION:6th Workshop on Security and Trust Management
URL:http://www.wikicfp.com/cfp/servlet/event.showcfp?eventid=9378&copyown
 erid=10995
UID:cfp81098-N@wikicfp.com
END:VEVENT
BEGIN:VEVENT
DTSTAMP:20260422T105140Z
DTSTART;VALUE=DATE:20100818
SUMMARY:STM 2010 Final Version Due
DESCRIPTION:6th Workshop on Security and Trust Management
URL:http://www.wikicfp.com/cfp/servlet/event.showcfp?eventid=9378&copyown
 erid=10995
UID:cfp81098-N@wikicfp.com
END:VEVENT
BEGIN:VEVENT
DTSTAMP:20260422T105140Z
DTSTART;VALUE=DATE:20101028
DTEND;VALUE=DATE:20101031
SUMMARY:CAS 2010
DESCRIPTION:Workshop on Computational Approaches to Synonymy
URL:http://www.wikicfp.com/cfp/servlet/event.showcfp?eventid=9366&copyown
 erid=10995
UID:cfp81087-E@wikicfp.com
END:VEVENT
BEGIN:VEVENT
DTSTAMP:20260422T105140Z
DTSTART;VALUE=DATE:20100630
SUMMARY:CAS 2010 Deadline
DESCRIPTION:Workshop on Computational Approaches to Synonymy
URL:http://www.wikicfp.com/cfp/servlet/event.showcfp?eventid=9366&copyown
 erid=10995
UID:cfp81087-D@wikicfp.com
END:VEVENT
BEGIN:VEVENT
DTSTAMP:20260422T105140Z
DTSTART;VALUE=DATE:20100715
SUMMARY:CAS 2010 Notification Due
DESCRIPTION:Workshop on Computational Approaches to Synonymy
URL:http://www.wikicfp.com/cfp/servlet/event.showcfp?eventid=9366&copyown
 erid=10995
UID:cfp81087-N@wikicfp.com
END:VEVENT
BEGIN:VEVENT
DTSTAMP:20260422T105140Z
DTSTART;VALUE=DATE:20100630
SUMMARY:JEI   2010 Deadline
DESCRIPTION:Journal of Environmental Investing Call for Papers
URL:http://www.wikicfp.com/cfp/servlet/event.showcfp?eventid=9374&copyown
 erid=10995
UID:cfp81094-D@wikicfp.com
END:VEVENT
BEGIN:VEVENT
DTSTAMP:20260422T105140Z
DTSTART;VALUE=DATE:20101015
SUMMARY:JEI   2010 Notification Due
DESCRIPTION:Journal of Environmental Investing Call for Papers
URL:http://www.wikicfp.com/cfp/servlet/event.showcfp?eventid=9374&copyown
 erid=10995
UID:cfp81094-N@wikicfp.com
END:VEVENT
BEGIN:VEVENT
DTSTAMP:20260422T105140Z
DTSTART;VALUE=DATE:20101115
SUMMARY:JEI   2010 Final Version Due
DESCRIPTION:Journal of Environmental Investing Call for Papers
URL:http://www.wikicfp.com/cfp/servlet/event.showcfp?eventid=9374&copyown
 erid=10995
UID:cfp81094-N@wikicfp.com
END:VEVENT
BEGIN:VEVENT
DTSTAMP:20260422T105140Z
DTSTART;VALUE=DATE:20101213
DTEND;VALUE=DATE:20101216
SUMMARY:ICSPCS 2010
DESCRIPTION:4th International Conference on Signal Processing and Communi
 cation Systems
URL:http://www.wikicfp.com/cfp/servlet/event.showcfp?eventid=9384&copyown
 erid=10995
UID:cfp81103-E@wikicfp.com
END:VEVENT
BEGIN:VEVENT
DTSTAMP:20260422T105140Z
DTSTART;VALUE=DATE:20100630
SUMMARY:ICSPCS 2010 Deadline
DESCRIPTION:4th International Conference on Signal Processing and Communi
 cation Systems
URL:http://www.wikicfp.com/cfp/servlet/event.showcfp?eventid=9384&copyown
 erid=10995
UID:cfp81103-D@wikicfp.com
END:VEVENT
BEGIN:VEVENT
DTSTAMP:20260422T105140Z
DTSTART;VALUE=DATE:20100915
SUMMARY:ICSPCS 2010 Notification Due
DESCRIPTION:4th International Conference on Signal Processing and Communi
 cation Systems
URL:http://www.wikicfp.com/cfp/servlet/event.showcfp?eventid=9384&copyown
 erid=10995
UID:cfp81103-N@wikicfp.com
END:VEVENT
BEGIN:VEVENT
DTSTAMP:20260422T105140Z
DTSTART;VALUE=DATE:20101015
SUMMARY:ICSPCS 2010 Final Version Due
DESCRIPTION:4th International Conference on Signal Processing and Communi
 cation Systems
URL:http://www.wikicfp.com/cfp/servlet/event.showcfp?eventid=9384&copyown
 erid=10995
UID:cfp81103-N@wikicfp.com
END:VEVENT
BEGIN:VEVENT
DTSTAMP:20260422T105140Z
DTSTART;VALUE=DATE:20100814
DTEND;VALUE=DATE:20100816
SUMMARY:ISMMSC 2010
DESCRIPTION:2010 International Seminar on Mathematical Modeling in Servic
 e Computing
URL:http://www.wikicfp.com/cfp/servlet/event.showcfp?eventid=9382&copyown
 erid=10995
UID:cfp81101-E@wikicfp.com
END:VEVENT
BEGIN:VEVENT
DTSTAMP:20260422T105140Z
DTSTART;VALUE=DATE:20100705
SUMMARY:ISMMSC 2010 Deadline
DESCRIPTION:2010 International Seminar on Mathematical Modeling in Servic
 e Computing
URL:http://www.wikicfp.com/cfp/servlet/event.showcfp?eventid=9382&copyown
 erid=10995
UID:cfp81101-D@wikicfp.com
END:VEVENT
BEGIN:VEVENT
DTSTAMP:20260422T105140Z
DTSTART;VALUE=DATE:20100715
SUMMARY:IJAMAS- Similarity solutions in nonlinea 2010 Deadline
DESCRIPTION:Special Issue on Similarity solutions in nonlinear PDEâs\, 
 IJAMAS(2010) 
URL:http://www.wikicfp.com/cfp/servlet/event.showcfp?eventid=9375&copyown
 erid=10995
UID:cfp81095-D@wikicfp.com
END:VEVENT
BEGIN:VEVENT
DTSTAMP:20260422T105140Z
DTSTART;VALUE=DATE:20100930
SUMMARY:IJAMAS- Similarity solutions in nonlinea 2010 Notification Due
DESCRIPTION:Special Issue on Similarity solutions in nonlinear PDEâs\, 
 IJAMAS(2010) 
URL:http://www.wikicfp.com/cfp/servlet/event.showcfp?eventid=9375&copyown
 erid=10995
UID:cfp81095-N@wikicfp.com
END:VEVENT
BEGIN:VEVENT
DTSTAMP:20260422T105140Z
DTSTART;VALUE=DATE:20101130
SUMMARY:IJAMAS- Similarity solutions in nonlinea 2010 Final Version Due
DESCRIPTION:Special Issue on Similarity solutions in nonlinear PDEâs\, 
 IJAMAS(2010) 
URL:http://www.wikicfp.com/cfp/servlet/event.showcfp?eventid=9375&copyown
 erid=10995
UID:cfp81095-N@wikicfp.com
END:VEVENT
BEGIN:VEVENT
DTSTAMP:20260422T105140Z
DTSTART;VALUE=DATE:20101204
DTEND;VALUE=DATE:20101207
SUMMARY:CACS 2010
DESCRIPTION:The 2010 International Congress on Computer Applications and 
 Computational Science
URL:http://www.wikicfp.com/cfp/servlet/event.showcfp?eventid=9388&copyown
 erid=10995
UID:cfp81105-E@wikicfp.com
END:VEVENT
BEGIN:VEVENT
DTSTAMP:20260422T105140Z
DTSTART;VALUE=DATE:20100715
SUMMARY:CACS 2010 Deadline
DESCRIPTION:The 2010 International Congress on Computer Applications and 
 Computational Science
URL:http://www.wikicfp.com/cfp/servlet/event.showcfp?eventid=9388&copyown
 erid=10995
UID:cfp81105-D@wikicfp.com
END:VEVENT
BEGIN:VEVENT
DTSTAMP:20260422T105140Z
DTSTART;VALUE=DATE:20100815
SUMMARY:CACS 2010 Notification Due
DESCRIPTION:The 2010 International Congress on Computer Applications and 
 Computational Science
URL:http://www.wikicfp.com/cfp/servlet/event.showcfp?eventid=9388&copyown
 erid=10995
UID:cfp81105-N@wikicfp.com
END:VEVENT
BEGIN:VEVENT
DTSTAMP:20260422T105140Z
DTSTART;VALUE=DATE:20100909
SUMMARY:CACS 2010 Final Version Due
DESCRIPTION:The 2010 International Congress on Computer Applications and 
 Computational Science
URL:http://www.wikicfp.com/cfp/servlet/event.showcfp?eventid=9388&copyown
 erid=10995
UID:cfp81105-N@wikicfp.com
END:VEVENT
END:VCALENDAR
