BEGIN:VCALENDAR
PRODID:-//WikiCFP//aleigh1978 1.0//EN
VERSION:2.0
CALSCALE:GREGORIAN
BEGIN:VEVENT
DTSTAMP:20260420T154522Z
DTSTART;VALUE=DATE:20180924
DTEND;VALUE=DATE:20180929
SUMMARY:ECSA 2018
DESCRIPTION:CFP: 12th European Conference on Software Architecture
URL:http://www.wikicfp.com/cfp/servlet/event.showcfp?eventid=71869&copyow
 nerid=108143
UID:cfp711174-E@wikicfp.com
END:VEVENT
BEGIN:VEVENT
DTSTAMP:20260420T154522Z
DTSTART;VALUE=DATE:20180312
SUMMARY:ECSA 2018 Abstract Due
DESCRIPTION:CFP: 12th European Conference on Software Architecture
URL:http://www.wikicfp.com/cfp/servlet/event.showcfp?eventid=71869&copyow
 nerid=108143
UID:cfp711174-A@wikicfp.com
END:VEVENT
BEGIN:VEVENT
DTSTAMP:20260420T154522Z
DTSTART;VALUE=DATE:20180323
SUMMARY:ECSA 2018 Deadline
DESCRIPTION:CFP: 12th European Conference on Software Architecture
URL:http://www.wikicfp.com/cfp/servlet/event.showcfp?eventid=71869&copyow
 nerid=108143
UID:cfp711174-D@wikicfp.com
END:VEVENT
BEGIN:VEVENT
DTSTAMP:20260420T154522Z
DTSTART;VALUE=DATE:20180524
SUMMARY:ECSA 2018 Notification Due
DESCRIPTION:CFP: 12th European Conference on Software Architecture
URL:http://www.wikicfp.com/cfp/servlet/event.showcfp?eventid=71869&copyow
 nerid=108143
UID:cfp711174-N@wikicfp.com
END:VEVENT
BEGIN:VEVENT
DTSTAMP:20260420T154522Z
DTSTART;VALUE=DATE:20180607
SUMMARY:ECSA 2018 Final Version Due
DESCRIPTION:CFP: 12th European Conference on Software Architecture
URL:http://www.wikicfp.com/cfp/servlet/event.showcfp?eventid=71869&copyow
 nerid=108143
UID:cfp711174-N@wikicfp.com
END:VEVENT
BEGIN:VEVENT
DTSTAMP:20260420T154522Z
DTSTART;VALUE=DATE:20180331
SUMMARY:JSS SI on Software Architecture 2018 Deadline
DESCRIPTION:JSS Special Issue on Software Architecture
URL:http://www.wikicfp.com/cfp/servlet/event.showcfp?eventid=70960&copyow
 nerid=108143
UID:cfp711175-D@wikicfp.com
END:VEVENT
BEGIN:VEVENT
DTSTAMP:20260420T154522Z
DTSTART;VALUE=DATE:20181015
SUMMARY:JSS SI on Software Architecture 2018 Notification Due
DESCRIPTION:JSS Special Issue on Software Architecture
URL:http://www.wikicfp.com/cfp/servlet/event.showcfp?eventid=70960&copyow
 nerid=108143
UID:cfp711175-N@wikicfp.com
END:VEVENT
BEGIN:VEVENT
DTSTAMP:20260420T154522Z
DTSTART;VALUE=DATE:20180923
DTEND;VALUE=DATE:20180930
SUMMARY:ICSME 2018
DESCRIPTION:34th International Conference on Software Maintenance and Evo
 lution
URL:http://www.wikicfp.com/cfp/servlet/event.showcfp?eventid=72087&copyow
 nerid=108143
UID:cfp711173-E@wikicfp.com
END:VEVENT
BEGIN:VEVENT
DTSTAMP:20260420T154522Z
DTSTART;VALUE=DATE:20180330
SUMMARY:ICSME 2018 Abstract Due
DESCRIPTION:34th International Conference on Software Maintenance and Evo
 lution
URL:http://www.wikicfp.com/cfp/servlet/event.showcfp?eventid=72087&copyow
 nerid=108143
UID:cfp711173-A@wikicfp.com
END:VEVENT
BEGIN:VEVENT
DTSTAMP:20260420T154522Z
DTSTART;VALUE=DATE:20180406
SUMMARY:ICSME 2018 Deadline
DESCRIPTION:34th International Conference on Software Maintenance and Evo
 lution
URL:http://www.wikicfp.com/cfp/servlet/event.showcfp?eventid=72087&copyow
 nerid=108143
UID:cfp711173-D@wikicfp.com
END:VEVENT
BEGIN:VEVENT
DTSTAMP:20260420T154522Z
DTSTART;VALUE=DATE:20180605
SUMMARY:ICSME 2018 Notification Due
DESCRIPTION:34th International Conference on Software Maintenance and Evo
 lution
URL:http://www.wikicfp.com/cfp/servlet/event.showcfp?eventid=72087&copyow
 nerid=108143
UID:cfp711173-N@wikicfp.com
END:VEVENT
BEGIN:VEVENT
DTSTAMP:20260420T154522Z
DTSTART;VALUE=DATE:20180715
SUMMARY:ICSME 2018 Final Version Due
DESCRIPTION:34th International Conference on Software Maintenance and Evo
 lution
URL:http://www.wikicfp.com/cfp/servlet/event.showcfp?eventid=72087&copyow
 nerid=108143
UID:cfp711173-N@wikicfp.com
END:VEVENT
BEGIN:VEVENT
DTSTAMP:20260420T154522Z
DTSTART;VALUE=DATE:20181014
DTEND;VALUE=DATE:20181020
SUMMARY:MODELS 2018
DESCRIPTION:ACM/IEEE 21th International Conference on Model Driven Engine
 ering Languages and Systems
URL:http://www.wikicfp.com/cfp/servlet/event.showcfp?eventid=68699&copyow
 nerid=108143
UID:cfp711176-E@wikicfp.com
END:VEVENT
BEGIN:VEVENT
DTSTAMP:20260420T154522Z
DTSTART;VALUE=DATE:20180427
SUMMARY:MODELS 2018 Abstract Due
DESCRIPTION:ACM/IEEE 21th International Conference on Model Driven Engine
 ering Languages and Systems
URL:http://www.wikicfp.com/cfp/servlet/event.showcfp?eventid=68699&copyow
 nerid=108143
UID:cfp711176-A@wikicfp.com
END:VEVENT
BEGIN:VEVENT
DTSTAMP:20260420T154522Z
DTSTART;VALUE=DATE:20180504
SUMMARY:MODELS 2018 Deadline
DESCRIPTION:ACM/IEEE 21th International Conference on Model Driven Engine
 ering Languages and Systems
URL:http://www.wikicfp.com/cfp/servlet/event.showcfp?eventid=68699&copyow
 nerid=108143
UID:cfp711176-D@wikicfp.com
END:VEVENT
BEGIN:VEVENT
DTSTAMP:20260420T154522Z
DTSTART;VALUE=DATE:20180612
SUMMARY:MODELS 2018 Notification Due
DESCRIPTION:ACM/IEEE 21th International Conference on Model Driven Engine
 ering Languages and Systems
URL:http://www.wikicfp.com/cfp/servlet/event.showcfp?eventid=68699&copyow
 nerid=108143
UID:cfp711176-N@wikicfp.com
END:VEVENT
BEGIN:VEVENT
DTSTAMP:20260420T154522Z
DTSTART;VALUE=DATE:20180703
SUMMARY:MODELS 2018 Final Version Due
DESCRIPTION:ACM/IEEE 21th International Conference on Model Driven Engine
 ering Languages and Systems
URL:http://www.wikicfp.com/cfp/servlet/event.showcfp?eventid=68699&copyow
 nerid=108143
UID:cfp711176-N@wikicfp.com
END:VEVENT
BEGIN:VEVENT
DTSTAMP:20260420T154522Z
DTSTART;VALUE=DATE:20181014
DTEND;VALUE=DATE:20181019
SUMMARY:ICSEA 2018
DESCRIPTION:The Thirteenth International Conference on Software Engineeri
 ng Advances
URL:http://www.wikicfp.com/cfp/servlet/event.showcfp?eventid=72521&copyow
 nerid=108143
UID:cfp711177-E@wikicfp.com
END:VEVENT
BEGIN:VEVENT
DTSTAMP:20260420T154522Z
DTSTART;VALUE=DATE:20180626
SUMMARY:ICSEA 2018 Deadline
DESCRIPTION:The Thirteenth International Conference on Software Engineeri
 ng Advances
URL:http://www.wikicfp.com/cfp/servlet/event.showcfp?eventid=72521&copyow
 nerid=108143
UID:cfp711177-D@wikicfp.com
END:VEVENT
BEGIN:VEVENT
DTSTAMP:20260420T154522Z
DTSTART;VALUE=DATE:20180728
SUMMARY:ICSEA 2018 Notification Due
DESCRIPTION:The Thirteenth International Conference on Software Engineeri
 ng Advances
URL:http://www.wikicfp.com/cfp/servlet/event.showcfp?eventid=72521&copyow
 nerid=108143
UID:cfp711177-N@wikicfp.com
END:VEVENT
BEGIN:VEVENT
DTSTAMP:20260420T154522Z
DTSTART;VALUE=DATE:20180822
SUMMARY:ICSEA 2018 Final Version Due
DESCRIPTION:The Thirteenth International Conference on Software Engineeri
 ng Advances
URL:http://www.wikicfp.com/cfp/servlet/event.showcfp?eventid=72521&copyow
 nerid=108143
UID:cfp711177-N@wikicfp.com
END:VEVENT
BEGIN:VEVENT
DTSTAMP:20260420T154522Z
DTSTART;VALUE=DATE:20190525
DTEND;VALUE=DATE:20190602
SUMMARY:ICSE 2019
DESCRIPTION:International Conference on Software Engineering
URL:http://www.wikicfp.com/cfp/servlet/event.showcfp?eventid=70638&copyow
 nerid=108143
UID:cfp711178-E@wikicfp.com
END:VEVENT
BEGIN:VEVENT
DTSTAMP:20260420T154522Z
DTSTART;VALUE=DATE:20180824
SUMMARY:ICSE 2019 Deadline
DESCRIPTION:International Conference on Software Engineering
URL:http://www.wikicfp.com/cfp/servlet/event.showcfp?eventid=70638&copyow
 nerid=108143
UID:cfp711178-D@wikicfp.com
END:VEVENT
BEGIN:VEVENT
DTSTAMP:20260420T154522Z
DTSTART;VALUE=DATE:20181212
SUMMARY:ICSE 2019 Notification Due
DESCRIPTION:International Conference on Software Engineering
URL:http://www.wikicfp.com/cfp/servlet/event.showcfp?eventid=70638&copyow
 nerid=108143
UID:cfp711178-N@wikicfp.com
END:VEVENT
BEGIN:VEVENT
DTSTAMP:20260420T154522Z
DTSTART;VALUE=DATE:20190213
SUMMARY:ICSE 2019 Final Version Due
DESCRIPTION:International Conference on Software Engineering
URL:http://www.wikicfp.com/cfp/servlet/event.showcfp?eventid=70638&copyow
 nerid=108143
UID:cfp711178-N@wikicfp.com
END:VEVENT
END:VCALENDAR
