BEGIN:VCALENDAR
PRODID:-//WikiCFP//acollaguazo 1.0//EN
VERSION:2.0
CALSCALE:GREGORIAN
BEGIN:VEVENT
DTSTAMP:20260421T094723Z
DTSTART;VALUE=DATE:20180207
DTEND;VALUE=DATE:20180209
SUMMARY:CSECE 2018
DESCRIPTION:2018 International Conference on Computer Science\, Electroni
 cs and Communication Engineering
URL:http://www.wikicfp.com/cfp/servlet/event.showcfp?eventid=68801&copyow
 nerid=107729
UID:cfp710227-E@wikicfp.com
END:VEVENT
BEGIN:VEVENT
DTSTAMP:20260421T094723Z
DTSTART;VALUE=DATE:20170112
SUMMARY:CSECE 2018 Abstract Due
DESCRIPTION:2018 International Conference on Computer Science\, Electroni
 cs and Communication Engineering
URL:http://www.wikicfp.com/cfp/servlet/event.showcfp?eventid=68801&copyow
 nerid=107729
UID:cfp710227-A@wikicfp.com
END:VEVENT
BEGIN:VEVENT
DTSTAMP:20260421T094723Z
DTSTART;VALUE=DATE:20180125
SUMMARY:CSECE 2018 Deadline
DESCRIPTION:2018 International Conference on Computer Science\, Electroni
 cs and Communication Engineering
URL:http://www.wikicfp.com/cfp/servlet/event.showcfp?eventid=68801&copyow
 nerid=107729
UID:cfp710227-D@wikicfp.com
END:VEVENT
BEGIN:VEVENT
DTSTAMP:20260421T094723Z
DTSTART;VALUE=DATE:20170202
SUMMARY:CSECE 2018 Notification Due
DESCRIPTION:2018 International Conference on Computer Science\, Electroni
 cs and Communication Engineering
URL:http://www.wikicfp.com/cfp/servlet/event.showcfp?eventid=68801&copyow
 nerid=107729
UID:cfp710227-N@wikicfp.com
END:VEVENT
BEGIN:VEVENT
DTSTAMP:20260421T094723Z
DTSTART;VALUE=DATE:20180125
SUMMARY:CSECE 2018 Final Version Due
DESCRIPTION:2018 International Conference on Computer Science\, Electroni
 cs and Communication Engineering
URL:http://www.wikicfp.com/cfp/servlet/event.showcfp?eventid=68801&copyow
 nerid=107729
UID:cfp710227-N@wikicfp.com
END:VEVENT
END:VCALENDAR
