BEGIN:VCALENDAR
PRODID:-//WikiCFP//universitas 1.0//EN
VERSION:2.0
CALSCALE:GREGORIAN
BEGIN:VEVENT
DTSTAMP:20260421T003611Z
DTSTART;VALUE=DATE:20180118
DTEND;VALUE=DATE:20180221
SUMMARY:MHS 2018
DESCRIPTION:Mantua Humanistic Studies. Volume I - Cal for Papers for Publ
 ication
URL:http://www.wikicfp.com/cfp/servlet/event.showcfp?eventid=72321&copyow
 nerid=107208
UID:cfp707329-E@wikicfp.com
END:VEVENT
BEGIN:VEVENT
DTSTAMP:20260421T003611Z
DTSTART;VALUE=DATE:20180220
SUMMARY:MHS 2018 Deadline
DESCRIPTION:Mantua Humanistic Studies. Volume I - Cal for Papers for Publ
 ication
URL:http://www.wikicfp.com/cfp/servlet/event.showcfp?eventid=72321&copyow
 nerid=107208
UID:cfp707329-D@wikicfp.com
END:VEVENT
BEGIN:VEVENT
DTSTAMP:20260421T003611Z
DTSTART;VALUE=DATE:20180301
SUMMARY:MHS 2018 Notification Due
DESCRIPTION:Mantua Humanistic Studies. Volume I - Cal for Papers for Publ
 ication
URL:http://www.wikicfp.com/cfp/servlet/event.showcfp?eventid=72321&copyow
 nerid=107208
UID:cfp707329-N@wikicfp.com
END:VEVENT
END:VCALENDAR
