BEGIN:VCALENDAR
PRODID:-//WikiCFP//josemonsalve2 1.0//EN
VERSION:2.0
CALSCALE:GREGORIAN
BEGIN:VEVENT
DTSTAMP:20260420T160406Z
DTSTART;VALUE=DATE:20170904
DTEND;VALUE=DATE:20170909
SUMMARY:PaCT 2017
DESCRIPTION:The 14th International Conference on Parallel Computing Techn
 ologies
URL:http://www.wikicfp.com/cfp/servlet/event.showcfp?eventid=58926&copyow
 nerid=107139
UID:cfp707074-E@wikicfp.com
END:VEVENT
BEGIN:VEVENT
DTSTAMP:20260420T160406Z
DTSTART;VALUE=DATE:20170331
SUMMARY:PaCT 2017 Deadline
DESCRIPTION:The 14th International Conference on Parallel Computing Techn
 ologies
URL:http://www.wikicfp.com/cfp/servlet/event.showcfp?eventid=58926&copyow
 nerid=107139
UID:cfp707074-D@wikicfp.com
END:VEVENT
BEGIN:VEVENT
DTSTAMP:20260420T160406Z
DTSTART;VALUE=DATE:20170415
SUMMARY:PaCT 2017 Notification Due
DESCRIPTION:The 14th International Conference on Parallel Computing Techn
 ologies
URL:http://www.wikicfp.com/cfp/servlet/event.showcfp?eventid=58926&copyow
 nerid=107139
UID:cfp707074-N@wikicfp.com
END:VEVENT
BEGIN:VEVENT
DTSTAMP:20260420T160406Z
DTSTART;VALUE=DATE:20170525
SUMMARY:PaCT 2017 Final Version Due
DESCRIPTION:The 14th International Conference on Parallel Computing Techn
 ologies
URL:http://www.wikicfp.com/cfp/servlet/event.showcfp?eventid=58926&copyow
 nerid=107139
UID:cfp707074-N@wikicfp.com
END:VEVENT
BEGIN:VEVENT
DTSTAMP:20260420T160406Z
DTSTART;VALUE=DATE:20170913
DTEND;VALUE=DATE:20170918
SUMMARY:PACT Workshops and Tutorials 2017
DESCRIPTION:International Conference on Parallel Architectures and Compil
 ations Techniques - Workshops and Tutorials
URL:http://www.wikicfp.com/cfp/servlet/event.showcfp?eventid=62406&copyow
 nerid=107139
UID:cfp707076-E@wikicfp.com
END:VEVENT
BEGIN:VEVENT
DTSTAMP:20260420T160406Z
DTSTART;VALUE=DATE:20170407
SUMMARY:PACT Workshops and Tutorials 2017 Deadline
DESCRIPTION:International Conference on Parallel Architectures and Compil
 ations Techniques - Workshops and Tutorials
URL:http://www.wikicfp.com/cfp/servlet/event.showcfp?eventid=62406&copyow
 nerid=107139
UID:cfp707076-D@wikicfp.com
END:VEVENT
BEGIN:VEVENT
DTSTAMP:20260420T160406Z
DTSTART;VALUE=DATE:20170421
SUMMARY:PACT Workshops and Tutorials 2017 Notification Due
DESCRIPTION:International Conference on Parallel Architectures and Compil
 ations Techniques - Workshops and Tutorials
URL:http://www.wikicfp.com/cfp/servlet/event.showcfp?eventid=62406&copyow
 nerid=107139
UID:cfp707076-N@wikicfp.com
END:VEVENT
BEGIN:VEVENT
DTSTAMP:20260420T160406Z
DTSTART;VALUE=DATE:20170905
DTEND;VALUE=DATE:20170909
SUMMARY:IEEE Cluster 2017 2017
DESCRIPTION:International Conference on Cluster Computing
URL:http://www.wikicfp.com/cfp/servlet/event.showcfp?eventid=59953&copyow
 nerid=107139
UID:cfp707075-E@wikicfp.com
END:VEVENT
BEGIN:VEVENT
DTSTAMP:20260420T160406Z
DTSTART;VALUE=DATE:20170507
SUMMARY:IEEE Cluster 2017 2017 Abstract Due
DESCRIPTION:International Conference on Cluster Computing
URL:http://www.wikicfp.com/cfp/servlet/event.showcfp?eventid=59953&copyow
 nerid=107139
UID:cfp707075-A@wikicfp.com
END:VEVENT
BEGIN:VEVENT
DTSTAMP:20260420T160406Z
DTSTART;VALUE=DATE:20170515
SUMMARY:IEEE Cluster 2017 2017 Deadline
DESCRIPTION:International Conference on Cluster Computing
URL:http://www.wikicfp.com/cfp/servlet/event.showcfp?eventid=59953&copyow
 nerid=107139
UID:cfp707075-D@wikicfp.com
END:VEVENT
BEGIN:VEVENT
DTSTAMP:20260420T160406Z
DTSTART;VALUE=DATE:20170630
SUMMARY:IEEE Cluster 2017 2017 Notification Due
DESCRIPTION:International Conference on Cluster Computing
URL:http://www.wikicfp.com/cfp/servlet/event.showcfp?eventid=59953&copyow
 nerid=107139
UID:cfp707075-N@wikicfp.com
END:VEVENT
BEGIN:VEVENT
DTSTAMP:20260420T160406Z
DTSTART;VALUE=DATE:20180827
DTEND;VALUE=DATE:20180901
SUMMARY:Euro-Par 2018
DESCRIPTION:European Conference on Parallel Processing
URL:http://www.wikicfp.com/cfp/servlet/event.showcfp?eventid=69237&copyow
 nerid=107139
UID:cfp707067-E@wikicfp.com
END:VEVENT
BEGIN:VEVENT
DTSTAMP:20260420T160406Z
DTSTART;VALUE=DATE:20180209
SUMMARY:Euro-Par 2018 Abstract Due
DESCRIPTION:European Conference on Parallel Processing
URL:http://www.wikicfp.com/cfp/servlet/event.showcfp?eventid=69237&copyow
 nerid=107139
UID:cfp707067-A@wikicfp.com
END:VEVENT
BEGIN:VEVENT
DTSTAMP:20260420T160406Z
DTSTART;VALUE=DATE:20180216
SUMMARY:Euro-Par 2018 Deadline
DESCRIPTION:European Conference on Parallel Processing
URL:http://www.wikicfp.com/cfp/servlet/event.showcfp?eventid=69237&copyow
 nerid=107139
UID:cfp707067-D@wikicfp.com
END:VEVENT
BEGIN:VEVENT
DTSTAMP:20260420T160406Z
DTSTART;VALUE=DATE:20180427
SUMMARY:Euro-Par 2018 Notification Due
DESCRIPTION:European Conference on Parallel Processing
URL:http://www.wikicfp.com/cfp/servlet/event.showcfp?eventid=69237&copyow
 nerid=107139
UID:cfp707067-N@wikicfp.com
END:VEVENT
BEGIN:VEVENT
DTSTAMP:20260420T160406Z
DTSTART;VALUE=DATE:20180601
SUMMARY:Euro-Par 2018 Final Version Due
DESCRIPTION:European Conference on Parallel Processing
URL:http://www.wikicfp.com/cfp/servlet/event.showcfp?eventid=69237&copyow
 nerid=107139
UID:cfp707067-N@wikicfp.com
END:VEVENT
BEGIN:VEVENT
DTSTAMP:20260420T160406Z
DTSTART;VALUE=DATE:20240302
DTEND;VALUE=DATE:20240303
SUMMARY:ExHET 2024
DESCRIPTION:The 3rd International Workshop on Extreme Heterogeneity Solut
 ions
URL:http://www.wikicfp.com/cfp/servlet/event.showcfp?eventid=176759&copyo
 wnerid=107139
UID:cfp976834-E@wikicfp.com
END:VEVENT
BEGIN:VEVENT
DTSTAMP:20260420T160406Z
DTSTART;VALUE=DATE:20231229
SUMMARY:ExHET 2024 Deadline
DESCRIPTION:The 3rd International Workshop on Extreme Heterogeneity Solut
 ions
URL:http://www.wikicfp.com/cfp/servlet/event.showcfp?eventid=176759&copyo
 wnerid=107139
UID:cfp976834-D@wikicfp.com
END:VEVENT
BEGIN:VEVENT
DTSTAMP:20260420T160406Z
DTSTART;VALUE=DATE:20241201
SUMMARY:ExHET 2024 Notification Due
DESCRIPTION:The 3rd International Workshop on Extreme Heterogeneity Solut
 ions
URL:http://www.wikicfp.com/cfp/servlet/event.showcfp?eventid=176759&copyo
 wnerid=107139
UID:cfp976834-N@wikicfp.com
END:VEVENT
BEGIN:VEVENT
DTSTAMP:20260420T160406Z
DTSTART;VALUE=DATE:20240226
SUMMARY:ExHET 2024 Final Version Due
DESCRIPTION:The 3rd International Workshop on Extreme Heterogeneity Solut
 ions
URL:http://www.wikicfp.com/cfp/servlet/event.showcfp?eventid=176759&copyo
 wnerid=107139
UID:cfp976834-N@wikicfp.com
END:VEVENT
BEGIN:VEVENT
DTSTAMP:20260420T160406Z
DTSTART;VALUE=DATE:20240507
DTEND;VALUE=DATE:20240510
SUMMARY:CF' 24 2024
DESCRIPTION:21th ACM International Conference on Computing Frontiers
URL:http://www.wikicfp.com/cfp/servlet/event.showcfp?eventid=176760&copyo
 wnerid=107139
UID:cfp976835-E@wikicfp.com
END:VEVENT
BEGIN:VEVENT
DTSTAMP:20260420T160406Z
DTSTART;VALUE=DATE:20240108
SUMMARY:CF' 24 2024 Deadline
DESCRIPTION:21th ACM International Conference on Computing Frontiers
URL:http://www.wikicfp.com/cfp/servlet/event.showcfp?eventid=176760&copyo
 wnerid=107139
UID:cfp976835-D@wikicfp.com
END:VEVENT
BEGIN:VEVENT
DTSTAMP:20260420T160406Z
DTSTART;VALUE=DATE:20240212
SUMMARY:CF' 24 2024 Notification Due
DESCRIPTION:21th ACM International Conference on Computing Frontiers
URL:http://www.wikicfp.com/cfp/servlet/event.showcfp?eventid=176760&copyo
 wnerid=107139
UID:cfp976835-N@wikicfp.com
END:VEVENT
BEGIN:VEVENT
DTSTAMP:20260420T160406Z
DTSTART;VALUE=DATE:20240325
SUMMARY:CF' 24 2024 Final Version Due
DESCRIPTION:21th ACM International Conference on Computing Frontiers
URL:http://www.wikicfp.com/cfp/servlet/event.showcfp?eventid=176760&copyo
 wnerid=107139
UID:cfp976835-N@wikicfp.com
END:VEVENT
END:VCALENDAR
