BEGIN:VCALENDAR
PRODID:-//WikiCFP//thomas_moser 1.0//EN
VERSION:2.0
CALSCALE:GREGORIAN
BEGIN:VEVENT
DTSTAMP:20260421T025926Z
DTSTART;VALUE=DATE:20180319
DTEND;VALUE=DATE:20180320
SUMMARY:ANIVAE 2018
DESCRIPTION:1st IEEE VR Internal Workshop on Animation in Virtual and Aug
 mented Environments 
URL:http://www.wikicfp.com/cfp/servlet/event.showcfp?eventid=70996&copyow
 nerid=106130
UID:cfp701676-E@wikicfp.com
END:VEVENT
BEGIN:VEVENT
DTSTAMP:20260421T025926Z
DTSTART;VALUE=DATE:20180124
SUMMARY:ANIVAE 2018 Deadline
DESCRIPTION:1st IEEE VR Internal Workshop on Animation in Virtual and Aug
 mented Environments 
URL:http://www.wikicfp.com/cfp/servlet/event.showcfp?eventid=70996&copyow
 nerid=106130
UID:cfp701676-D@wikicfp.com
END:VEVENT
BEGIN:VEVENT
DTSTAMP:20260421T025926Z
DTSTART;VALUE=DATE:20180214
SUMMARY:ANIVAE 2018 Notification Due
DESCRIPTION:1st IEEE VR Internal Workshop on Animation in Virtual and Aug
 mented Environments 
URL:http://www.wikicfp.com/cfp/servlet/event.showcfp?eventid=70996&copyow
 nerid=106130
UID:cfp701676-N@wikicfp.com
END:VEVENT
BEGIN:VEVENT
DTSTAMP:20260421T025926Z
DTSTART;VALUE=DATE:20180302
SUMMARY:ANIVAE 2018 Final Version Due
DESCRIPTION:1st IEEE VR Internal Workshop on Animation in Virtual and Aug
 mented Environments 
URL:http://www.wikicfp.com/cfp/servlet/event.showcfp?eventid=70996&copyow
 nerid=106130
UID:cfp701676-N@wikicfp.com
END:VEVENT
BEGIN:VEVENT
DTSTAMP:20260421T025926Z
DTSTART;VALUE=DATE:20180911
DTEND;VALUE=DATE:20180912
SUMMARY:LIDARI 2018
DESCRIPTION:3rd Workshop on Linked Data in Robotics and Industry 4.0
URL:http://www.wikicfp.com/cfp/servlet/event.showcfp?eventid=78052&copyow
 nerid=106130
UID:cfp732113-E@wikicfp.com
END:VEVENT
BEGIN:VEVENT
DTSTAMP:20260421T025926Z
DTSTART;VALUE=DATE:20180716
SUMMARY:LIDARI 2018 Deadline
DESCRIPTION:3rd Workshop on Linked Data in Robotics and Industry 4.0
URL:http://www.wikicfp.com/cfp/servlet/event.showcfp?eventid=78052&copyow
 nerid=106130
UID:cfp732113-D@wikicfp.com
END:VEVENT
BEGIN:VEVENT
DTSTAMP:20260421T025926Z
DTSTART;VALUE=DATE:20180806
SUMMARY:LIDARI 2018 Notification Due
DESCRIPTION:3rd Workshop on Linked Data in Robotics and Industry 4.0
URL:http://www.wikicfp.com/cfp/servlet/event.showcfp?eventid=78052&copyow
 nerid=106130
UID:cfp732113-N@wikicfp.com
END:VEVENT
BEGIN:VEVENT
DTSTAMP:20260421T025926Z
DTSTART;VALUE=DATE:20180827
SUMMARY:LIDARI 2018 Final Version Due
DESCRIPTION:3rd Workshop on Linked Data in Robotics and Industry 4.0
URL:http://www.wikicfp.com/cfp/servlet/event.showcfp?eventid=78052&copyow
 nerid=106130
UID:cfp732113-N@wikicfp.com
END:VEVENT
BEGIN:VEVENT
DTSTAMP:20260421T025926Z
DTSTART;VALUE=DATE:20190323
DTEND;VALUE=DATE:20190328
SUMMARY:IEEE VR 2019
DESCRIPTION:26th IEEE Conference on Virtual Reality and 3D User Interface
 s
URL:http://www.wikicfp.com/cfp/servlet/event.showcfp?eventid=77596&copyow
 nerid=106130
UID:cfp743561-E@wikicfp.com
END:VEVENT
BEGIN:VEVENT
DTSTAMP:20260421T025926Z
DTSTART;VALUE=DATE:20180903
SUMMARY:IEEE VR 2019 Abstract Due
DESCRIPTION:26th IEEE Conference on Virtual Reality and 3D User Interface
 s
URL:http://www.wikicfp.com/cfp/servlet/event.showcfp?eventid=77596&copyow
 nerid=106130
UID:cfp743561-A@wikicfp.com
END:VEVENT
BEGIN:VEVENT
DTSTAMP:20260421T025926Z
DTSTART;VALUE=DATE:20180910
SUMMARY:IEEE VR 2019 Deadline
DESCRIPTION:26th IEEE Conference on Virtual Reality and 3D User Interface
 s
URL:http://www.wikicfp.com/cfp/servlet/event.showcfp?eventid=77596&copyow
 nerid=106130
UID:cfp743561-D@wikicfp.com
END:VEVENT
BEGIN:VEVENT
DTSTAMP:20260421T025926Z
DTSTART;VALUE=DATE:20181115
SUMMARY:IEEE VR 2019 Notification Due
DESCRIPTION:26th IEEE Conference on Virtual Reality and 3D User Interface
 s
URL:http://www.wikicfp.com/cfp/servlet/event.showcfp?eventid=77596&copyow
 nerid=106130
UID:cfp743561-N@wikicfp.com
END:VEVENT
BEGIN:VEVENT
DTSTAMP:20260421T025926Z
DTSTART;VALUE=DATE:20190324
DTEND;VALUE=DATE:20190325
SUMMARY:ANIVAE 2019
DESCRIPTION:2nd IEEE Workshop on Animation in Virtual and Augmented Envir
 onments 
URL:http://www.wikicfp.com/cfp/servlet/event.showcfp?eventid=83556&copyow
 nerid=106130
UID:cfp760263-E@wikicfp.com
END:VEVENT
BEGIN:VEVENT
DTSTAMP:20260421T025926Z
DTSTART;VALUE=DATE:20190114
SUMMARY:ANIVAE 2019 Deadline
DESCRIPTION:2nd IEEE Workshop on Animation in Virtual and Augmented Envir
 onments 
URL:http://www.wikicfp.com/cfp/servlet/event.showcfp?eventid=83556&copyow
 nerid=106130
UID:cfp760263-D@wikicfp.com
END:VEVENT
BEGIN:VEVENT
DTSTAMP:20260421T025926Z
DTSTART;VALUE=DATE:20190204
SUMMARY:ANIVAE 2019 Notification Due
DESCRIPTION:2nd IEEE Workshop on Animation in Virtual and Augmented Envir
 onments 
URL:http://www.wikicfp.com/cfp/servlet/event.showcfp?eventid=83556&copyow
 nerid=106130
UID:cfp760263-N@wikicfp.com
END:VEVENT
BEGIN:VEVENT
DTSTAMP:20260421T025926Z
DTSTART;VALUE=DATE:20190217
SUMMARY:ANIVAE 2019 Final Version Due
DESCRIPTION:2nd IEEE Workshop on Animation in Virtual and Augmented Envir
 onments 
URL:http://www.wikicfp.com/cfp/servlet/event.showcfp?eventid=83556&copyow
 nerid=106130
UID:cfp760263-N@wikicfp.com
END:VEVENT
BEGIN:VEVENT
DTSTAMP:20260421T025926Z
DTSTART;VALUE=DATE:20190909
DTEND;VALUE=DATE:20190910
SUMMARY:KLARI 2019
DESCRIPTION:4th Workshop on Knowledge Graphs and Linked Data Applications
  in Robotics and Industry 4.0
URL:http://www.wikicfp.com/cfp/servlet/event.showcfp?eventid=90386&copyow
 nerid=106130
UID:cfp789631-E@wikicfp.com
END:VEVENT
BEGIN:VEVENT
DTSTAMP:20260421T025926Z
DTSTART;VALUE=DATE:20190705
SUMMARY:KLARI 2019 Deadline
DESCRIPTION:4th Workshop on Knowledge Graphs and Linked Data Applications
  in Robotics and Industry 4.0
URL:http://www.wikicfp.com/cfp/servlet/event.showcfp?eventid=90386&copyow
 nerid=106130
UID:cfp789631-D@wikicfp.com
END:VEVENT
BEGIN:VEVENT
DTSTAMP:20260421T025926Z
DTSTART;VALUE=DATE:20190819
SUMMARY:KLARI 2019 Notification Due
DESCRIPTION:4th Workshop on Knowledge Graphs and Linked Data Applications
  in Robotics and Industry 4.0
URL:http://www.wikicfp.com/cfp/servlet/event.showcfp?eventid=90386&copyow
 nerid=106130
UID:cfp789631-N@wikicfp.com
END:VEVENT
BEGIN:VEVENT
DTSTAMP:20260421T025926Z
DTSTART;VALUE=DATE:20190830
SUMMARY:KLARI 2019 Final Version Due
DESCRIPTION:4th Workshop on Knowledge Graphs and Linked Data Applications
  in Robotics and Industry 4.0
URL:http://www.wikicfp.com/cfp/servlet/event.showcfp?eventid=90386&copyow
 nerid=106130
UID:cfp789631-N@wikicfp.com
END:VEVENT
BEGIN:VEVENT
DTSTAMP:20260421T025926Z
DTSTART;VALUE=DATE:20200322
DTEND;VALUE=DATE:20200323
SUMMARY:ANIVAE 2020
DESCRIPTION:3nd Workshop on Animation in Virtual and Augmented Environmen
 ts
URL:http://www.wikicfp.com/cfp/servlet/event.showcfp?eventid=96764&copyow
 nerid=106130
UID:cfp816793-E@wikicfp.com
END:VEVENT
BEGIN:VEVENT
DTSTAMP:20260421T025926Z
DTSTART;VALUE=DATE:20200131
SUMMARY:ANIVAE 2020 Deadline
DESCRIPTION:3nd Workshop on Animation in Virtual and Augmented Environmen
 ts
URL:http://www.wikicfp.com/cfp/servlet/event.showcfp?eventid=96764&copyow
 nerid=106130
UID:cfp816793-D@wikicfp.com
END:VEVENT
BEGIN:VEVENT
DTSTAMP:20260421T025926Z
DTSTART;VALUE=DATE:20200221
SUMMARY:ANIVAE 2020 Notification Due
DESCRIPTION:3nd Workshop on Animation in Virtual and Augmented Environmen
 ts
URL:http://www.wikicfp.com/cfp/servlet/event.showcfp?eventid=96764&copyow
 nerid=106130
UID:cfp816793-N@wikicfp.com
END:VEVENT
BEGIN:VEVENT
DTSTAMP:20260421T025926Z
DTSTART;VALUE=DATE:20200228
SUMMARY:ANIVAE 2020 Final Version Due
DESCRIPTION:3nd Workshop on Animation in Virtual and Augmented Environmen
 ts
URL:http://www.wikicfp.com/cfp/servlet/event.showcfp?eventid=96764&copyow
 nerid=106130
UID:cfp816793-N@wikicfp.com
END:VEVENT
BEGIN:VEVENT
DTSTAMP:20260421T025926Z
DTSTART;VALUE=DATE:20200427
DTEND;VALUE=DATE:20200501
SUMMARY:XChange Reality! 2020
DESCRIPTION:Exploring the Future of Current Challenges with Augmented and
  Virtual Reality
URL:http://www.wikicfp.com/cfp/servlet/event.showcfp?eventid=97086&copyow
 nerid=106130
UID:cfp818365-E@wikicfp.com
END:VEVENT
BEGIN:VEVENT
DTSTAMP:20260421T025926Z
DTSTART;VALUE=DATE:20200131
SUMMARY:XChange Reality! 2020 Deadline
DESCRIPTION:Exploring the Future of Current Challenges with Augmented and
  Virtual Reality
URL:http://www.wikicfp.com/cfp/servlet/event.showcfp?eventid=97086&copyow
 nerid=106130
UID:cfp818365-D@wikicfp.com
END:VEVENT
BEGIN:VEVENT
DTSTAMP:20260421T025926Z
DTSTART;VALUE=DATE:20200315
SUMMARY:XChange Reality! 2020 Notification Due
DESCRIPTION:Exploring the Future of Current Challenges with Augmented and
  Virtual Reality
URL:http://www.wikicfp.com/cfp/servlet/event.showcfp?eventid=97086&copyow
 nerid=106130
UID:cfp818365-N@wikicfp.com
END:VEVENT
BEGIN:VEVENT
DTSTAMP:20260421T025926Z
DTSTART;VALUE=DATE:20200415
SUMMARY:XChange Reality! 2020 Final Version Due
DESCRIPTION:Exploring the Future of Current Challenges with Augmented and
  Virtual Reality
URL:http://www.wikicfp.com/cfp/servlet/event.showcfp?eventid=97086&copyow
 nerid=106130
UID:cfp818365-N@wikicfp.com
END:VEVENT
BEGIN:VEVENT
DTSTAMP:20260421T025926Z
DTSTART;VALUE=DATE:20201231
DTEND;VALUE=DATE:20210101
SUMMARY:IGI-SemComp 2020
DESCRIPTION:IGI Book on Advanced Concepts\, Methods\, and Applications in
  Semantic Computing
URL:http://www.wikicfp.com/cfp/servlet/event.showcfp?eventid=103636&copyo
 wnerid=106130
UID:cfp834941-E@wikicfp.com
END:VEVENT
BEGIN:VEVENT
DTSTAMP:20260421T025926Z
DTSTART;VALUE=DATE:20200512
SUMMARY:IGI-SemComp 2020 Deadline
DESCRIPTION:IGI Book on Advanced Concepts\, Methods\, and Applications in
  Semantic Computing
URL:http://www.wikicfp.com/cfp/servlet/event.showcfp?eventid=103636&copyo
 wnerid=106130
UID:cfp834941-D@wikicfp.com
END:VEVENT
BEGIN:VEVENT
DTSTAMP:20260421T025926Z
DTSTART;VALUE=DATE:20200715
SUMMARY:IGI-SemComp 2020 Notification Due
DESCRIPTION:IGI Book on Advanced Concepts\, Methods\, and Applications in
  Semantic Computing
URL:http://www.wikicfp.com/cfp/servlet/event.showcfp?eventid=103636&copyo
 wnerid=106130
UID:cfp834941-N@wikicfp.com
END:VEVENT
BEGIN:VEVENT
DTSTAMP:20260421T025926Z
DTSTART;VALUE=DATE:20200722
SUMMARY:IGI-SemComp 2020 Final Version Due
DESCRIPTION:IGI Book on Advanced Concepts\, Methods\, and Applications in
  Semantic Computing
URL:http://www.wikicfp.com/cfp/servlet/event.showcfp?eventid=103636&copyo
 wnerid=106130
UID:cfp834941-N@wikicfp.com
END:VEVENT
BEGIN:VEVENT
DTSTAMP:20260421T025926Z
DTSTART;VALUE=DATE:20210328
DTEND;VALUE=DATE:20210329
SUMMARY:ANIVAE 2021
DESCRIPTION:4th Workshop on Animation in Virtual and Augmented Environmen
 ts (ANIVAE)
URL:http://www.wikicfp.com/cfp/servlet/event.showcfp?eventid=120539&copyo
 wnerid=106130
UID:cfp865689-E@wikicfp.com
END:VEVENT
BEGIN:VEVENT
DTSTAMP:20260421T025926Z
DTSTART;VALUE=DATE:20210124
SUMMARY:ANIVAE 2021 Deadline
DESCRIPTION:4th Workshop on Animation in Virtual and Augmented Environmen
 ts (ANIVAE)
URL:http://www.wikicfp.com/cfp/servlet/event.showcfp?eventid=120539&copyo
 wnerid=106130
UID:cfp865689-D@wikicfp.com
END:VEVENT
BEGIN:VEVENT
DTSTAMP:20260421T025926Z
DTSTART;VALUE=DATE:20210131
SUMMARY:ANIVAE 2021 Notification Due
DESCRIPTION:4th Workshop on Animation in Virtual and Augmented Environmen
 ts (ANIVAE)
URL:http://www.wikicfp.com/cfp/servlet/event.showcfp?eventid=120539&copyo
 wnerid=106130
UID:cfp865689-N@wikicfp.com
END:VEVENT
BEGIN:VEVENT
DTSTAMP:20260421T025926Z
DTSTART;VALUE=DATE:20210207
SUMMARY:ANIVAE 2021 Final Version Due
DESCRIPTION:4th Workshop on Animation in Virtual and Augmented Environmen
 ts (ANIVAE)
URL:http://www.wikicfp.com/cfp/servlet/event.showcfp?eventid=120539&copyo
 wnerid=106130
UID:cfp865689-N@wikicfp.com
END:VEVENT
BEGIN:VEVENT
DTSTAMP:20260421T025926Z
DTSTART;VALUE=DATE:20220312
DTEND;VALUE=DATE:20220313
SUMMARY:ANIVAE 2022
DESCRIPTION:5th Workshop on Animation in Virtual and Augmented Environmen
 ts (ANIVAE)
URL:http://www.wikicfp.com/cfp/servlet/event.showcfp?eventid=153235&copyo
 wnerid=106130
UID:cfp916775-E@wikicfp.com
END:VEVENT
BEGIN:VEVENT
DTSTAMP:20260421T025926Z
DTSTART;VALUE=DATE:20220109
SUMMARY:ANIVAE 2022 Deadline
DESCRIPTION:5th Workshop on Animation in Virtual and Augmented Environmen
 ts (ANIVAE)
URL:http://www.wikicfp.com/cfp/servlet/event.showcfp?eventid=153235&copyo
 wnerid=106130
UID:cfp916775-D@wikicfp.com
END:VEVENT
BEGIN:VEVENT
DTSTAMP:20260421T025926Z
DTSTART;VALUE=DATE:20220120
SUMMARY:ANIVAE 2022 Notification Due
DESCRIPTION:5th Workshop on Animation in Virtual and Augmented Environmen
 ts (ANIVAE)
URL:http://www.wikicfp.com/cfp/servlet/event.showcfp?eventid=153235&copyo
 wnerid=106130
UID:cfp916775-N@wikicfp.com
END:VEVENT
BEGIN:VEVENT
DTSTAMP:20260421T025926Z
DTSTART;VALUE=DATE:20220127
SUMMARY:ANIVAE 2022 Final Version Due
DESCRIPTION:5th Workshop on Animation in Virtual and Augmented Environmen
 ts (ANIVAE)
URL:http://www.wikicfp.com/cfp/servlet/event.showcfp?eventid=153235&copyo
 wnerid=106130
UID:cfp916775-N@wikicfp.com
END:VEVENT
BEGIN:VEVENT
DTSTAMP:20260421T025926Z
DTSTART;VALUE=DATE:20230325
DTEND;VALUE=DATE:20230326
SUMMARY:ANIVAE 2023
DESCRIPTION:6th IEEE VR Internal Workshop on Animation in Virtual and Aug
 mented Environments
URL:http://www.wikicfp.com/cfp/servlet/event.showcfp?eventid=170729&copyo
 wnerid=106130
UID:cfp954315-E@wikicfp.com
END:VEVENT
BEGIN:VEVENT
DTSTAMP:20260421T025926Z
DTSTART;VALUE=DATE:20220109
SUMMARY:ANIVAE 2023 Deadline
DESCRIPTION:6th IEEE VR Internal Workshop on Animation in Virtual and Aug
 mented Environments
URL:http://www.wikicfp.com/cfp/servlet/event.showcfp?eventid=170729&copyo
 wnerid=106130
UID:cfp954315-D@wikicfp.com
END:VEVENT
BEGIN:VEVENT
DTSTAMP:20260421T025926Z
DTSTART;VALUE=DATE:20230120
SUMMARY:ANIVAE 2023 Notification Due
DESCRIPTION:6th IEEE VR Internal Workshop on Animation in Virtual and Aug
 mented Environments
URL:http://www.wikicfp.com/cfp/servlet/event.showcfp?eventid=170729&copyo
 wnerid=106130
UID:cfp954315-N@wikicfp.com
END:VEVENT
BEGIN:VEVENT
DTSTAMP:20260421T025926Z
DTSTART;VALUE=DATE:20230130
SUMMARY:ANIVAE 2023 Final Version Due
DESCRIPTION:6th IEEE VR Internal Workshop on Animation in Virtual and Aug
 mented Environments
URL:http://www.wikicfp.com/cfp/servlet/event.showcfp?eventid=170729&copyo
 wnerid=106130
UID:cfp954315-N@wikicfp.com
END:VEVENT
BEGIN:VEVENT
DTSTAMP:20260421T025926Z
DTSTART;VALUE=DATE:20220822
DTEND;VALUE=DATE:20220825
SUMMARY:DLRT 2022
DESCRIPTION:International Workshop on Distributed Ledgers and Related Tec
 hnologies
URL:http://www.wikicfp.com/cfp/servlet/event.showcfp?eventid=154913&copyo
 wnerid=106130
UID:cfp920632-E@wikicfp.com
END:VEVENT
BEGIN:VEVENT
DTSTAMP:20260421T025926Z
DTSTART;VALUE=DATE:20220307
SUMMARY:DLRT 2022 Deadline
DESCRIPTION:International Workshop on Distributed Ledgers and Related Tec
 hnologies
URL:http://www.wikicfp.com/cfp/servlet/event.showcfp?eventid=154913&copyo
 wnerid=106130
UID:cfp920632-D@wikicfp.com
END:VEVENT
BEGIN:VEVENT
DTSTAMP:20260421T025926Z
DTSTART;VALUE=DATE:20220510
SUMMARY:DLRT 2022 Notification Due
DESCRIPTION:International Workshop on Distributed Ledgers and Related Tec
 hnologies
URL:http://www.wikicfp.com/cfp/servlet/event.showcfp?eventid=154913&copyo
 wnerid=106130
UID:cfp920632-N@wikicfp.com
END:VEVENT
BEGIN:VEVENT
DTSTAMP:20260421T025926Z
DTSTART;VALUE=DATE:20220601
SUMMARY:DLRT 2022 Final Version Due
DESCRIPTION:International Workshop on Distributed Ledgers and Related Tec
 hnologies
URL:http://www.wikicfp.com/cfp/servlet/event.showcfp?eventid=154913&copyo
 wnerid=106130
UID:cfp920632-N@wikicfp.com
END:VEVENT
BEGIN:VEVENT
DTSTAMP:20260421T025926Z
DTSTART;VALUE=DATE:20221017
DTEND;VALUE=DATE:20221018
SUMMARY:XR-SPro 2022
DESCRIPTION:Workshop on XR Solutions for Smart Production
URL:http://www.wikicfp.com/cfp/servlet/event.showcfp?eventid=164402&copyo
 wnerid=106130
UID:cfp938026-E@wikicfp.com
END:VEVENT
BEGIN:VEVENT
DTSTAMP:20260421T025926Z
DTSTART;VALUE=DATE:20220718
SUMMARY:XR-SPro 2022 Deadline
DESCRIPTION:Workshop on XR Solutions for Smart Production
URL:http://www.wikicfp.com/cfp/servlet/event.showcfp?eventid=164402&copyo
 wnerid=106130
UID:cfp938026-D@wikicfp.com
END:VEVENT
BEGIN:VEVENT
DTSTAMP:20260421T025926Z
DTSTART;VALUE=DATE:20220808
SUMMARY:XR-SPro 2022 Notification Due
DESCRIPTION:Workshop on XR Solutions for Smart Production
URL:http://www.wikicfp.com/cfp/servlet/event.showcfp?eventid=164402&copyo
 wnerid=106130
UID:cfp938026-N@wikicfp.com
END:VEVENT
BEGIN:VEVENT
DTSTAMP:20260421T025926Z
DTSTART;VALUE=DATE:20220829
SUMMARY:XR-SPro 2022 Final Version Due
DESCRIPTION:Workshop on XR Solutions for Smart Production
URL:http://www.wikicfp.com/cfp/servlet/event.showcfp?eventid=164402&copyo
 wnerid=106130
UID:cfp938026-N@wikicfp.com
END:VEVENT
BEGIN:VEVENT
DTSTAMP:20260421T025926Z
DTSTART;VALUE=DATE:20231016
DTEND;VALUE=DATE:20231017
SUMMARY:XR-SPro 2023
DESCRIPTION:Workshop on XR Solutions for Smart Production (XR-SPro-2023)
URL:http://www.wikicfp.com/cfp/servlet/event.showcfp?eventid=175159&copyo
 wnerid=106130
UID:cfp970624-E@wikicfp.com
END:VEVENT
BEGIN:VEVENT
DTSTAMP:20260421T025926Z
DTSTART;VALUE=DATE:20230717
SUMMARY:XR-SPro 2023 Deadline
DESCRIPTION:Workshop on XR Solutions for Smart Production (XR-SPro-2023)
URL:http://www.wikicfp.com/cfp/servlet/event.showcfp?eventid=175159&copyo
 wnerid=106130
UID:cfp970624-D@wikicfp.com
END:VEVENT
BEGIN:VEVENT
DTSTAMP:20260421T025926Z
DTSTART;VALUE=DATE:20230807
SUMMARY:XR-SPro 2023 Notification Due
DESCRIPTION:Workshop on XR Solutions for Smart Production (XR-SPro-2023)
URL:http://www.wikicfp.com/cfp/servlet/event.showcfp?eventid=175159&copyo
 wnerid=106130
UID:cfp970624-N@wikicfp.com
END:VEVENT
BEGIN:VEVENT
DTSTAMP:20260421T025926Z
DTSTART;VALUE=DATE:20230818
SUMMARY:XR-SPro 2023 Final Version Due
DESCRIPTION:Workshop on XR Solutions for Smart Production (XR-SPro-2023)
URL:http://www.wikicfp.com/cfp/servlet/event.showcfp?eventid=175159&copyo
 wnerid=106130
UID:cfp970624-N@wikicfp.com
END:VEVENT
BEGIN:VEVENT
DTSTAMP:20260421T025926Z
DTSTART;VALUE=DATE:20240317
DTEND;VALUE=DATE:20240318
SUMMARY:ANIVAE 2024
DESCRIPTION:7th IEEE VR Internal Workshop on Animation in Virtual and Aug
 mented Environments
URL:http://www.wikicfp.com/cfp/servlet/event.showcfp?eventid=177568&copyo
 wnerid=106130
UID:cfp980104-E@wikicfp.com
END:VEVENT
BEGIN:VEVENT
DTSTAMP:20260421T025926Z
DTSTART;VALUE=DATE:20240105
SUMMARY:ANIVAE 2024 Deadline
DESCRIPTION:7th IEEE VR Internal Workshop on Animation in Virtual and Aug
 mented Environments
URL:http://www.wikicfp.com/cfp/servlet/event.showcfp?eventid=177568&copyo
 wnerid=106130
UID:cfp980104-D@wikicfp.com
END:VEVENT
BEGIN:VEVENT
DTSTAMP:20260421T025926Z
DTSTART;VALUE=DATE:20240119
SUMMARY:ANIVAE 2024 Notification Due
DESCRIPTION:7th IEEE VR Internal Workshop on Animation in Virtual and Aug
 mented Environments
URL:http://www.wikicfp.com/cfp/servlet/event.showcfp?eventid=177568&copyo
 wnerid=106130
UID:cfp980104-N@wikicfp.com
END:VEVENT
BEGIN:VEVENT
DTSTAMP:20260421T025926Z
DTSTART;VALUE=DATE:20240122
SUMMARY:ANIVAE 2024 Final Version Due
DESCRIPTION:7th IEEE VR Internal Workshop on Animation in Virtual and Aug
 mented Environments
URL:http://www.wikicfp.com/cfp/servlet/event.showcfp?eventid=177568&copyo
 wnerid=106130
UID:cfp980104-N@wikicfp.com
END:VEVENT
BEGIN:VEVENT
DTSTAMP:20260421T025926Z
DTSTART;VALUE=DATE:20250309
DTEND;VALUE=DATE:20250310
SUMMARY:ANIVAE 2025
DESCRIPTION:8th IEEE VR Internal Workshop on Animation in Virtual and Aug
 mented Environments
URL:http://www.wikicfp.com/cfp/servlet/event.showcfp?eventid=183441&copyo
 wnerid=106130
UID:cfp1002354-E@wikicfp.com
END:VEVENT
BEGIN:VEVENT
DTSTAMP:20260421T025926Z
DTSTART;VALUE=DATE:20250102
SUMMARY:ANIVAE 2025 Deadline
DESCRIPTION:8th IEEE VR Internal Workshop on Animation in Virtual and Aug
 mented Environments
URL:http://www.wikicfp.com/cfp/servlet/event.showcfp?eventid=183441&copyo
 wnerid=106130
UID:cfp1002354-D@wikicfp.com
END:VEVENT
BEGIN:VEVENT
DTSTAMP:20260421T025926Z
DTSTART;VALUE=DATE:20250107
SUMMARY:ANIVAE 2025 Notification Due
DESCRIPTION:8th IEEE VR Internal Workshop on Animation in Virtual and Aug
 mented Environments
URL:http://www.wikicfp.com/cfp/servlet/event.showcfp?eventid=183441&copyo
 wnerid=106130
UID:cfp1002354-N@wikicfp.com
END:VEVENT
BEGIN:VEVENT
DTSTAMP:20260421T025926Z
DTSTART;VALUE=DATE:20250114
SUMMARY:ANIVAE 2025 Final Version Due
DESCRIPTION:8th IEEE VR Internal Workshop on Animation in Virtual and Aug
 mented Environments
URL:http://www.wikicfp.com/cfp/servlet/event.showcfp?eventid=183441&copyo
 wnerid=106130
UID:cfp1002354-N@wikicfp.com
END:VEVENT
END:VCALENDAR
