BEGIN:VCALENDAR
PRODID:-//WikiCFP//mangeshbendre 1.0//EN
VERSION:2.0
CALSCALE:GREGORIAN
BEGIN:VEVENT
DTSTAMP:20260421T234346Z
DTSTART;VALUE=DATE:20180603
DTEND;VALUE=DATE:20180609
SUMMARY:SIGMOD/PODS 2018
DESCRIPTION:2018 International Conference on Management of Data
URL:http://www.wikicfp.com/cfp/servlet/event.showcfp?eventid=63137&copyow
 nerid=106029
UID:cfp699882-E@wikicfp.com
END:VEVENT
BEGIN:VEVENT
DTSTAMP:20260421T234346Z
DTSTART;VALUE=DATE:20171026
SUMMARY:SIGMOD/PODS 2018 Abstract Due
DESCRIPTION:2018 International Conference on Management of Data
URL:http://www.wikicfp.com/cfp/servlet/event.showcfp?eventid=63137&copyow
 nerid=106029
UID:cfp699882-A@wikicfp.com
END:VEVENT
BEGIN:VEVENT
DTSTAMP:20260421T234346Z
DTSTART;VALUE=DATE:20171102
SUMMARY:SIGMOD/PODS 2018 Deadline
DESCRIPTION:2018 International Conference on Management of Data
URL:http://www.wikicfp.com/cfp/servlet/event.showcfp?eventid=63137&copyow
 nerid=106029
UID:cfp699882-D@wikicfp.com
END:VEVENT
END:VCALENDAR
