BEGIN:VCALENDAR
PRODID:-//WikiCFP//hafijrahman05 1.0//EN
VERSION:2.0
CALSCALE:GREGORIAN
BEGIN:VEVENT
DTSTAMP:20260421T052833Z
DTSTART;VALUE=DATE:20171123
DTEND;VALUE=DATE:20171126
SUMMARY:ICFAS 2017
DESCRIPTION:2017 5th International Conference on Food and Agricultural Sc
 iences (ICFAS 2017)
URL:http://www.wikicfp.com/cfp/servlet/event.showcfp?eventid=63699&copyow
 nerid=105581
UID:cfp697565-E@wikicfp.com
END:VEVENT
BEGIN:VEVENT
DTSTAMP:20260421T052833Z
DTSTART;VALUE=DATE:20170930
SUMMARY:ICFAS 2017 Deadline
DESCRIPTION:2017 5th International Conference on Food and Agricultural Sc
 iences (ICFAS 2017)
URL:http://www.wikicfp.com/cfp/servlet/event.showcfp?eventid=63699&copyow
 nerid=105581
UID:cfp697565-D@wikicfp.com
END:VEVENT
BEGIN:VEVENT
DTSTAMP:20260421T052833Z
DTSTART;VALUE=DATE:20171122
DTEND;VALUE=DATE:20171124
SUMMARY:ICCR 2017
DESCRIPTION:International Conference on Cloud and Robotics
URL:http://www.wikicfp.com/cfp/servlet/event.showcfp?eventid=67600&copyow
 nerid=105581
UID:cfp697577-E@wikicfp.com
END:VEVENT
BEGIN:VEVENT
DTSTAMP:20260421T052833Z
DTSTART;VALUE=DATE:20171030
SUMMARY:ICCR 2017 Deadline
DESCRIPTION:International Conference on Cloud and Robotics
URL:http://www.wikicfp.com/cfp/servlet/event.showcfp?eventid=67600&copyow
 nerid=105581
UID:cfp697577-D@wikicfp.com
END:VEVENT
BEGIN:VEVENT
DTSTAMP:20260421T052833Z
DTSTART;VALUE=DATE:20171107
SUMMARY:ICCR 2017 Notification Due
DESCRIPTION:International Conference on Cloud and Robotics
URL:http://www.wikicfp.com/cfp/servlet/event.showcfp?eventid=67600&copyow
 nerid=105581
UID:cfp697577-N@wikicfp.com
END:VEVENT
BEGIN:VEVENT
DTSTAMP:20260421T052833Z
DTSTART;VALUE=DATE:20171114
SUMMARY:ICCR 2017 Final Version Due
DESCRIPTION:International Conference on Cloud and Robotics
URL:http://www.wikicfp.com/cfp/servlet/event.showcfp?eventid=67600&copyow
 nerid=105581
UID:cfp697577-N@wikicfp.com
END:VEVENT
BEGIN:VEVENT
DTSTAMP:20260421T052833Z
DTSTART;VALUE=DATE:20171227
DTEND;VALUE=DATE:20171230
SUMMARY:ICABT 2017
DESCRIPTION:2017 5th International Conference on Agriculture and Biotechn
 ology (ICABT 2017)
URL:http://www.wikicfp.com/cfp/servlet/event.showcfp?eventid=64294&copyow
 nerid=105581
UID:cfp697566-E@wikicfp.com
END:VEVENT
BEGIN:VEVENT
DTSTAMP:20260421T052833Z
DTSTART;VALUE=DATE:20171101
SUMMARY:ICABT 2017 Deadline
DESCRIPTION:2017 5th International Conference on Agriculture and Biotechn
 ology (ICABT 2017)
URL:http://www.wikicfp.com/cfp/servlet/event.showcfp?eventid=64294&copyow
 nerid=105581
UID:cfp697566-D@wikicfp.com
END:VEVENT
BEGIN:VEVENT
DTSTAMP:20260421T052833Z
DTSTART;VALUE=DATE:20171227
DTEND;VALUE=DATE:20171230
SUMMARY:ICESB 2017
DESCRIPTION:2017 7th International Conference on Environment Science and 
 Biotechnology (ICESB 2017)
URL:http://www.wikicfp.com/cfp/servlet/event.showcfp?eventid=64295&copyow
 nerid=105581
UID:cfp697567-E@wikicfp.com
END:VEVENT
BEGIN:VEVENT
DTSTAMP:20260421T052833Z
DTSTART;VALUE=DATE:20171101
SUMMARY:ICESB 2017 Deadline
DESCRIPTION:2017 7th International Conference on Environment Science and 
 Biotechnology (ICESB 2017)
URL:http://www.wikicfp.com/cfp/servlet/event.showcfp?eventid=64295&copyow
 nerid=105581
UID:cfp697567-D@wikicfp.com
END:VEVENT
BEGIN:VEVENT
DTSTAMP:20260421T052833Z
DTSTART;VALUE=DATE:20171208
DTEND;VALUE=DATE:20171211
SUMMARY:WPCE 2017
DESCRIPTION:2017 2nd International Conference on Water Pollution Control 
 Engineering
URL:http://www.wikicfp.com/cfp/servlet/event.showcfp?eventid=61906&copyow
 nerid=105581
UID:cfp697564-E@wikicfp.com
END:VEVENT
BEGIN:VEVENT
DTSTAMP:20260421T052833Z
DTSTART;VALUE=DATE:20171110
SUMMARY:WPCE 2017 Deadline
DESCRIPTION:2017 2nd International Conference on Water Pollution Control 
 Engineering
URL:http://www.wikicfp.com/cfp/servlet/event.showcfp?eventid=61906&copyow
 nerid=105581
UID:cfp697564-D@wikicfp.com
END:VEVENT
BEGIN:VEVENT
DTSTAMP:20260421T052833Z
DTSTART;VALUE=DATE:20171220
DTEND;VALUE=DATE:20171222
SUMMARY:ALPHA 2017
DESCRIPTION:International Conference on Advancing the Life Sciences and P
 ublic Health Awareness 
URL:http://www.wikicfp.com/cfp/servlet/event.showcfp?eventid=68675&copyow
 nerid=105581
UID:cfp697583-E@wikicfp.com
END:VEVENT
BEGIN:VEVENT
DTSTAMP:20260421T052833Z
DTSTART;VALUE=DATE:20171204
SUMMARY:ALPHA 2017 Abstract Due
DESCRIPTION:International Conference on Advancing the Life Sciences and P
 ublic Health Awareness 
URL:http://www.wikicfp.com/cfp/servlet/event.showcfp?eventid=68675&copyow
 nerid=105581
UID:cfp697583-A@wikicfp.com
END:VEVENT
BEGIN:VEVENT
DTSTAMP:20260421T052833Z
DTSTART;VALUE=DATE:20171117
SUMMARY:ALPHA 2017 Deadline
DESCRIPTION:International Conference on Advancing the Life Sciences and P
 ublic Health Awareness 
URL:http://www.wikicfp.com/cfp/servlet/event.showcfp?eventid=68675&copyow
 nerid=105581
UID:cfp697583-D@wikicfp.com
END:VEVENT
BEGIN:VEVENT
DTSTAMP:20260421T052833Z
DTSTART;VALUE=DATE:20180118
DTEND;VALUE=DATE:20180121
SUMMARY:ICFAT 2018
DESCRIPTION:2018 2nd International Conference on Food and Agriculture Tec
 hnologies (ICFAT 2018)
URL:http://www.wikicfp.com/cfp/servlet/event.showcfp?eventid=65206&copyow
 nerid=105581
UID:cfp697570-E@wikicfp.com
END:VEVENT
BEGIN:VEVENT
DTSTAMP:20260421T052833Z
DTSTART;VALUE=DATE:20171130
SUMMARY:ICFAT 2018 Deadline
DESCRIPTION:2018 2nd International Conference on Food and Agriculture Tec
 hnologies (ICFAT 2018)
URL:http://www.wikicfp.com/cfp/servlet/event.showcfp?eventid=65206&copyow
 nerid=105581
UID:cfp697570-D@wikicfp.com
END:VEVENT
BEGIN:VEVENT
DTSTAMP:20260421T052833Z
DTSTART;VALUE=DATE:20180124
DTEND;VALUE=DATE:20180127
SUMMARY:ICAFB 2018
DESCRIPTION:2018 International Conference on Agriculture\, Food and Biote
 chnology (ICAFB 2018)
URL:http://www.wikicfp.com/cfp/servlet/event.showcfp?eventid=65197&copyow
 nerid=105581
UID:cfp697568-E@wikicfp.com
END:VEVENT
BEGIN:VEVENT
DTSTAMP:20260421T052833Z
DTSTART;VALUE=DATE:20171205
SUMMARY:ICAFB 2018 Deadline
DESCRIPTION:2018 International Conference on Agriculture\, Food and Biote
 chnology (ICAFB 2018)
URL:http://www.wikicfp.com/cfp/servlet/event.showcfp?eventid=65197&copyow
 nerid=105581
UID:cfp697568-D@wikicfp.com
END:VEVENT
BEGIN:VEVENT
DTSTAMP:20260421T052833Z
DTSTART;VALUE=DATE:20180124
DTEND;VALUE=DATE:20180127
SUMMARY:ICSGA 2018
DESCRIPTION:2018 International Conference on Sustainable Global Aquacultu
 re (ICSGA 2018)
URL:http://www.wikicfp.com/cfp/servlet/event.showcfp?eventid=65198&copyow
 nerid=105581
UID:cfp697569-E@wikicfp.com
END:VEVENT
BEGIN:VEVENT
DTSTAMP:20260421T052833Z
DTSTART;VALUE=DATE:20171205
SUMMARY:ICSGA 2018 Deadline
DESCRIPTION:2018 International Conference on Sustainable Global Aquacultu
 re (ICSGA 2018)
URL:http://www.wikicfp.com/cfp/servlet/event.showcfp?eventid=65198&copyow
 nerid=105581
UID:cfp697569-D@wikicfp.com
END:VEVENT
BEGIN:VEVENT
DTSTAMP:20260421T052833Z
DTSTART;VALUE=DATE:20180207
DTEND;VALUE=DATE:20180210
SUMMARY:ICESD 2018
DESCRIPTION:2018 9th International Conference on Environmental Science an
 d Development - ICESD 2018 
URL:http://www.wikicfp.com/cfp/servlet/event.showcfp?eventid=65525&copyow
 nerid=105581
UID:cfp697571-E@wikicfp.com
END:VEVENT
BEGIN:VEVENT
DTSTAMP:20260421T052833Z
DTSTART;VALUE=DATE:20171205
SUMMARY:ICESD 2018 Deadline
DESCRIPTION:2018 9th International Conference on Environmental Science an
 d Development - ICESD 2018 
URL:http://www.wikicfp.com/cfp/servlet/event.showcfp?eventid=65525&copyow
 nerid=105581
UID:cfp697571-D@wikicfp.com
END:VEVENT
BEGIN:VEVENT
DTSTAMP:20260421T052833Z
DTSTART;VALUE=DATE:20180225
DTEND;VALUE=DATE:20180228
SUMMARY:ICFES - Ei 2018
DESCRIPTION:2018 4th International Conference on Food and Environmental S
 ciences (ICFES 2018)--EI Compendex and ISI
URL:http://www.wikicfp.com/cfp/servlet/event.showcfp?eventid=65528&copyow
 nerid=105581
UID:cfp697572-E@wikicfp.com
END:VEVENT
BEGIN:VEVENT
DTSTAMP:20260421T052833Z
DTSTART;VALUE=DATE:20171220
SUMMARY:ICFES - Ei 2018 Deadline
DESCRIPTION:2018 4th International Conference on Food and Environmental S
 ciences (ICFES 2018)--EI Compendex and ISI
URL:http://www.wikicfp.com/cfp/servlet/event.showcfp?eventid=65528&copyow
 nerid=105581
UID:cfp697572-D@wikicfp.com
END:VEVENT
BEGIN:VEVENT
DTSTAMP:20260421T052833Z
DTSTART;VALUE=DATE:20180328
DTEND;VALUE=DATE:20180331
SUMMARY:ICBAE 2018
DESCRIPTION:2018 4th International Conference on Biotechnology and Agricu
 lture Engineering (ICBAE 2018)
URL:http://www.wikicfp.com/cfp/servlet/event.showcfp?eventid=66483&copyow
 nerid=105581
UID:cfp697573-E@wikicfp.com
END:VEVENT
BEGIN:VEVENT
DTSTAMP:20260421T052833Z
DTSTART;VALUE=DATE:20180210
SUMMARY:ICBAE 2018 Deadline
DESCRIPTION:2018 4th International Conference on Biotechnology and Agricu
 lture Engineering (ICBAE 2018)
URL:http://www.wikicfp.com/cfp/servlet/event.showcfp?eventid=66483&copyow
 nerid=105581
UID:cfp697573-D@wikicfp.com
END:VEVENT
BEGIN:VEVENT
DTSTAMP:20260421T052833Z
DTSTART;VALUE=DATE:20180328
DTEND;VALUE=DATE:20180331
SUMMARY:ICFEB 2018
DESCRIPTION:2018 9th International Conference on Food Engineering and Bio
 technology (ICFEB 2018)
URL:http://www.wikicfp.com/cfp/servlet/event.showcfp?eventid=66484&copyow
 nerid=105581
UID:cfp697574-E@wikicfp.com
END:VEVENT
BEGIN:VEVENT
DTSTAMP:20260421T052833Z
DTSTART;VALUE=DATE:20180210
SUMMARY:ICFEB 2018 Deadline
DESCRIPTION:2018 9th International Conference on Food Engineering and Bio
 technology (ICFEB 2018)
URL:http://www.wikicfp.com/cfp/servlet/event.showcfp?eventid=66484&copyow
 nerid=105581
UID:cfp697574-D@wikicfp.com
END:VEVENT
BEGIN:VEVENT
DTSTAMP:20260421T052833Z
DTSTART;VALUE=DATE:20180409
DTEND;VALUE=DATE:20180412
SUMMARY:ICFSN 2018
DESCRIPTION:2018 5th International Conference on Food Security and Nutrit
 ion (ICFSN 2018)
URL:http://www.wikicfp.com/cfp/servlet/event.showcfp?eventid=66492&copyow
 nerid=105581
UID:cfp697575-E@wikicfp.com
END:VEVENT
BEGIN:VEVENT
DTSTAMP:20260421T052833Z
DTSTART;VALUE=DATE:20180210
SUMMARY:ICFSN 2018 Deadline
DESCRIPTION:2018 5th International Conference on Food Security and Nutrit
 ion (ICFSN 2018)
URL:http://www.wikicfp.com/cfp/servlet/event.showcfp?eventid=66492&copyow
 nerid=105581
UID:cfp697575-D@wikicfp.com
END:VEVENT
BEGIN:VEVENT
DTSTAMP:20260421T052833Z
DTSTART;VALUE=DATE:20180409
DTEND;VALUE=DATE:20180412
SUMMARY:ICBFS 2018
DESCRIPTION:2018 9th International Conference on Biotechnology and Food S
 cience - ICBFS 2018
URL:http://www.wikicfp.com/cfp/servlet/event.showcfp?eventid=66493&copyow
 nerid=105581
UID:cfp697576-E@wikicfp.com
END:VEVENT
BEGIN:VEVENT
DTSTAMP:20260421T052833Z
DTSTART;VALUE=DATE:20180210
SUMMARY:ICBFS 2018 Deadline
DESCRIPTION:2018 9th International Conference on Biotechnology and Food S
 cience - ICBFS 2018
URL:http://www.wikicfp.com/cfp/servlet/event.showcfp?eventid=66493&copyow
 nerid=105581
UID:cfp697576-D@wikicfp.com
END:VEVENT
BEGIN:VEVENT
DTSTAMP:20260421T052833Z
DTSTART;VALUE=DATE:20180404
DTEND;VALUE=DATE:20180407
SUMMARY:ICCFE 2018
DESCRIPTION:2018 5th International Conference on Chemical and Food Engine
 ering (ICCFE 2018)
URL:http://www.wikicfp.com/cfp/servlet/event.showcfp?eventid=68567&copyow
 nerid=105581
UID:cfp697582-E@wikicfp.com
END:VEVENT
BEGIN:VEVENT
DTSTAMP:20260421T052833Z
DTSTART;VALUE=DATE:20180301
SUMMARY:ICCFE 2018 Deadline
DESCRIPTION:2018 5th International Conference on Chemical and Food Engine
 ering (ICCFE 2018)
URL:http://www.wikicfp.com/cfp/servlet/event.showcfp?eventid=68567&copyow
 nerid=105581
UID:cfp697582-D@wikicfp.com
END:VEVENT
BEGIN:VEVENT
DTSTAMP:20260421T052833Z
DTSTART;VALUE=DATE:20180513
DTEND;VALUE=DATE:20180516
SUMMARY:ICFAE 2018
DESCRIPTION:2018 4th International Conference on Food and Agricultural En
 gineering (ICFAE 2018)
URL:http://www.wikicfp.com/cfp/servlet/event.showcfp?eventid=68492&copyow
 nerid=105581
UID:cfp697579-E@wikicfp.com
END:VEVENT
BEGIN:VEVENT
DTSTAMP:20260421T052833Z
DTSTART;VALUE=DATE:20180320
SUMMARY:ICFAE 2018 Deadline
DESCRIPTION:2018 4th International Conference on Food and Agricultural En
 gineering (ICFAE 2018)
URL:http://www.wikicfp.com/cfp/servlet/event.showcfp?eventid=68492&copyow
 nerid=105581
UID:cfp697579-D@wikicfp.com
END:VEVENT
BEGIN:VEVENT
DTSTAMP:20260421T052833Z
DTSTART;VALUE=DATE:20180513
DTEND;VALUE=DATE:20180516
SUMMARY:ICNFS 2018
DESCRIPTION:2018 7th International Conference on Nutrition and Food Scien
 ces (ICNFS 2018)
URL:http://www.wikicfp.com/cfp/servlet/event.showcfp?eventid=68493&copyow
 nerid=105581
UID:cfp697580-E@wikicfp.com
END:VEVENT
BEGIN:VEVENT
DTSTAMP:20260421T052833Z
DTSTART;VALUE=DATE:20180320
SUMMARY:ICNFS 2018 Deadline
DESCRIPTION:2018 7th International Conference on Nutrition and Food Scien
 ces (ICNFS 2018)
URL:http://www.wikicfp.com/cfp/servlet/event.showcfp?eventid=68493&copyow
 nerid=105581
UID:cfp697580-D@wikicfp.com
END:VEVENT
BEGIN:VEVENT
DTSTAMP:20260421T052833Z
DTSTART;VALUE=DATE:20180528
DTEND;VALUE=DATE:20180531
SUMMARY:ICAER--EI Compendex\,Scopus 2018
DESCRIPTION:2018 4th International Conference on Advances in Environment 
 Research (ICAER 2018)--EI Compendex\,Scopus
URL:http://www.wikicfp.com/cfp/servlet/event.showcfp?eventid=68488&copyow
 nerid=105581
UID:cfp697578-E@wikicfp.com
END:VEVENT
BEGIN:VEVENT
DTSTAMP:20260421T052833Z
DTSTART;VALUE=DATE:20180405
SUMMARY:ICAER--EI Compendex\,Scopus 2018 Deadline
DESCRIPTION:2018 4th International Conference on Advances in Environment 
 Research (ICAER 2018)--EI Compendex\,Scopus
URL:http://www.wikicfp.com/cfp/servlet/event.showcfp?eventid=68488&copyow
 nerid=105581
UID:cfp697578-D@wikicfp.com
END:VEVENT
BEGIN:VEVENT
DTSTAMP:20260421T052833Z
DTSTART;VALUE=DATE:20180620
DTEND;VALUE=DATE:20180623
SUMMARY:ICEST--EI Compendex\, Scopus 2018
DESCRIPTION:2018 9th International Conference on Environmental Science an
 d Technology (ICEST 2018)--EI Compendex\, Scopus
URL:http://www.wikicfp.com/cfp/servlet/event.showcfp?eventid=68498&copyow
 nerid=105581
UID:cfp697581-E@wikicfp.com
END:VEVENT
BEGIN:VEVENT
DTSTAMP:20260421T052833Z
DTSTART;VALUE=DATE:20180505
SUMMARY:ICEST--EI Compendex\, Scopus 2018 Deadline
DESCRIPTION:2018 9th International Conference on Environmental Science an
 d Technology (ICEST 2018)--EI Compendex\, Scopus
URL:http://www.wikicfp.com/cfp/servlet/event.showcfp?eventid=68498&copyow
 nerid=105581
UID:cfp697581-D@wikicfp.com
END:VEVENT
END:VCALENDAR
