BEGIN:VCALENDAR
PRODID:-//WikiCFP//sunxyq 1.0//EN
VERSION:2.0
CALSCALE:GREGORIAN
BEGIN:VEVENT
DTSTAMP:20260421T192736Z
DTSTART;VALUE=DATE:20100718
DTEND;VALUE=DATE:20100724
SUMMARY:SIGIR 2010
DESCRIPTION:The 33rd International ACM SIGIR Conference on Research and D
 evelopment in Information Retrieval
URL:http://www.wikicfp.com/cfp/servlet/event.showcfp?eventid=6254&copyown
 erid=10546
UID:cfp78319-E@wikicfp.com
END:VEVENT
BEGIN:VEVENT
DTSTAMP:20260421T192736Z
DTSTART;VALUE=DATE:20100115
SUMMARY:SIGIR 2010 Abstract Due
DESCRIPTION:The 33rd International ACM SIGIR Conference on Research and D
 evelopment in Information Retrieval
URL:http://www.wikicfp.com/cfp/servlet/event.showcfp?eventid=6254&copyown
 erid=10546
UID:cfp78319-A@wikicfp.com
END:VEVENT
BEGIN:VEVENT
DTSTAMP:20260421T192736Z
DTSTART;VALUE=DATE:20100122
SUMMARY:SIGIR 2010 Deadline
DESCRIPTION:The 33rd International ACM SIGIR Conference on Research and D
 evelopment in Information Retrieval
URL:http://www.wikicfp.com/cfp/servlet/event.showcfp?eventid=6254&copyown
 erid=10546
UID:cfp78319-D@wikicfp.com
END:VEVENT
BEGIN:VEVENT
DTSTAMP:20260421T192736Z
DTSTART;VALUE=DATE:20100324
SUMMARY:SIGIR 2010 Notification Due
DESCRIPTION:The 33rd International ACM SIGIR Conference on Research and D
 evelopment in Information Retrieval
URL:http://www.wikicfp.com/cfp/servlet/event.showcfp?eventid=6254&copyown
 erid=10546
UID:cfp78319-N@wikicfp.com
END:VEVENT
BEGIN:VEVENT
DTSTAMP:20260421T192736Z
DTSTART;VALUE=DATE:20101025
DTEND;VALUE=DATE:20101030
SUMMARY:CIKM 2010
DESCRIPTION:International Conference on Information and Knowledge Managem
 ent
URL:http://www.wikicfp.com/cfp/servlet/event.showcfp?eventid=5822&copyown
 erid=10546
UID:cfp78321-E@wikicfp.com
END:VEVENT
BEGIN:VEVENT
DTSTAMP:20260421T192736Z
DTSTART;VALUE=DATE:20100527
SUMMARY:CIKM 2010 Abstract Due
DESCRIPTION:International Conference on Information and Knowledge Managem
 ent
URL:http://www.wikicfp.com/cfp/servlet/event.showcfp?eventid=5822&copyown
 erid=10546
UID:cfp78321-A@wikicfp.com
END:VEVENT
BEGIN:VEVENT
DTSTAMP:20260421T192736Z
DTSTART;VALUE=DATE:20100603
SUMMARY:CIKM 2010 Deadline
DESCRIPTION:International Conference on Information and Knowledge Managem
 ent
URL:http://www.wikicfp.com/cfp/servlet/event.showcfp?eventid=5822&copyown
 erid=10546
UID:cfp78321-D@wikicfp.com
END:VEVENT
BEGIN:VEVENT
DTSTAMP:20260421T192736Z
DTSTART;VALUE=DATE:20100715
SUMMARY:CIKM 2010 Notification Due
DESCRIPTION:International Conference on Information and Knowledge Managem
 ent
URL:http://www.wikicfp.com/cfp/servlet/event.showcfp?eventid=5822&copyown
 erid=10546
UID:cfp78321-N@wikicfp.com
END:VEVENT
BEGIN:VEVENT
DTSTAMP:20260421T192736Z
DTSTART;VALUE=DATE:20110411
DTEND;VALUE=DATE:20110417
SUMMARY:ICDE 2011
DESCRIPTION:IEEE International Conference on Data Engineering
URL:http://www.wikicfp.com/cfp/servlet/event.showcfp?eventid=8847&copyown
 erid=10546
UID:cfp78320-E@wikicfp.com
END:VEVENT
BEGIN:VEVENT
DTSTAMP:20260421T192736Z
DTSTART;VALUE=DATE:20100716
SUMMARY:ICDE 2011 Abstract Due
DESCRIPTION:IEEE International Conference on Data Engineering
URL:http://www.wikicfp.com/cfp/servlet/event.showcfp?eventid=8847&copyown
 erid=10546
UID:cfp78320-A@wikicfp.com
END:VEVENT
BEGIN:VEVENT
DTSTAMP:20260421T192736Z
DTSTART;VALUE=DATE:20100723
SUMMARY:ICDE 2011 Deadline
DESCRIPTION:IEEE International Conference on Data Engineering
URL:http://www.wikicfp.com/cfp/servlet/event.showcfp?eventid=8847&copyown
 erid=10546
UID:cfp78320-D@wikicfp.com
END:VEVENT
BEGIN:VEVENT
DTSTAMP:20260421T192736Z
DTSTART;VALUE=DATE:20101030
SUMMARY:ICDE 2011 Notification Due
DESCRIPTION:IEEE International Conference on Data Engineering
URL:http://www.wikicfp.com/cfp/servlet/event.showcfp?eventid=8847&copyown
 erid=10546
UID:cfp78320-N@wikicfp.com
END:VEVENT
BEGIN:VEVENT
DTSTAMP:20260421T192736Z
DTSTART;VALUE=DATE:20101130
SUMMARY:ICDE 2011 Final Version Due
DESCRIPTION:IEEE International Conference on Data Engineering
URL:http://www.wikicfp.com/cfp/servlet/event.showcfp?eventid=8847&copyown
 erid=10546
UID:cfp78320-N@wikicfp.com
END:VEVENT
END:VCALENDAR
