BEGIN:VCALENDAR
PRODID:-//WikiCFP//ielkassas 1.0//EN
VERSION:2.0
CALSCALE:GREGORIAN
BEGIN:VEVENT
DTSTAMP:20260420T053706Z
DTSTART;VALUE=DATE:20180112
DTEND;VALUE=DATE:20180115
SUMMARY:MATEC - EECR - Ei 2018
DESCRIPTION:MATEC--2018 International Conference On Electrical Engineerin
 g\, Control And Robotics (EECR 2018)--Ei Compendex & Scopus
URL:http://www.wikicfp.com/cfp/servlet/event.showcfp?eventid=65242&copyow
 nerid=105449
UID:cfp696789-E@wikicfp.com
END:VEVENT
BEGIN:VEVENT
DTSTAMP:20260420T053706Z
DTSTART;VALUE=DATE:20171120
SUMMARY:MATEC - EECR - Ei 2018 Deadline
DESCRIPTION:MATEC--2018 International Conference On Electrical Engineerin
 g\, Control And Robotics (EECR 2018)--Ei Compendex & Scopus
URL:http://www.wikicfp.com/cfp/servlet/event.showcfp?eventid=65242&copyow
 nerid=105449
UID:cfp696789-D@wikicfp.com
END:VEVENT
BEGIN:VEVENT
DTSTAMP:20260420T053706Z
DTSTART;VALUE=DATE:20180406
DTEND;VALUE=DATE:20180409
SUMMARY:ICPEE--Ei Compendex and Scopus 2018
DESCRIPTION:2018 International Conference on Power and Electrical Enginee
 ring (ICPEE 2018)--Ei Compendex and Scopus
URL:http://www.wikicfp.com/cfp/servlet/event.showcfp?eventid=68553&copyow
 nerid=105449
UID:cfp696788-E@wikicfp.com
END:VEVENT
BEGIN:VEVENT
DTSTAMP:20260420T053706Z
DTSTART;VALUE=DATE:20180130
SUMMARY:ICPEE--Ei Compendex and Scopus 2018 Deadline
DESCRIPTION:2018 International Conference on Power and Electrical Enginee
 ring (ICPEE 2018)--Ei Compendex and Scopus
URL:http://www.wikicfp.com/cfp/servlet/event.showcfp?eventid=68553&copyow
 nerid=105449
UID:cfp696788-D@wikicfp.com
END:VEVENT
BEGIN:VEVENT
DTSTAMP:20260420T053706Z
DTSTART;VALUE=DATE:20180407
DTEND;VALUE=DATE:20180410
SUMMARY:ICPEA--Ei\, Scopus and CPCI 2018
DESCRIPTION:2018 International Conference on Power and Energy Application
 s (ICPEA 2018)--Ei Compendex\, Scopus and CPCI
URL:http://www.wikicfp.com/cfp/servlet/event.showcfp?eventid=67843&copyow
 nerid=105449
UID:cfp696792-E@wikicfp.com
END:VEVENT
BEGIN:VEVENT
DTSTAMP:20260420T053706Z
DTSTART;VALUE=DATE:20180301
SUMMARY:ICPEA--Ei\, Scopus and CPCI 2018 Deadline
DESCRIPTION:2018 International Conference on Power and Energy Application
 s (ICPEA 2018)--Ei Compendex\, Scopus and CPCI
URL:http://www.wikicfp.com/cfp/servlet/event.showcfp?eventid=67843&copyow
 nerid=105449
UID:cfp696792-D@wikicfp.com
END:VEVENT
BEGIN:VEVENT
DTSTAMP:20260420T053706Z
DTSTART;VALUE=DATE:20180503
DTEND;VALUE=DATE:20180506
SUMMARY:ICEEE--Ei Compendex and Scopus 2018
DESCRIPTION:2018 5th International Conference on Electrical and Electroni
 cs Engineering (ICEEE 2018)--IEEE
URL:http://www.wikicfp.com/cfp/servlet/event.showcfp?eventid=67969&copyow
 nerid=105449
UID:cfp696790-E@wikicfp.com
END:VEVENT
BEGIN:VEVENT
DTSTAMP:20260420T053706Z
DTSTART;VALUE=DATE:20180301
SUMMARY:ICEEE--Ei Compendex and Scopus 2018 Deadline
DESCRIPTION:2018 5th International Conference on Electrical and Electroni
 cs Engineering (ICEEE 2018)--IEEE
URL:http://www.wikicfp.com/cfp/servlet/event.showcfp?eventid=67969&copyow
 nerid=105449
UID:cfp696790-D@wikicfp.com
END:VEVENT
BEGIN:VEVENT
DTSTAMP:20260420T053706Z
DTSTART;VALUE=DATE:20250302
SUMMARY:IJBES 2025 Deadline
DESCRIPTION:International Journal of Biomedical Engineering and Science
URL:http://www.wikicfp.com/cfp/servlet/event.showcfp?eventid=64167&copyow
 nerid=105449
UID:cfp696787-D@wikicfp.com
END:VEVENT
BEGIN:VEVENT
DTSTAMP:20260420T053706Z
DTSTART;VALUE=DATE:20250401
SUMMARY:IJBES 2025 Notification Due
DESCRIPTION:International Journal of Biomedical Engineering and Science
URL:http://www.wikicfp.com/cfp/servlet/event.showcfp?eventid=64167&copyow
 nerid=105449
UID:cfp696787-N@wikicfp.com
END:VEVENT
BEGIN:VEVENT
DTSTAMP:20260420T053706Z
DTSTART;VALUE=DATE:20250408
SUMMARY:IJBES 2025 Final Version Due
DESCRIPTION:International Journal of Biomedical Engineering and Science
URL:http://www.wikicfp.com/cfp/servlet/event.showcfp?eventid=64167&copyow
 nerid=105449
UID:cfp696787-N@wikicfp.com
END:VEVENT
END:VCALENDAR
