BEGIN:VCALENDAR
PRODID:-//WikiCFP//dcrojas 1.0//EN
VERSION:2.0
CALSCALE:GREGORIAN
BEGIN:VEVENT
DTSTAMP:20260425T115713Z
DTSTART;VALUE=DATE:20160511
DTEND;VALUE=DATE:20160514
SUMMARY:IoT  2016
DESCRIPTION:The International Workshop on Internet of Things 
URL:http://www.wikicfp.com/cfp/servlet/event.showcfp?eventid=50530&copyow
 nerid=105348
UID:cfp696272-E@wikicfp.com
END:VEVENT
BEGIN:VEVENT
DTSTAMP:20260425T115713Z
DTSTART;VALUE=DATE:20160201
SUMMARY:IoT  2016 Abstract Due
DESCRIPTION:The International Workshop on Internet of Things 
URL:http://www.wikicfp.com/cfp/servlet/event.showcfp?eventid=50530&copyow
 nerid=105348
UID:cfp696272-A@wikicfp.com
END:VEVENT
BEGIN:VEVENT
DTSTAMP:20260425T115713Z
DTSTART;VALUE=DATE:20160410
SUMMARY:IoT  2016 Deadline
DESCRIPTION:The International Workshop on Internet of Things 
URL:http://www.wikicfp.com/cfp/servlet/event.showcfp?eventid=50530&copyow
 nerid=105348
UID:cfp696272-D@wikicfp.com
END:VEVENT
BEGIN:VEVENT
DTSTAMP:20260425T115713Z
DTSTART;VALUE=DATE:20160325
SUMMARY:IoT  2016 Notification Due
DESCRIPTION:The International Workshop on Internet of Things 
URL:http://www.wikicfp.com/cfp/servlet/event.showcfp?eventid=50530&copyow
 nerid=105348
UID:cfp696272-N@wikicfp.com
END:VEVENT
BEGIN:VEVENT
DTSTAMP:20260425T115713Z
DTSTART;VALUE=DATE:20160410
SUMMARY:IoT  2016 Final Version Due
DESCRIPTION:The International Workshop on Internet of Things 
URL:http://www.wikicfp.com/cfp/servlet/event.showcfp?eventid=50530&copyow
 nerid=105348
UID:cfp696272-N@wikicfp.com
END:VEVENT
BEGIN:VEVENT
DTSTAMP:20260425T115713Z
DTSTART;VALUE=DATE:20160911
DTEND;VALUE=DATE:20160915
SUMMARY:WSN 2016
DESCRIPTION:5th International Conference on Wireless Sensor Networks
URL:http://www.wikicfp.com/cfp/servlet/event.showcfp?eventid=52594&copyow
 nerid=105348
UID:cfp696274-E@wikicfp.com
END:VEVENT
BEGIN:VEVENT
DTSTAMP:20260425T115713Z
DTSTART;VALUE=DATE:20160509
SUMMARY:WSN 2016 Deadline
DESCRIPTION:5th International Conference on Wireless Sensor Networks
URL:http://www.wikicfp.com/cfp/servlet/event.showcfp?eventid=52594&copyow
 nerid=105348
UID:cfp696274-D@wikicfp.com
END:VEVENT
BEGIN:VEVENT
DTSTAMP:20260425T115713Z
DTSTART;VALUE=DATE:20160613
SUMMARY:WSN 2016 Notification Due
DESCRIPTION:5th International Conference on Wireless Sensor Networks
URL:http://www.wikicfp.com/cfp/servlet/event.showcfp?eventid=52594&copyow
 nerid=105348
UID:cfp696274-N@wikicfp.com
END:VEVENT
BEGIN:VEVENT
DTSTAMP:20260425T115713Z
DTSTART;VALUE=DATE:20160704
SUMMARY:WSN 2016 Final Version Due
DESCRIPTION:5th International Conference on Wireless Sensor Networks
URL:http://www.wikicfp.com/cfp/servlet/event.showcfp?eventid=52594&copyow
 nerid=105348
UID:cfp696274-N@wikicfp.com
END:VEVENT
BEGIN:VEVENT
DTSTAMP:20260425T115713Z
DTSTART;VALUE=DATE:20161107
DTEND;VALUE=DATE:20161108
SUMMARY:SenseApp 2016
DESCRIPTION:Eleventh IEEE International Workshop on Practical Issues in B
 uilding Sensor Network Applications
URL:http://www.wikicfp.com/cfp/servlet/event.showcfp?eventid=53259&copyow
 nerid=105348
UID:cfp696275-E@wikicfp.com
END:VEVENT
BEGIN:VEVENT
DTSTAMP:20260425T115713Z
DTSTART;VALUE=DATE:20160606
SUMMARY:SenseApp 2016 Deadline
DESCRIPTION:Eleventh IEEE International Workshop on Practical Issues in B
 uilding Sensor Network Applications
URL:http://www.wikicfp.com/cfp/servlet/event.showcfp?eventid=53259&copyow
 nerid=105348
UID:cfp696275-D@wikicfp.com
END:VEVENT
BEGIN:VEVENT
DTSTAMP:20260425T115713Z
DTSTART;VALUE=DATE:20160725
SUMMARY:SenseApp 2016 Notification Due
DESCRIPTION:Eleventh IEEE International Workshop on Practical Issues in B
 uilding Sensor Network Applications
URL:http://www.wikicfp.com/cfp/servlet/event.showcfp?eventid=53259&copyow
 nerid=105348
UID:cfp696275-N@wikicfp.com
END:VEVENT
BEGIN:VEVENT
DTSTAMP:20260425T115713Z
DTSTART;VALUE=DATE:20160815
SUMMARY:SenseApp 2016 Final Version Due
DESCRIPTION:Eleventh IEEE International Workshop on Practical Issues in B
 uilding Sensor Network Applications
URL:http://www.wikicfp.com/cfp/servlet/event.showcfp?eventid=53259&copyow
 nerid=105348
UID:cfp696275-N@wikicfp.com
END:VEVENT
BEGIN:VEVENT
DTSTAMP:20260425T115713Z
DTSTART;VALUE=DATE:20170516
DTEND;VALUE=DATE:20170520
SUMMARY:IoT  2017
DESCRIPTION:The 3rd International Workshop on Internet of Things 
URL:http://www.wikicfp.com/cfp/servlet/event.showcfp?eventid=57258&copyow
 nerid=105348
UID:cfp696276-E@wikicfp.com
END:VEVENT
BEGIN:VEVENT
DTSTAMP:20260425T115713Z
DTSTART;VALUE=DATE:20161220
SUMMARY:IoT  2017 Abstract Due
DESCRIPTION:The 3rd International Workshop on Internet of Things 
URL:http://www.wikicfp.com/cfp/servlet/event.showcfp?eventid=57258&copyow
 nerid=105348
UID:cfp696276-A@wikicfp.com
END:VEVENT
BEGIN:VEVENT
DTSTAMP:20260425T115713Z
DTSTART;VALUE=DATE:20161231
SUMMARY:IoT  2017 Deadline
DESCRIPTION:The 3rd International Workshop on Internet of Things 
URL:http://www.wikicfp.com/cfp/servlet/event.showcfp?eventid=57258&copyow
 nerid=105348
UID:cfp696276-D@wikicfp.com
END:VEVENT
BEGIN:VEVENT
DTSTAMP:20260425T115713Z
DTSTART;VALUE=DATE:20170215
SUMMARY:IoT  2017 Notification Due
DESCRIPTION:The 3rd International Workshop on Internet of Things 
URL:http://www.wikicfp.com/cfp/servlet/event.showcfp?eventid=57258&copyow
 nerid=105348
UID:cfp696276-N@wikicfp.com
END:VEVENT
BEGIN:VEVENT
DTSTAMP:20260425T115713Z
DTSTART;VALUE=DATE:20170310
SUMMARY:IoT  2017 Final Version Due
DESCRIPTION:The 3rd International Workshop on Internet of Things 
URL:http://www.wikicfp.com/cfp/servlet/event.showcfp?eventid=57258&copyow
 nerid=105348
UID:cfp696276-N@wikicfp.com
END:VEVENT
BEGIN:VEVENT
DTSTAMP:20260425T115713Z
DTSTART;VALUE=DATE:20170124
SUMMARY:RNMDA 2017 Deadline
DESCRIPTION:Special Issue on âResilient Networks : Modeling\, Design\, 
 and Applicationsâ\, Digital Communications and Networks\, Elsevier
URL:http://www.wikicfp.com/cfp/servlet/event.showcfp?eventid=51414&copyow
 nerid=105348
UID:cfp696273-D@wikicfp.com
END:VEVENT
BEGIN:VEVENT
DTSTAMP:20260425T115713Z
DTSTART;VALUE=DATE:20170515
SUMMARY:RNMDA 2017 Notification Due
DESCRIPTION:Special Issue on âResilient Networks : Modeling\, Design\, 
 and Applicationsâ\, Digital Communications and Networks\, Elsevier
URL:http://www.wikicfp.com/cfp/servlet/event.showcfp?eventid=51414&copyow
 nerid=105348
UID:cfp696273-N@wikicfp.com
END:VEVENT
BEGIN:VEVENT
DTSTAMP:20260425T115713Z
DTSTART;VALUE=DATE:20170615
SUMMARY:RNMDA 2017 Final Version Due
DESCRIPTION:Special Issue on âResilient Networks : Modeling\, Design\, 
 and Applicationsâ\, Digital Communications and Networks\, Elsevier
URL:http://www.wikicfp.com/cfp/servlet/event.showcfp?eventid=51414&copyow
 nerid=105348
UID:cfp696273-N@wikicfp.com
END:VEVENT
BEGIN:VEVENT
DTSTAMP:20260425T115713Z
DTSTART;VALUE=DATE:20180411
DTEND;VALUE=DATE:20180414
SUMMARY:IPSN 2018
DESCRIPTION:ACM/IEEE Information Processing in Sensor Networks 
URL:http://www.wikicfp.com/cfp/servlet/event.showcfp?eventid=66429&copyow
 nerid=105348
UID:cfp696271-E@wikicfp.com
END:VEVENT
BEGIN:VEVENT
DTSTAMP:20260425T115713Z
DTSTART;VALUE=DATE:20170929
SUMMARY:IPSN 2018 Abstract Due
DESCRIPTION:ACM/IEEE Information Processing in Sensor Networks 
URL:http://www.wikicfp.com/cfp/servlet/event.showcfp?eventid=66429&copyow
 nerid=105348
UID:cfp696271-A@wikicfp.com
END:VEVENT
BEGIN:VEVENT
DTSTAMP:20260425T115713Z
DTSTART;VALUE=DATE:20171006
SUMMARY:IPSN 2018 Deadline
DESCRIPTION:ACM/IEEE Information Processing in Sensor Networks 
URL:http://www.wikicfp.com/cfp/servlet/event.showcfp?eventid=66429&copyow
 nerid=105348
UID:cfp696271-D@wikicfp.com
END:VEVENT
BEGIN:VEVENT
DTSTAMP:20260425T115713Z
DTSTART;VALUE=DATE:20180115
SUMMARY:IPSN 2018 Notification Due
DESCRIPTION:ACM/IEEE Information Processing in Sensor Networks 
URL:http://www.wikicfp.com/cfp/servlet/event.showcfp?eventid=66429&copyow
 nerid=105348
UID:cfp696271-N@wikicfp.com
END:VEVENT
BEGIN:VEVENT
DTSTAMP:20260425T115713Z
DTSTART;VALUE=DATE:20180228
SUMMARY:IPSN 2018 Final Version Due
DESCRIPTION:ACM/IEEE Information Processing in Sensor Networks 
URL:http://www.wikicfp.com/cfp/servlet/event.showcfp?eventid=66429&copyow
 nerid=105348
UID:cfp696271-N@wikicfp.com
END:VEVENT
BEGIN:VEVENT
DTSTAMP:20260425T115713Z
DTSTART;VALUE=DATE:20180410
DTEND;VALUE=DATE:20180414
SUMMARY:IWSN 2018
DESCRIPTION:Intelligent Wireless Sensor Networks for Monitoring\, Diagnos
 is and Control
URL:http://www.wikicfp.com/cfp/servlet/event.showcfp?eventid=69589&copyow
 nerid=105348
UID:cfp696277-E@wikicfp.com
END:VEVENT
BEGIN:VEVENT
DTSTAMP:20260425T115713Z
DTSTART;VALUE=DATE:20171210
SUMMARY:IWSN 2018 Deadline
DESCRIPTION:Intelligent Wireless Sensor Networks for Monitoring\, Diagnos
 is and Control
URL:http://www.wikicfp.com/cfp/servlet/event.showcfp?eventid=69589&copyow
 nerid=105348
UID:cfp696277-D@wikicfp.com
END:VEVENT
BEGIN:VEVENT
DTSTAMP:20260425T115713Z
DTSTART;VALUE=DATE:20180204
SUMMARY:IWSN 2018 Notification Due
DESCRIPTION:Intelligent Wireless Sensor Networks for Monitoring\, Diagnos
 is and Control
URL:http://www.wikicfp.com/cfp/servlet/event.showcfp?eventid=69589&copyow
 nerid=105348
UID:cfp696277-N@wikicfp.com
END:VEVENT
BEGIN:VEVENT
DTSTAMP:20260425T115713Z
DTSTART;VALUE=DATE:20180222
SUMMARY:IWSN 2018 Final Version Due
DESCRIPTION:Intelligent Wireless Sensor Networks for Monitoring\, Diagnos
 is and Control
URL:http://www.wikicfp.com/cfp/servlet/event.showcfp?eventid=69589&copyow
 nerid=105348
UID:cfp696277-N@wikicfp.com
END:VEVENT
END:VCALENDAR
