BEGIN:VCALENDAR
PRODID:-//WikiCFP//fatma_2013 1.0//EN
VERSION:2.0
CALSCALE:GREGORIAN
BEGIN:VEVENT
DTSTAMP:20260424T215752Z
DTSTART;VALUE=DATE:20171218
DTEND;VALUE=DATE:20171222
SUMMARY:ICON 2017
DESCRIPTION:14th International Conference on Natural Language Processing 
 
URL:http://www.wikicfp.com/cfp/servlet/event.showcfp?eventid=65094&copyow
 nerid=104182
UID:cfp690041-E@wikicfp.com
END:VEVENT
BEGIN:VEVENT
DTSTAMP:20260424T215752Z
DTSTART;VALUE=DATE:20170906
SUMMARY:ICON 2017 Deadline
DESCRIPTION:14th International Conference on Natural Language Processing 
 
URL:http://www.wikicfp.com/cfp/servlet/event.showcfp?eventid=65094&copyow
 nerid=104182
UID:cfp690041-D@wikicfp.com
END:VEVENT
BEGIN:VEVENT
DTSTAMP:20260424T215752Z
DTSTART;VALUE=DATE:20171021
SUMMARY:ICON 2017 Notification Due
DESCRIPTION:14th International Conference on Natural Language Processing 
 
URL:http://www.wikicfp.com/cfp/servlet/event.showcfp?eventid=65094&copyow
 nerid=104182
UID:cfp690041-N@wikicfp.com
END:VEVENT
BEGIN:VEVENT
DTSTAMP:20260424T215752Z
DTSTART;VALUE=DATE:20171115
SUMMARY:ICON 2017 Final Version Due
DESCRIPTION:14th International Conference on Natural Language Processing 
 
URL:http://www.wikicfp.com/cfp/servlet/event.showcfp?eventid=65094&copyow
 nerid=104182
UID:cfp690041-N@wikicfp.com
END:VEVENT
END:VCALENDAR
