BEGIN:VCALENDAR
PRODID:-//WikiCFP//Lachdhaf 1.0//EN
VERSION:2.0
CALSCALE:GREGORIAN
BEGIN:VEVENT
DTSTAMP:20260421T202618Z
DTSTART;VALUE=DATE:20180110
DTEND;VALUE=DATE:20180113
SUMMARY:ICOIN 2018
DESCRIPTION:The 32st International Conference on Information Networking
URL:http://www.wikicfp.com/cfp/servlet/event.showcfp?eventid=66773&copyow
 nerid=103951
UID:cfp688440-E@wikicfp.com
END:VEVENT
BEGIN:VEVENT
DTSTAMP:20260421T202618Z
DTSTART;VALUE=DATE:20171013
SUMMARY:ICOIN 2018 Deadline
DESCRIPTION:The 32st International Conference on Information Networking
URL:http://www.wikicfp.com/cfp/servlet/event.showcfp?eventid=66773&copyow
 nerid=103951
UID:cfp688440-D@wikicfp.com
END:VEVENT
BEGIN:VEVENT
DTSTAMP:20260421T202618Z
DTSTART;VALUE=DATE:20171103
SUMMARY:ICOIN 2018 Notification Due
DESCRIPTION:The 32st International Conference on Information Networking
URL:http://www.wikicfp.com/cfp/servlet/event.showcfp?eventid=66773&copyow
 nerid=103951
UID:cfp688440-N@wikicfp.com
END:VEVENT
BEGIN:VEVENT
DTSTAMP:20260421T202618Z
DTSTART;VALUE=DATE:20171124
SUMMARY:ICOIN 2018 Final Version Due
DESCRIPTION:The 32st International Conference on Information Networking
URL:http://www.wikicfp.com/cfp/servlet/event.showcfp?eventid=66773&copyow
 nerid=103951
UID:cfp688440-N@wikicfp.com
END:VEVENT
END:VCALENDAR
