BEGIN:VCALENDAR
PRODID:-//WikiCFP//LizhenLiu 1.0//EN
VERSION:2.0
CALSCALE:GREGORIAN
BEGIN:VEVENT
DTSTAMP:20260425T143556Z
DTSTART;VALUE=DATE:20180202
DTEND;VALUE=DATE:20180208
SUMMARY:AAAI 2018
DESCRIPTION:The Thirty-Second AAAI Conference on Artificial Intelligence
URL:http://www.wikicfp.com/cfp/servlet/event.showcfp?eventid=63229&copyow
 nerid=103722
UID:cfp688690-E@wikicfp.com
END:VEVENT
BEGIN:VEVENT
DTSTAMP:20260425T143556Z
DTSTART;VALUE=DATE:20170908
SUMMARY:AAAI 2018 Abstract Due
DESCRIPTION:The Thirty-Second AAAI Conference on Artificial Intelligence
URL:http://www.wikicfp.com/cfp/servlet/event.showcfp?eventid=63229&copyow
 nerid=103722
UID:cfp688690-A@wikicfp.com
END:VEVENT
BEGIN:VEVENT
DTSTAMP:20260425T143556Z
DTSTART;VALUE=DATE:20170911
SUMMARY:AAAI 2018 Deadline
DESCRIPTION:The Thirty-Second AAAI Conference on Artificial Intelligence
URL:http://www.wikicfp.com/cfp/servlet/event.showcfp?eventid=63229&copyow
 nerid=103722
UID:cfp688690-D@wikicfp.com
END:VEVENT
BEGIN:VEVENT
DTSTAMP:20260425T143556Z
DTSTART;VALUE=DATE:20180710
DTEND;VALUE=DATE:20180716
SUMMARY:AAMAS 2018
DESCRIPTION:International Conference on Autonomous Agents and Multiagent 
 Systems (AAMAS-18)
URL:http://www.wikicfp.com/cfp/servlet/event.showcfp?eventid=66694&copyow
 nerid=103722
UID:cfp687197-E@wikicfp.com
END:VEVENT
BEGIN:VEVENT
DTSTAMP:20260425T143556Z
DTSTART;VALUE=DATE:20171110
SUMMARY:AAMAS 2018 Abstract Due
DESCRIPTION:International Conference on Autonomous Agents and Multiagent 
 Systems (AAMAS-18)
URL:http://www.wikicfp.com/cfp/servlet/event.showcfp?eventid=66694&copyow
 nerid=103722
UID:cfp687197-A@wikicfp.com
END:VEVENT
BEGIN:VEVENT
DTSTAMP:20260425T143556Z
DTSTART;VALUE=DATE:20171114
SUMMARY:AAMAS 2018 Deadline
DESCRIPTION:International Conference on Autonomous Agents and Multiagent 
 Systems (AAMAS-18)
URL:http://www.wikicfp.com/cfp/servlet/event.showcfp?eventid=66694&copyow
 nerid=103722
UID:cfp687197-D@wikicfp.com
END:VEVENT
BEGIN:VEVENT
DTSTAMP:20260425T143556Z
DTSTART;VALUE=DATE:20180124
SUMMARY:AAMAS 2018 Notification Due
DESCRIPTION:International Conference on Autonomous Agents and Multiagent 
 Systems (AAMAS-18)
URL:http://www.wikicfp.com/cfp/servlet/event.showcfp?eventid=66694&copyow
 nerid=103722
UID:cfp687197-N@wikicfp.com
END:VEVENT
BEGIN:VEVENT
DTSTAMP:20260425T143556Z
DTSTART;VALUE=DATE:20180713
DTEND;VALUE=DATE:20180720
SUMMARY:IJCAI 2018
DESCRIPTION:International Joint Conferences on Artificial Intelligence Or
 ganization
URL:http://www.wikicfp.com/cfp/servlet/event.showcfp?eventid=68009&copyow
 nerid=103722
UID:cfp687198-E@wikicfp.com
END:VEVENT
BEGIN:VEVENT
DTSTAMP:20260425T143556Z
DTSTART;VALUE=DATE:20180125
SUMMARY:IJCAI 2018 Abstract Due
DESCRIPTION:International Joint Conferences on Artificial Intelligence Or
 ganization
URL:http://www.wikicfp.com/cfp/servlet/event.showcfp?eventid=68009&copyow
 nerid=103722
UID:cfp687198-A@wikicfp.com
END:VEVENT
BEGIN:VEVENT
DTSTAMP:20260425T143556Z
DTSTART;VALUE=DATE:20180131
SUMMARY:IJCAI 2018 Deadline
DESCRIPTION:International Joint Conferences on Artificial Intelligence Or
 ganization
URL:http://www.wikicfp.com/cfp/servlet/event.showcfp?eventid=68009&copyow
 nerid=103722
UID:cfp687198-D@wikicfp.com
END:VEVENT
BEGIN:VEVENT
DTSTAMP:20260425T143556Z
DTSTART;VALUE=DATE:20180416
SUMMARY:IJCAI 2018 Notification Due
DESCRIPTION:International Joint Conferences on Artificial Intelligence Or
 ganization
URL:http://www.wikicfp.com/cfp/servlet/event.showcfp?eventid=68009&copyow
 nerid=103722
UID:cfp687198-N@wikicfp.com
END:VEVENT
BEGIN:VEVENT
DTSTAMP:20260425T143556Z
DTSTART;VALUE=DATE:20180713
DTEND;VALUE=DATE:20180720
SUMMARY:ECAI 2018
DESCRIPTION:European Conference on Artificial Intelligence
URL:http://www.wikicfp.com/cfp/servlet/event.showcfp?eventid=70805&copyow
 nerid=103722
UID:cfp706686-E@wikicfp.com
END:VEVENT
BEGIN:VEVENT
DTSTAMP:20260425T143556Z
DTSTART;VALUE=DATE:20180125
SUMMARY:ECAI 2018 Abstract Due
DESCRIPTION:European Conference on Artificial Intelligence
URL:http://www.wikicfp.com/cfp/servlet/event.showcfp?eventid=70805&copyow
 nerid=103722
UID:cfp706686-A@wikicfp.com
END:VEVENT
BEGIN:VEVENT
DTSTAMP:20260425T143556Z
DTSTART;VALUE=DATE:20180131
SUMMARY:ECAI 2018 Deadline
DESCRIPTION:European Conference on Artificial Intelligence
URL:http://www.wikicfp.com/cfp/servlet/event.showcfp?eventid=70805&copyow
 nerid=103722
UID:cfp706686-D@wikicfp.com
END:VEVENT
BEGIN:VEVENT
DTSTAMP:20260425T143556Z
DTSTART;VALUE=DATE:20180416
SUMMARY:ECAI 2018 Notification Due
DESCRIPTION:European Conference on Artificial Intelligence
URL:http://www.wikicfp.com/cfp/servlet/event.showcfp?eventid=70805&copyow
 nerid=103722
UID:cfp706686-N@wikicfp.com
END:VEVENT
BEGIN:VEVENT
DTSTAMP:20260425T143556Z
DTSTART;VALUE=DATE:20180813
DTEND;VALUE=DATE:20180815
SUMMARY:IEEE DISCOVER 2018
DESCRIPTION:2018 IEEE International Conference on Distributed Computing\,
  VLSI\, Electrical Circuits and Robotics
URL:http://www.wikicfp.com/cfp/servlet/event.showcfp?eventid=72424&copyow
 nerid=103722
UID:cfp722369-E@wikicfp.com
END:VEVENT
BEGIN:VEVENT
DTSTAMP:20260425T143556Z
DTSTART;VALUE=DATE:20180418
SUMMARY:IEEE DISCOVER 2018 Deadline
DESCRIPTION:2018 IEEE International Conference on Distributed Computing\,
  VLSI\, Electrical Circuits and Robotics
URL:http://www.wikicfp.com/cfp/servlet/event.showcfp?eventid=72424&copyow
 nerid=103722
UID:cfp722369-D@wikicfp.com
END:VEVENT
BEGIN:VEVENT
DTSTAMP:20260425T143556Z
DTSTART;VALUE=DATE:20180430
SUMMARY:IEEE DISCOVER 2018 Notification Due
DESCRIPTION:2018 IEEE International Conference on Distributed Computing\,
  VLSI\, Electrical Circuits and Robotics
URL:http://www.wikicfp.com/cfp/servlet/event.showcfp?eventid=72424&copyow
 nerid=103722
UID:cfp722369-N@wikicfp.com
END:VEVENT
BEGIN:VEVENT
DTSTAMP:20260425T143556Z
DTSTART;VALUE=DATE:20180520
SUMMARY:IEEE DISCOVER 2018 Final Version Due
DESCRIPTION:2018 IEEE International Conference on Distributed Computing\,
  VLSI\, Electrical Circuits and Robotics
URL:http://www.wikicfp.com/cfp/servlet/event.showcfp?eventid=72424&copyow
 nerid=103722
UID:cfp722369-N@wikicfp.com
END:VEVENT
END:VCALENDAR
