BEGIN:VCALENDAR
PRODID:-//WikiCFP//busibollo 1.0//EN
VERSION:2.0
CALSCALE:GREGORIAN
BEGIN:VEVENT
DTSTAMP:20260423T220433Z
DTSTART;VALUE=DATE:20180521
DTEND;VALUE=DATE:20180526
SUMMARY:ICRA 2018
DESCRIPTION:The international confernce on robotics & automation
URL:http://www.wikicfp.com/cfp/servlet/event.showcfp?eventid=62173&copyow
 nerid=103394
UID:cfp685660-E@wikicfp.com
END:VEVENT
BEGIN:VEVENT
DTSTAMP:20260423T220433Z
DTSTART;VALUE=DATE:20170915
SUMMARY:ICRA 2018 Deadline
DESCRIPTION:The international confernce on robotics & automation
URL:http://www.wikicfp.com/cfp/servlet/event.showcfp?eventid=62173&copyow
 nerid=103394
UID:cfp685660-D@wikicfp.com
END:VEVENT
BEGIN:VEVENT
DTSTAMP:20260423T220433Z
DTSTART;VALUE=DATE:20180820
DTEND;VALUE=DATE:20180825
SUMMARY:ICPR 2018
DESCRIPTION:24th International Conference on Pattern Recognition
URL:http://www.wikicfp.com/cfp/servlet/event.showcfp?eventid=62174&copyow
 nerid=103394
UID:cfp685669-E@wikicfp.com
END:VEVENT
BEGIN:VEVENT
DTSTAMP:20260423T220433Z
DTSTART;VALUE=DATE:20180105
SUMMARY:ICPR 2018 Deadline
DESCRIPTION:24th International Conference on Pattern Recognition
URL:http://www.wikicfp.com/cfp/servlet/event.showcfp?eventid=62174&copyow
 nerid=103394
UID:cfp685669-D@wikicfp.com
END:VEVENT
BEGIN:VEVENT
DTSTAMP:20260423T220433Z
DTSTART;VALUE=DATE:20180405
SUMMARY:ICPR 2018 Notification Due
DESCRIPTION:24th International Conference on Pattern Recognition
URL:http://www.wikicfp.com/cfp/servlet/event.showcfp?eventid=62174&copyow
 nerid=103394
UID:cfp685669-N@wikicfp.com
END:VEVENT
BEGIN:VEVENT
DTSTAMP:20260423T220433Z
DTSTART;VALUE=DATE:20180520
SUMMARY:ICPR 2018 Final Version Due
DESCRIPTION:24th International Conference on Pattern Recognition
URL:http://www.wikicfp.com/cfp/servlet/event.showcfp?eventid=62174&copyow
 nerid=103394
UID:cfp685669-N@wikicfp.com
END:VEVENT
BEGIN:VEVENT
DTSTAMP:20260423T220433Z
DTSTART;VALUE=DATE:20180714
DTEND;VALUE=DATE:20180720
SUMMARY:MLDM 2018
DESCRIPTION:14th International Conference on Machine Learning and Data Mi
 ning MLDM 2018
URL:http://www.wikicfp.com/cfp/servlet/event.showcfp?eventid=67175&copyow
 nerid=103394
UID:cfp685670-E@wikicfp.com
END:VEVENT
BEGIN:VEVENT
DTSTAMP:20260423T220433Z
DTSTART;VALUE=DATE:20180115
SUMMARY:MLDM 2018 Deadline
DESCRIPTION:14th International Conference on Machine Learning and Data Mi
 ning MLDM 2018
URL:http://www.wikicfp.com/cfp/servlet/event.showcfp?eventid=67175&copyow
 nerid=103394
UID:cfp685670-D@wikicfp.com
END:VEVENT
BEGIN:VEVENT
DTSTAMP:20260423T220433Z
DTSTART;VALUE=DATE:20180318
SUMMARY:MLDM 2018 Notification Due
DESCRIPTION:14th International Conference on Machine Learning and Data Mi
 ning MLDM 2018
URL:http://www.wikicfp.com/cfp/servlet/event.showcfp?eventid=67175&copyow
 nerid=103394
UID:cfp685670-N@wikicfp.com
END:VEVENT
BEGIN:VEVENT
DTSTAMP:20260423T220433Z
DTSTART;VALUE=DATE:20180405
SUMMARY:MLDM 2018 Final Version Due
DESCRIPTION:14th International Conference on Machine Learning and Data Mi
 ning MLDM 2018
URL:http://www.wikicfp.com/cfp/servlet/event.showcfp?eventid=67175&copyow
 nerid=103394
UID:cfp685670-N@wikicfp.com
END:VEVENT
BEGIN:VEVENT
DTSTAMP:20260423T220433Z
DTSTART;VALUE=DATE:20180420
DTEND;VALUE=DATE:20180424
SUMMARY:IEEE--ICCRE--Ei 2018
DESCRIPTION:2018 IEEE 3rd International Conference on Control and Robotic
 s Engineering (ICCRE 2018)--IEEE Xplore and Ei Compendex
URL:http://www.wikicfp.com/cfp/servlet/event.showcfp?eventid=66080&copyow
 nerid=103394
UID:cfp685662-E@wikicfp.com
END:VEVENT
BEGIN:VEVENT
DTSTAMP:20260423T220433Z
DTSTART;VALUE=DATE:20180215
SUMMARY:IEEE--ICCRE--Ei 2018 Deadline
DESCRIPTION:2018 IEEE 3rd International Conference on Control and Robotic
 s Engineering (ICCRE 2018)--IEEE Xplore and Ei Compendex
URL:http://www.wikicfp.com/cfp/servlet/event.showcfp?eventid=66080&copyow
 nerid=103394
UID:cfp685662-D@wikicfp.com
END:VEVENT
BEGIN:VEVENT
DTSTAMP:20260423T220433Z
DTSTART;VALUE=DATE:20181001
DTEND;VALUE=DATE:20181006
SUMMARY:IROS 2018
DESCRIPTION:Intelligent RObots and Systems
URL:http://www.wikicfp.com/cfp/servlet/event.showcfp?eventid=64400&copyow
 nerid=103394
UID:cfp685663-E@wikicfp.com
END:VEVENT
BEGIN:VEVENT
DTSTAMP:20260423T220433Z
DTSTART;VALUE=DATE:20180301
SUMMARY:IROS 2018 Deadline
DESCRIPTION:Intelligent RObots and Systems
URL:http://www.wikicfp.com/cfp/servlet/event.showcfp?eventid=64400&copyow
 nerid=103394
UID:cfp685663-D@wikicfp.com
END:VEVENT
BEGIN:VEVENT
DTSTAMP:20260423T220433Z
DTSTART;VALUE=DATE:20180629
SUMMARY:IROS 2018 Notification Due
DESCRIPTION:Intelligent RObots and Systems
URL:http://www.wikicfp.com/cfp/servlet/event.showcfp?eventid=64400&copyow
 nerid=103394
UID:cfp685663-N@wikicfp.com
END:VEVENT
BEGIN:VEVENT
DTSTAMP:20260423T220433Z
DTSTART;VALUE=DATE:20180729
SUMMARY:IROS 2018 Final Version Due
DESCRIPTION:Intelligent RObots and Systems
URL:http://www.wikicfp.com/cfp/servlet/event.showcfp?eventid=64400&copyow
 nerid=103394
UID:cfp685663-N@wikicfp.com
END:VEVENT
END:VCALENDAR
