BEGIN:VCALENDAR
PRODID:-//WikiCFP//fabian121 1.0//EN
VERSION:2.0
CALSCALE:GREGORIAN
BEGIN:VEVENT
DTSTAMP:20260420T174815Z
DTSTART;VALUE=DATE:20230716
DTEND;VALUE=DATE:20230722
SUMMARY:MLDM 2023
DESCRIPTION:19th International Conference on Machine Learning and Data Mi
 ning
URL:http://www.wikicfp.com/cfp/servlet/event.showcfp?eventid=163215&copyo
 wnerid=102526
UID:cfp945236-E@wikicfp.com
END:VEVENT
BEGIN:VEVENT
DTSTAMP:20260420T174815Z
DTSTART;VALUE=DATE:20230115
SUMMARY:MLDM 2023 Deadline
DESCRIPTION:19th International Conference on Machine Learning and Data Mi
 ning
URL:http://www.wikicfp.com/cfp/servlet/event.showcfp?eventid=163215&copyo
 wnerid=102526
UID:cfp945236-D@wikicfp.com
END:VEVENT
BEGIN:VEVENT
DTSTAMP:20260420T174815Z
DTSTART;VALUE=DATE:20230318
SUMMARY:MLDM 2023 Notification Due
DESCRIPTION:19th International Conference on Machine Learning and Data Mi
 ning
URL:http://www.wikicfp.com/cfp/servlet/event.showcfp?eventid=163215&copyo
 wnerid=102526
UID:cfp945236-N@wikicfp.com
END:VEVENT
BEGIN:VEVENT
DTSTAMP:20260420T174815Z
DTSTART;VALUE=DATE:20230405
SUMMARY:MLDM 2023 Final Version Due
DESCRIPTION:19th International Conference on Machine Learning and Data Mi
 ning
URL:http://www.wikicfp.com/cfp/servlet/event.showcfp?eventid=163215&copyo
 wnerid=102526
UID:cfp945236-N@wikicfp.com
END:VEVENT
BEGIN:VEVENT
DTSTAMP:20260420T174815Z
DTSTART;VALUE=DATE:20250226
DTEND;VALUE=DATE:20250301
SUMMARY:VISAPP 2025
DESCRIPTION:20th International Conference on Computer Vision Theory and A
 pplications
URL:http://www.wikicfp.com/cfp/servlet/event.showcfp?eventid=181133&copyo
 wnerid=102526
UID:cfp999429-E@wikicfp.com
END:VEVENT
BEGIN:VEVENT
DTSTAMP:20260420T174815Z
DTSTART;VALUE=DATE:20241216
SUMMARY:VISAPP 2025 Deadline
DESCRIPTION:20th International Conference on Computer Vision Theory and A
 pplications
URL:http://www.wikicfp.com/cfp/servlet/event.showcfp?eventid=181133&copyo
 wnerid=102526
UID:cfp999429-D@wikicfp.com
END:VEVENT
BEGIN:VEVENT
DTSTAMP:20260420T174815Z
DTSTART;VALUE=DATE:20241204
SUMMARY:VISAPP 2025 Notification Due
DESCRIPTION:20th International Conference on Computer Vision Theory and A
 pplications
URL:http://www.wikicfp.com/cfp/servlet/event.showcfp?eventid=181133&copyo
 wnerid=102526
UID:cfp999429-N@wikicfp.com
END:VEVENT
BEGIN:VEVENT
DTSTAMP:20260420T174815Z
DTSTART;VALUE=DATE:20241220
SUMMARY:VISAPP 2025 Final Version Due
DESCRIPTION:20th International Conference on Computer Vision Theory and A
 pplications
URL:http://www.wikicfp.com/cfp/servlet/event.showcfp?eventid=181133&copyo
 wnerid=102526
UID:cfp999429-N@wikicfp.com
END:VEVENT
BEGIN:VEVENT
DTSTAMP:20260420T174815Z
DTSTART;VALUE=DATE:20250706
DTEND;VALUE=DATE:20250711
SUMMARY:DIGITAL  2025
DESCRIPTION:Advances on Societal Digital Transformation
URL:http://www.wikicfp.com/cfp/servlet/event.showcfp?eventid=182395&copyo
 wnerid=102526
UID:cfp999428-E@wikicfp.com
END:VEVENT
BEGIN:VEVENT
DTSTAMP:20260420T174815Z
DTSTART;VALUE=DATE:20250414
SUMMARY:DIGITAL  2025 Deadline
DESCRIPTION:Advances on Societal Digital Transformation
URL:http://www.wikicfp.com/cfp/servlet/event.showcfp?eventid=182395&copyo
 wnerid=102526
UID:cfp999428-D@wikicfp.com
END:VEVENT
BEGIN:VEVENT
DTSTAMP:20260420T174815Z
DTSTART;VALUE=DATE:20250506
SUMMARY:DIGITAL  2025 Notification Due
DESCRIPTION:Advances on Societal Digital Transformation
URL:http://www.wikicfp.com/cfp/servlet/event.showcfp?eventid=182395&copyo
 wnerid=102526
UID:cfp999428-N@wikicfp.com
END:VEVENT
BEGIN:VEVENT
DTSTAMP:20260420T174815Z
DTSTART;VALUE=DATE:20250601
SUMMARY:DIGITAL  2025 Final Version Due
DESCRIPTION:Advances on Societal Digital Transformation
URL:http://www.wikicfp.com/cfp/servlet/event.showcfp?eventid=182395&copyo
 wnerid=102526
UID:cfp999428-N@wikicfp.com
END:VEVENT
END:VCALENDAR
