BEGIN:VCALENDAR
PRODID:-//WikiCFP//fauzanhj 1.0//EN
VERSION:2.0
CALSCALE:GREGORIAN
BEGIN:VEVENT
DTSTAMP:20260424T061655Z
DTSTART;VALUE=DATE:20171101
DTEND;VALUE=DATE:20171104
SUMMARY:ICREE- IEEE 2017
DESCRIPTION:2017 International Conference on Renewable Energy and Environ
 ment (ICREE 2017)--IEEE\, Ei Compendex and Scopus
URL:http://www.wikicfp.com/cfp/servlet/event.showcfp?eventid=60883&copyow
 nerid=102472
UID:cfp680713-E@wikicfp.com
END:VEVENT
BEGIN:VEVENT
DTSTAMP:20260424T061655Z
DTSTART;VALUE=DATE:20170915
SUMMARY:ICREE- IEEE 2017 Deadline
DESCRIPTION:2017 International Conference on Renewable Energy and Environ
 ment (ICREE 2017)--IEEE\, Ei Compendex and Scopus
URL:http://www.wikicfp.com/cfp/servlet/event.showcfp?eventid=60883&copyow
 nerid=102472
UID:cfp680713-D@wikicfp.com
END:VEVENT
BEGIN:VEVENT
DTSTAMP:20260424T061655Z
DTSTART;VALUE=DATE:20171202
DTEND;VALUE=DATE:20171205
SUMMARY:ICPSE - IEEE 2017
DESCRIPTION:2017 6th International Conference on Power Science and Engine
 ering (ICPSE 2017)----IEEE\, Ei Compendex and Scopus
URL:http://www.wikicfp.com/cfp/servlet/event.showcfp?eventid=60888&copyow
 nerid=102472
UID:cfp680714-E@wikicfp.com
END:VEVENT
BEGIN:VEVENT
DTSTAMP:20260424T061655Z
DTSTART;VALUE=DATE:20171015
SUMMARY:ICPSE - IEEE 2017 Deadline
DESCRIPTION:2017 6th International Conference on Power Science and Engine
 ering (ICPSE 2017)----IEEE\, Ei Compendex and Scopus
URL:http://www.wikicfp.com/cfp/servlet/event.showcfp?eventid=60888&copyow
 nerid=102472
UID:cfp680714-D@wikicfp.com
END:VEVENT
BEGIN:VEVENT
DTSTAMP:20260424T061655Z
DTSTART;VALUE=DATE:20180126
DTEND;VALUE=DATE:20180129
SUMMARY:ISRIS 2018 2018
DESCRIPTION:2018 International Symposium on Robotics and Intelligent Syst
 ems(ISRIS 2018)
URL:http://www.wikicfp.com/cfp/servlet/event.showcfp?eventid=59604&copyow
 nerid=102472
UID:cfp680712-E@wikicfp.com
END:VEVENT
BEGIN:VEVENT
DTSTAMP:20260424T061655Z
DTSTART;VALUE=DATE:20180105
SUMMARY:ISRIS 2018 2018 Deadline
DESCRIPTION:2018 International Symposium on Robotics and Intelligent Syst
 ems(ISRIS 2018)
URL:http://www.wikicfp.com/cfp/servlet/event.showcfp?eventid=59604&copyow
 nerid=102472
UID:cfp680712-D@wikicfp.com
END:VEVENT
BEGIN:VEVENT
DTSTAMP:20260424T061655Z
DTSTART;VALUE=DATE:20180105
SUMMARY:ISRIS 2018 2018 Final Version Due
DESCRIPTION:2018 International Symposium on Robotics and Intelligent Syst
 ems(ISRIS 2018)
URL:http://www.wikicfp.com/cfp/servlet/event.showcfp?eventid=59604&copyow
 nerid=102472
UID:cfp680712-N@wikicfp.com
END:VEVENT
END:VCALENDAR
