BEGIN:VCALENDAR
PRODID:-//WikiCFP//allanlee1 1.0//EN
VERSION:2.0
CALSCALE:GREGORIAN
BEGIN:VEVENT
DTSTAMP:20260423T051502Z
DTSTART;VALUE=DATE:20180723
DTEND;VALUE=DATE:20180728
SUMMARY:COMPSAC 2018
DESCRIPTION:Computer Software and Applications Conference
URL:http://www.wikicfp.com/cfp/servlet/event.showcfp?eventid=66748&copyow
 nerid=102164
UID:cfp679400-E@wikicfp.com
END:VEVENT
BEGIN:VEVENT
DTSTAMP:20260423T051502Z
DTSTART;VALUE=DATE:20180115
SUMMARY:COMPSAC 2018 Deadline
DESCRIPTION:Computer Software and Applications Conference
URL:http://www.wikicfp.com/cfp/servlet/event.showcfp?eventid=66748&copyow
 nerid=102164
UID:cfp679400-D@wikicfp.com
END:VEVENT
BEGIN:VEVENT
DTSTAMP:20260423T051502Z
DTSTART;VALUE=DATE:20180331
SUMMARY:COMPSAC 2018 Notification Due
DESCRIPTION:Computer Software and Applications Conference
URL:http://www.wikicfp.com/cfp/servlet/event.showcfp?eventid=66748&copyow
 nerid=102164
UID:cfp679400-N@wikicfp.com
END:VEVENT
BEGIN:VEVENT
DTSTAMP:20260423T051502Z
DTSTART;VALUE=DATE:20180515
SUMMARY:COMPSAC 2018 Final Version Due
DESCRIPTION:Computer Software and Applications Conference
URL:http://www.wikicfp.com/cfp/servlet/event.showcfp?eventid=66748&copyow
 nerid=102164
UID:cfp679400-N@wikicfp.com
END:VEVENT
END:VCALENDAR
