BEGIN:VCALENDAR
PRODID:-//WikiCFP//rllopes 1.0//EN
VERSION:2.0
CALSCALE:GREGORIAN
BEGIN:VEVENT
DTSTAMP:20260421T154628Z
DTSTART;VALUE=DATE:20180503
DTEND;VALUE=DATE:20180506
SUMMARY:DMG2 2018
DESCRIPTION:Workshop on Data Mining for Geophysics and Geology 
URL:http://www.wikicfp.com/cfp/servlet/event.showcfp?eventid=71171&copyow
 nerid=102125
UID:cfp702214-E@wikicfp.com
END:VEVENT
BEGIN:VEVENT
DTSTAMP:20260421T154628Z
DTSTART;VALUE=DATE:20180201
SUMMARY:DMG2 2018 Deadline
DESCRIPTION:Workshop on Data Mining for Geophysics and Geology 
URL:http://www.wikicfp.com/cfp/servlet/event.showcfp?eventid=71171&copyow
 nerid=102125
UID:cfp702214-D@wikicfp.com
END:VEVENT
BEGIN:VEVENT
DTSTAMP:20260421T154628Z
DTSTART;VALUE=DATE:20180301
SUMMARY:DMG2 2018 Notification Due
DESCRIPTION:Workshop on Data Mining for Geophysics and Geology 
URL:http://www.wikicfp.com/cfp/servlet/event.showcfp?eventid=71171&copyow
 nerid=102125
UID:cfp702214-N@wikicfp.com
END:VEVENT
BEGIN:VEVENT
DTSTAMP:20260421T154628Z
DTSTART;VALUE=DATE:20180401
SUMMARY:DMG2 2018 Final Version Due
DESCRIPTION:Workshop on Data Mining for Geophysics and Geology 
URL:http://www.wikicfp.com/cfp/servlet/event.showcfp?eventid=71171&copyow
 nerid=102125
UID:cfp702214-N@wikicfp.com
END:VEVENT
END:VCALENDAR
