BEGIN:VCALENDAR
PRODID:-//WikiCFP//ris3 1.0//EN
VERSION:2.0
CALSCALE:GREGORIAN
BEGIN:VEVENT
DTSTAMP:20260422T151737Z
DTSTART;VALUE=DATE:20180324
DTEND;VALUE=DATE:20180329
SUMMARY:ASPLOS 2018
DESCRIPTION:23rd International Conference on Architectural Support for  P
 rogramming Languages and Operating Systems
URL:http://www.wikicfp.com/cfp/servlet/event.showcfp?eventid=63230&copyow
 nerid=101586
UID:cfp677493-E@wikicfp.com
END:VEVENT
BEGIN:VEVENT
DTSTAMP:20260422T151737Z
DTSTART;VALUE=DATE:20170804
SUMMARY:ASPLOS 2018 Abstract Due
DESCRIPTION:23rd International Conference on Architectural Support for  P
 rogramming Languages and Operating Systems
URL:http://www.wikicfp.com/cfp/servlet/event.showcfp?eventid=63230&copyow
 nerid=101586
UID:cfp677493-A@wikicfp.com
END:VEVENT
BEGIN:VEVENT
DTSTAMP:20260422T151737Z
DTSTART;VALUE=DATE:20170811
SUMMARY:ASPLOS 2018 Deadline
DESCRIPTION:23rd International Conference on Architectural Support for  P
 rogramming Languages and Operating Systems
URL:http://www.wikicfp.com/cfp/servlet/event.showcfp?eventid=63230&copyow
 nerid=101586
UID:cfp677493-D@wikicfp.com
END:VEVENT
BEGIN:VEVENT
DTSTAMP:20260422T151737Z
DTSTART;VALUE=DATE:20171113
SUMMARY:ASPLOS 2018 Notification Due
DESCRIPTION:23rd International Conference on Architectural Support for  P
 rogramming Languages and Operating Systems
URL:http://www.wikicfp.com/cfp/servlet/event.showcfp?eventid=63230&copyow
 nerid=101586
UID:cfp677493-N@wikicfp.com
END:VEVENT
BEGIN:VEVENT
DTSTAMP:20260422T151737Z
DTSTART;VALUE=DATE:20180119
SUMMARY:ASPLOS 2018 Final Version Due
DESCRIPTION:23rd International Conference on Architectural Support for  P
 rogramming Languages and Operating Systems
URL:http://www.wikicfp.com/cfp/servlet/event.showcfp?eventid=63230&copyow
 nerid=101586
UID:cfp677493-N@wikicfp.com
END:VEVENT
END:VCALENDAR
