BEGIN:VCALENDAR
PRODID:-//WikiCFP//ROUWEN 1.0//EN
VERSION:2.0
CALSCALE:GREGORIAN
BEGIN:VEVENT
DTSTAMP:20260422T043715Z
DTSTART;VALUE=DATE:20170428
DTEND;VALUE=DATE:20170430
SUMMARY:ICT4AWE 2017
DESCRIPTION:3rd International Conference on Information and Communication
  Technologies for Ageing Well and e-Health 
URL:http://www.wikicfp.com/cfp/servlet/event.showcfp?eventid=56375&copyow
 nerid=100323
UID:cfp672425-E@wikicfp.com
END:VEVENT
BEGIN:VEVENT
DTSTAMP:20260422T043715Z
DTSTART;VALUE=DATE:20161128
SUMMARY:ICT4AWE 2017 Deadline
DESCRIPTION:3rd International Conference on Information and Communication
  Technologies for Ageing Well and e-Health 
URL:http://www.wikicfp.com/cfp/servlet/event.showcfp?eventid=56375&copyow
 nerid=100323
UID:cfp672425-D@wikicfp.com
END:VEVENT
BEGIN:VEVENT
DTSTAMP:20260422T043715Z
DTSTART;VALUE=DATE:20170130
SUMMARY:ICT4AWE 2017 Notification Due
DESCRIPTION:3rd International Conference on Information and Communication
  Technologies for Ageing Well and e-Health 
URL:http://www.wikicfp.com/cfp/servlet/event.showcfp?eventid=56375&copyow
 nerid=100323
UID:cfp672425-N@wikicfp.com
END:VEVENT
BEGIN:VEVENT
DTSTAMP:20260422T043715Z
DTSTART;VALUE=DATE:20170213
SUMMARY:ICT4AWE 2017 Final Version Due
DESCRIPTION:3rd International Conference on Information and Communication
  Technologies for Ageing Well and e-Health 
URL:http://www.wikicfp.com/cfp/servlet/event.showcfp?eventid=56375&copyow
 nerid=100323
UID:cfp672425-N@wikicfp.com
END:VEVENT
BEGIN:VEVENT
DTSTAMP:20260422T043715Z
DTSTART;VALUE=DATE:20170216
DTEND;VALUE=DATE:20170220
SUMMARY:BHI AAL IoT 2017
DESCRIPTION:BHI 2017 - Special Session - AAL on IoT solutions
URL:http://www.wikicfp.com/cfp/servlet/event.showcfp?eventid=58616&copyow
 nerid=100323
UID:cfp672428-E@wikicfp.com
END:VEVENT
BEGIN:VEVENT
DTSTAMP:20260422T043715Z
DTSTART;VALUE=DATE:20161129
SUMMARY:BHI AAL IoT 2017 Deadline
DESCRIPTION:BHI 2017 - Special Session - AAL on IoT solutions
URL:http://www.wikicfp.com/cfp/servlet/event.showcfp?eventid=58616&copyow
 nerid=100323
UID:cfp672428-D@wikicfp.com
END:VEVENT
BEGIN:VEVENT
DTSTAMP:20260422T043715Z
DTSTART;VALUE=DATE:20170105
SUMMARY:BHI AAL IoT 2017 Notification Due
DESCRIPTION:BHI 2017 - Special Session - AAL on IoT solutions
URL:http://www.wikicfp.com/cfp/servlet/event.showcfp?eventid=58616&copyow
 nerid=100323
UID:cfp672428-N@wikicfp.com
END:VEVENT
BEGIN:VEVENT
DTSTAMP:20260422T043715Z
DTSTART;VALUE=DATE:20170319
DTEND;VALUE=DATE:20170324
SUMMARY:eTELEMED 2017
DESCRIPTION:The Ninth International Conference on eHealth\, Telemedicine\
 , and Social Medicine
URL:http://www.wikicfp.com/cfp/servlet/event.showcfp?eventid=57830&copyow
 nerid=100323
UID:cfp672426-E@wikicfp.com
END:VEVENT
BEGIN:VEVENT
DTSTAMP:20260422T043715Z
DTSTART;VALUE=DATE:20161201
SUMMARY:eTELEMED 2017 Deadline
DESCRIPTION:The Ninth International Conference on eHealth\, Telemedicine\
 , and Social Medicine
URL:http://www.wikicfp.com/cfp/servlet/event.showcfp?eventid=57830&copyow
 nerid=100323
UID:cfp672426-D@wikicfp.com
END:VEVENT
BEGIN:VEVENT
DTSTAMP:20260422T043715Z
DTSTART;VALUE=DATE:20170110
SUMMARY:eTELEMED 2017 Notification Due
DESCRIPTION:The Ninth International Conference on eHealth\, Telemedicine\
 , and Social Medicine
URL:http://www.wikicfp.com/cfp/servlet/event.showcfp?eventid=57830&copyow
 nerid=100323
UID:cfp672426-N@wikicfp.com
END:VEVENT
BEGIN:VEVENT
DTSTAMP:20260422T043715Z
DTSTART;VALUE=DATE:20170205
SUMMARY:eTELEMED 2017 Final Version Due
DESCRIPTION:The Ninth International Conference on eHealth\, Telemedicine\
 , and Social Medicine
URL:http://www.wikicfp.com/cfp/servlet/event.showcfp?eventid=57830&copyow
 nerid=100323
UID:cfp672426-N@wikicfp.com
END:VEVENT
BEGIN:VEVENT
DTSTAMP:20260422T043715Z
DTSTART;VALUE=DATE:20170319
DTEND;VALUE=DATE:20170324
SUMMARY:HealTech 2017
DESCRIPTION:HealTech: Healthcare Technology Trends
URL:http://www.wikicfp.com/cfp/servlet/event.showcfp?eventid=60345&copyow
 nerid=100323
UID:cfp672430-E@wikicfp.com
END:VEVENT
BEGIN:VEVENT
DTSTAMP:20260422T043715Z
DTSTART;VALUE=DATE:20170130
SUMMARY:HealTech 2017 Abstract Due
DESCRIPTION:HealTech: Healthcare Technology Trends
URL:http://www.wikicfp.com/cfp/servlet/event.showcfp?eventid=60345&copyow
 nerid=100323
UID:cfp672430-A@wikicfp.com
END:VEVENT
BEGIN:VEVENT
DTSTAMP:20260422T043715Z
DTSTART;VALUE=DATE:20170202
SUMMARY:HealTech 2017 Deadline
DESCRIPTION:HealTech: Healthcare Technology Trends
URL:http://www.wikicfp.com/cfp/servlet/event.showcfp?eventid=60345&copyow
 nerid=100323
UID:cfp672430-D@wikicfp.com
END:VEVENT
BEGIN:VEVENT
DTSTAMP:20260422T043715Z
DTSTART;VALUE=DATE:20170210
SUMMARY:HealTech 2017 Notification Due
DESCRIPTION:HealTech: Healthcare Technology Trends
URL:http://www.wikicfp.com/cfp/servlet/event.showcfp?eventid=60345&copyow
 nerid=100323
UID:cfp672430-N@wikicfp.com
END:VEVENT
BEGIN:VEVENT
DTSTAMP:20260422T043715Z
DTSTART;VALUE=DATE:20170225
SUMMARY:HealTech 2017 Final Version Due
DESCRIPTION:HealTech: Healthcare Technology Trends
URL:http://www.wikicfp.com/cfp/servlet/event.showcfp?eventid=60345&copyow
 nerid=100323
UID:cfp672430-N@wikicfp.com
END:VEVENT
BEGIN:VEVENT
DTSTAMP:20260422T043715Z
DTSTART;VALUE=DATE:20170710
DTEND;VALUE=DATE:20170711
SUMMARY:MOBILEHEALTH 2017
DESCRIPTION:Seventh ACM International Workshop on Pervasive Wireless Heal
 thcare
URL:http://www.wikicfp.com/cfp/servlet/event.showcfp?eventid=61609&copyow
 nerid=100323
UID:cfp672431-E@wikicfp.com
END:VEVENT
BEGIN:VEVENT
DTSTAMP:20260422T043715Z
DTSTART;VALUE=DATE:20170228
SUMMARY:MOBILEHEALTH 2017 Deadline
DESCRIPTION:Seventh ACM International Workshop on Pervasive Wireless Heal
 thcare
URL:http://www.wikicfp.com/cfp/servlet/event.showcfp?eventid=61609&copyow
 nerid=100323
UID:cfp672431-D@wikicfp.com
END:VEVENT
BEGIN:VEVENT
DTSTAMP:20260422T043715Z
DTSTART;VALUE=DATE:20170331
SUMMARY:MOBILEHEALTH 2017 Notification Due
DESCRIPTION:Seventh ACM International Workshop on Pervasive Wireless Heal
 thcare
URL:http://www.wikicfp.com/cfp/servlet/event.showcfp?eventid=61609&copyow
 nerid=100323
UID:cfp672431-N@wikicfp.com
END:VEVENT
BEGIN:VEVENT
DTSTAMP:20260422T043715Z
DTSTART;VALUE=DATE:20170420
SUMMARY:MOBILEHEALTH 2017 Final Version Due
DESCRIPTION:Seventh ACM International Workshop on Pervasive Wireless Heal
 thcare
URL:http://www.wikicfp.com/cfp/servlet/event.showcfp?eventid=61609&copyow
 nerid=100323
UID:cfp672431-N@wikicfp.com
END:VEVENT
BEGIN:VEVENT
DTSTAMP:20260422T043715Z
DTSTART;VALUE=DATE:20170717
DTEND;VALUE=DATE:20170720
SUMMARY:CCH 2017
DESCRIPTION:Cloud Connected Health 
URL:http://www.wikicfp.com/cfp/servlet/event.showcfp?eventid=59658&copyow
 nerid=100323
UID:cfp672429-E@wikicfp.com
END:VEVENT
BEGIN:VEVENT
DTSTAMP:20260422T043715Z
DTSTART;VALUE=DATE:20170415
SUMMARY:CCH 2017 Deadline
DESCRIPTION:Cloud Connected Health 
URL:http://www.wikicfp.com/cfp/servlet/event.showcfp?eventid=59658&copyow
 nerid=100323
UID:cfp672429-D@wikicfp.com
END:VEVENT
BEGIN:VEVENT
DTSTAMP:20260422T043715Z
DTSTART;VALUE=DATE:20170430
SUMMARY:CCH 2017 Notification Due
DESCRIPTION:Cloud Connected Health 
URL:http://www.wikicfp.com/cfp/servlet/event.showcfp?eventid=59658&copyow
 nerid=100323
UID:cfp672429-N@wikicfp.com
END:VEVENT
BEGIN:VEVENT
DTSTAMP:20260422T043715Z
DTSTART;VALUE=DATE:20170510
SUMMARY:CCH 2017 Final Version Due
DESCRIPTION:Cloud Connected Health 
URL:http://www.wikicfp.com/cfp/servlet/event.showcfp?eventid=59658&copyow
 nerid=100323
UID:cfp672429-N@wikicfp.com
END:VEVENT
BEGIN:VEVENT
DTSTAMP:20260422T043715Z
DTSTART;VALUE=DATE:20170905
DTEND;VALUE=DATE:20170908
SUMMARY:AIM@EPIA 2017
DESCRIPTION:Artificial Intelligence in Medicine
URL:http://www.wikicfp.com/cfp/servlet/event.showcfp?eventid=58199&copyow
 nerid=100323
UID:cfp672427-E@wikicfp.com
END:VEVENT
BEGIN:VEVENT
DTSTAMP:20260422T043715Z
DTSTART;VALUE=DATE:20170501
SUMMARY:AIM@EPIA 2017 Deadline
DESCRIPTION:Artificial Intelligence in Medicine
URL:http://www.wikicfp.com/cfp/servlet/event.showcfp?eventid=58199&copyow
 nerid=100323
UID:cfp672427-D@wikicfp.com
END:VEVENT
BEGIN:VEVENT
DTSTAMP:20260422T043715Z
DTSTART;VALUE=DATE:20170531
SUMMARY:AIM@EPIA 2017 Notification Due
DESCRIPTION:Artificial Intelligence in Medicine
URL:http://www.wikicfp.com/cfp/servlet/event.showcfp?eventid=58199&copyow
 nerid=100323
UID:cfp672427-N@wikicfp.com
END:VEVENT
BEGIN:VEVENT
DTSTAMP:20260422T043715Z
DTSTART;VALUE=DATE:20170615
SUMMARY:AIM@EPIA 2017 Final Version Due
DESCRIPTION:Artificial Intelligence in Medicine
URL:http://www.wikicfp.com/cfp/servlet/event.showcfp?eventid=58199&copyow
 nerid=100323
UID:cfp672427-N@wikicfp.com
END:VEVENT
BEGIN:VEVENT
DTSTAMP:20260422T043715Z
DTSTART;VALUE=DATE:20171112
DTEND;VALUE=DATE:20171117
SUMMARY:GLOBAL HEALTH 2017
DESCRIPTION:The Sixth International Conference on Global Health Challenge
 s
URL:http://www.wikicfp.com/cfp/servlet/event.showcfp?eventid=62594&copyow
 nerid=100323
UID:cfp672432-E@wikicfp.com
END:VEVENT
BEGIN:VEVENT
DTSTAMP:20260422T043715Z
DTSTART;VALUE=DATE:20170717
SUMMARY:GLOBAL HEALTH 2017 Deadline
DESCRIPTION:The Sixth International Conference on Global Health Challenge
 s
URL:http://www.wikicfp.com/cfp/servlet/event.showcfp?eventid=62594&copyow
 nerid=100323
UID:cfp672432-D@wikicfp.com
END:VEVENT
BEGIN:VEVENT
DTSTAMP:20260422T043715Z
DTSTART;VALUE=DATE:20170825
SUMMARY:GLOBAL HEALTH 2017 Notification Due
DESCRIPTION:The Sixth International Conference on Global Health Challenge
 s
URL:http://www.wikicfp.com/cfp/servlet/event.showcfp?eventid=62594&copyow
 nerid=100323
UID:cfp672432-N@wikicfp.com
END:VEVENT
BEGIN:VEVENT
DTSTAMP:20260422T043715Z
DTSTART;VALUE=DATE:20170930
SUMMARY:GLOBAL HEALTH 2017 Final Version Due
DESCRIPTION:The Sixth International Conference on Global Health Challenge
 s
URL:http://www.wikicfp.com/cfp/servlet/event.showcfp?eventid=62594&copyow
 nerid=100323
UID:cfp672432-N@wikicfp.com
END:VEVENT
BEGIN:VEVENT
DTSTAMP:20260422T043715Z
DTSTART;VALUE=DATE:20180119
DTEND;VALUE=DATE:20180122
SUMMARY:HEALTHINF 2018
DESCRIPTION:11th International Conference on Health Informatics
URL:http://www.wikicfp.com/cfp/servlet/event.showcfp?eventid=63499&copyow
 nerid=100323
UID:cfp672433-E@wikicfp.com
END:VEVENT
BEGIN:VEVENT
DTSTAMP:20260422T043715Z
DTSTART;VALUE=DATE:20170731
SUMMARY:HEALTHINF 2018 Deadline
DESCRIPTION:11th International Conference on Health Informatics
URL:http://www.wikicfp.com/cfp/servlet/event.showcfp?eventid=63499&copyow
 nerid=100323
UID:cfp672433-D@wikicfp.com
END:VEVENT
BEGIN:VEVENT
DTSTAMP:20260422T043715Z
DTSTART;VALUE=DATE:20171016
SUMMARY:HEALTHINF 2018 Notification Due
DESCRIPTION:11th International Conference on Health Informatics
URL:http://www.wikicfp.com/cfp/servlet/event.showcfp?eventid=63499&copyow
 nerid=100323
UID:cfp672433-N@wikicfp.com
END:VEVENT
BEGIN:VEVENT
DTSTAMP:20260422T043715Z
DTSTART;VALUE=DATE:20171030
SUMMARY:HEALTHINF 2018 Final Version Due
DESCRIPTION:11th International Conference on Health Informatics
URL:http://www.wikicfp.com/cfp/servlet/event.showcfp?eventid=63499&copyow
 nerid=100323
UID:cfp672433-N@wikicfp.com
END:VEVENT
BEGIN:VEVENT
DTSTAMP:20260422T043715Z
DTSTART;VALUE=DATE:20171001
SUMMARY:data-driven 2017 Deadline
DESCRIPTION:Special Issue on âData-Driven User Behavioral Modeling: Fro
 m Real-World Behavior to Knowledge\, Algorithms\, and Systemsâ
URL:http://www.wikicfp.com/cfp/servlet/event.showcfp?eventid=64080&copyow
 nerid=100323
UID:cfp672434-D@wikicfp.com
END:VEVENT
BEGIN:VEVENT
DTSTAMP:20260422T043715Z
DTSTART;VALUE=DATE:20171215
SUMMARY:data-driven 2017 Notification Due
DESCRIPTION:Special Issue on âData-Driven User Behavioral Modeling: Fro
 m Real-World Behavior to Knowledge\, Algorithms\, and Systemsâ
URL:http://www.wikicfp.com/cfp/servlet/event.showcfp?eventid=64080&copyow
 nerid=100323
UID:cfp672434-N@wikicfp.com
END:VEVENT
BEGIN:VEVENT
DTSTAMP:20260422T043715Z
DTSTART;VALUE=DATE:20180415
SUMMARY:data-driven 2017 Final Version Due
DESCRIPTION:Special Issue on âData-Driven User Behavioral Modeling: Fro
 m Real-World Behavior to Knowledge\, Algorithms\, and Systemsâ
URL:http://www.wikicfp.com/cfp/servlet/event.showcfp?eventid=64080&copyow
 nerid=100323
UID:cfp672434-N@wikicfp.com
END:VEVENT
END:VCALENDAR
